{"text_format":"1","workbook":"xlsx","n_sheets":12,"sheets":["※資格認定講習会の流れ ","様式2","様式3","様式4","様式5","様式6-1","様式6-2","様式6-3","様式7","指導員報告書","e-learning","マスタ"],"not_rendered":{"charts":0,"images":6,"macros":1,"external_links":0,"defined_names":156,"comments":3,"pivot_tables":0},"unopened":[],"bounds":{"document_bytes":16777216,"sheet_cells":100000,"rows_first":2000,"rows_last":500,"rows_between":2000,"halvings":0,"cell_chars":16384,"cell_head_chars":4096},"cells_cut":0,"cells_raw":0,"read":"whole","date_system":"1900"}

{"sheet":"※資格認定講習会の流れ ","index":0,"n_rows":34,"n_cols":5,"rows_kept":34,"cut":false,"hidden":false,"merged":[[4,1,10,1],[12,1,15,1],[16,1,20,1],[21,1,28,1],[21,3,27,3]]}
[]
[null,"JLA ACADEMY資格認定講習会の流れ（主管：都道府県協会および第1種クラブの場合）",null,null,"2021.6.1"]
[null,"時期","内容","詳細","JLAへの提出書類・データ等"]
[null,"適宜","講習会実施計画","主管クラブで講習会の計画を立てる\n①講習種類　②日程　③会場　④定員　⑤責任者　⑥予算　等"]
[null,"30日以上前まで","LIFESAVERSへ登録\n・ページ作成⇒承認⇒掲載","都道府県協会主管講習会⇒ページ作成後、掲載\n第1種クラブ主管講習会⇒ページ作成後、都道府県協会承認。その後掲載。"]
[null,null,"受講者の募集開始","LIFESAVERS上で募集開始。"]
[null,null,"受講者の受付","誓約書は不要（LIFESAVERS上で確認しているため）。ただし、未成年者からは、保護者の同意をもらうこと。同意書は主管団体で保管し、必要に応じてJLAへ提出すること。","【書類】JLAアカデミー_未成年同意書（20200401）"]
[null,null,"受講者への連絡","変更や情報の追加が発生した場合は必要に応じて主管者から連絡する"]
[null,null,"e-learning対応講習の場合\n・教本の個別発送","講習会費の入金確認後、申込者の住所等をメールで送信≪academy@jla.gr.jp≫。フォーマットは主管団体の準備したもので対応可能。"]
[null,null,"e-learning対応講習の場合\n・学科動画URLの配信","講習会費の入金確認後、主管者から申込者にURLとパスワードをメールで送信する。"]
[null,null,"指導員、スタッフ選出","担当する指導員、スタッフを決め、打ち合わせをする。スタッフの選出にあたり、各自のライセンス、経験、体力、意識等の能力を充分鹹味すること。"]
[null,"開催の5日前まで\n（土日祝を含めない）","教材発注依頼の提出\n・受講人数\n・インストラクター\n・器材借用","・教材発注書をメールにてデータ送信≪academy@jla.gr.jp≫し、受講人数を報告することで 教材、検定書類、修了証の発注をする。\n※e-learning対応講習の場合は、教本以外の教材を発注すること。\n・決定しているインストラクター、アシスタントインストラクターを報告する。\n・必要に応じ、ダミーやAEDトレーナーの器材借用申請を行う。","【本データ】様式2、3\n（様式3は希望する場合のみ）"]
[null,"前日まで","事前打ち合わせ","指導員とスタッフで事前に打ち合わせ、リハーサルを行う事が望ましい。\n期間中の気象海象予報を確認しプログラムの２次案、３次案を想定。"]
[null,null,"事前準備","講習に必要な準備を行う\n①講習セット（教本、指導要領等）　\n②器具、機材、教材の確認と運搬\n③講習実施に必要な各資料\n④検定セット・・その他"]
[null,null,"教材、検定書類等受け取る","JLAから教材、検定書類、修了証が届く"]
[null,null,"関係各所に連絡","必要な関係各所（保安庁、警察、自治体、漁協、病院、浜関係者等）に\n簡略書式等にて事前に周知しておく事が望ましい。"]
[null,"講習中","開講式","①名簿・出欠表　②予定表（タイムテーブル）　③その他　→配布式次第（例）\n　　１.開講宣言（ＪＬＡアカデミー規程確認）\n　　２.主管者挨拶\n　　３.インストラクター・スタッフ紹介\n　　４.諸注意、事務連絡"]
[null,null,"実施上の注意","円滑で効果的な講習会を目指すも、全てに安全が優先することを忘れない。\n→法的責任問題回避のためにも下記に留意する。\n①1日の気象海象予測とプログラムの再確認（講習の種別による）。\n②事前の健康確認。\n③特に祝祭日の救急医療機関の確認。\n④その他の危機管理全般確認"]
[null,null,"検定","①検定　②アンケート　　→回収"]
[null,null,"閉講式","修了書授与、合否連絡等、事務連絡詳細　式次第（例）\n　　１.指導員総評\n　　２.修了書授与\n　　３.主管者挨拶\n　　４.事務連絡（合格していれば認定日に資格が付与される）"]
[null,null,"事務処理（終了直後）","出来れば以下を即行うことが望ましい\n①採点　②合否判定　③LIFESAVERSへの出欠設定\n④その他、各記録、報告書、反省会のとりまとめ\n⑤スタッフに対する精算（領収書作成）\n⑥地元関係各所への報告及び挨拶\n⑦JLA借用器材の返却"]
[null,"7日後まで","受講者名簿※1","講習会終了後必ず7日以内にアカデミー事務局へ郵送\n\n〒220-6218\n　横浜市西区みなとみらい2-3-5　クイーンズタワーC　18階\n　(株)オフサイド気付\n　JLAアカデミー事務局\n　TEL 045-661-0622\n※1についてはメールにてデータ送信とする","【データ】様式4"]
[null,null,"総合結果表※1",null,"【データ】様式5および6-1～3\n(様式6-1～3は該当講習会の部分のみ入力）"]
[null,null,"講習会実施報告書※1",null,"【データ】様式7"]
[null,null,"指導員報告書※1",null,"Googleフォームにて全指導員回答"]
[null,null,"未成年同意書のコピー",null,"【書類】JLAアカデミー_未成年同意書（20200401）"]
[null,null,"記入済試験用紙、解答",null,"【書類】記入済試験用紙、解答"]
[null,null,"記入済アンケート用紙",null,"【書類】記入済アンケート用紙"]
[null,null,"JLA借用器材の返却","決められた期日までにJLA借用器材の返却をする"]
[null,"データ受信後\n3営業日以内","資格認定（資格付与）","受信した総合結果表を基に、JLAアカデミー事務局が合否結果を入力。\n主管者側が設定した認定日（講習会最終日の翌日）に、受講者のマイページへ資格が付与される。"]
[]
[]
[]
["　\n　　　"]

{"sheet":"様式2","index":1,"n_rows":33,"n_cols":18,"rows_kept":33,"cut":false,"hidden":false,"merged":[[30,16,30,17],[27,1,30,4],[27,5,30,7],[27,8,30,9],[27,16,27,17],[27,13,27,15],[27,10,27,12],[30,13,30,15],[17,12,17,17],[26,10,26,12],[26,13,26,15],[36,1,37,2],[36,3,36,4],[37,3,37,4],[36,5,36,9],[37,5,37,9],[32,1,34,4],[32,5,32,17],[33,5,33,17],[34,5,34,17],[29,16,29,17],[29,10,29,12],[30,10,30,12],[29,13,29,15],[25,16,25,17],[25,5,26,7],[25,8,26,9],[26,16,26,17],[25,1,26,4],[25,10,25,12],[25,13,25,15],[20,1,20,4],[19,1,19,4],[21,1,23,3],[20,5,20,17],[28,10,28,12],[28,13,28,15],[28,16,28,17],[0,2,0,8],[10,1,10,17],[6,8,6,11],[6,13,6,14],[6,16,6,17],[4,8,4,17],[9,8,9,11],[9,12,9,17],[2,1,2,17],[5,8,5,17],[7,8,7,17],[8,8,8,11],[8,12,8,17],[6,1,6,6],[7,1,8,6],[3,1,4,6],[21,4,22,4],[18,5,18,17],[21,13,21,17],[19,5,19,17],[18,1,18,4],[13,1,13,4],[13,6,13,11],[13,13,13,17],[9,1,9,6],[17,1,17,4],[11,1,11,4],[11,5,11,17],[15,4,15,5],[23,5,23,8],[22,5,22,17],[21,11,21,12],[23,9,23,10],[21,9,21,10],[21,6,21,7],[15,1,16,3],[14,1,14,4],[14,5,14,17],[12,1,12,4],[12,6,12,11],[12,13,12,17],[16,4,16,5],[15,13,16,14],[15,15,16,16],[15,17,16,17]]}
[null,"様式2","※黄色で示している部分を入力して下さい",null,null,null,null,null,null,null,"申請日","西暦",null,"年",null,"月",null,"日"]
[]
[null," JLA　ACADEMY 資格認定講習会　教材発注依頼書"]
[]
[null,null,null,null,null,null,null,null,"申請者氏名　"]
[]
[null,"LIFESAVERS講習会 ID",null,null,null,null,null,null,"住所　",null,null,null,"〒",null,null,"-"]
[]
[null,null,null,null,null,null,null,null,"電話番号　",null,null,null,"Eメール　"]
[null,"↑必ず、ご記入ください"]
[null,"下記の通り、JLA ACADEMYの教材発注を依頼いたします。"]
[null,"講習会名",null,null,null,"選択してください"]
[null,"講習会区分",null,null,null,null,"e-learning 対応講習会",null,null,null,null,null,null,"通常講習会"]
[null,"e-learning対応の場合\nどちらかを選択してください",null,null,null,null,"教本は、受講者へ個別発送",null,null,null,null,null,null,"教材と一緒に一括発送"]
[null,"主管\n団体（者）名"]
[null,"開催日程",null,null,"開始日",null,"西暦",null,"年",null,"月",null,"日","合計日数",null,null,null,"日"]
[null,null,null,null,"検定日",null,"西暦",null,"年",null,"月",null,"日"]
[null,"開催時間",null,null,null,null,"：",null,"～",null,"：",null,"※複数日ある場合、初日の時間のみ入力"]
[null,"インストラクター"]
[null,"アシスタントインストラクター"]
[null,"開催責任者氏名"]
[null,"教材発送住所",null,null,"住所","〒",null,null,"-",null,null,"電話番号"]
[]
[null,null,null,null,"宛名",null,null,null,null,"必着希望日",null,"西暦",null,"年",null,"月",null,"日"]
[]
[null,"受講人数",null,null,null,null,null,null,"名",null,"新規受講人数",null,null,null,null,null,"名"]
[null,null,null,null,null,null,null,null,null,null,"更新受講人数",null,null,null,null,null,"名"]
[null,"教材の発送数量\n（予備を含めた合計）",null,null,null,null,null,null,"名分",null,"ウォーター\nセーフティー教本",null,null,null,null,null,"冊"]
[null,null,null,null,null,null,null,null,null,null,"心肺蘇生教本",null,null,null,null,null,"冊"]
[null,null,null,null,null,null,null,null,null,null,"サーフライフ\nセービング教本",null,null,null,null,null,"冊"]
[null,null,null,null,null,null,null,null,null,null,"プールライフ\nガーディング教本",null,null,null,null,null,"冊"]
[]
[null,"備考"]

{"sheet":"様式3","index":2,"n_rows":27,"n_cols":18,"rows_kept":27,"cut":false,"hidden":false,"merged":[[34,1,35,2],[34,3,34,4],[34,5,34,9],[35,3,35,4],[35,5,35,9],[31,10,31,11],[31,12,31,13],[31,14,31,15],[31,16,31,17],[9,1,14,2],[11,6,11,17],[10,6,10,17],[13,6,13,17],[23,1,23,2],[20,7,20,9],[20,10,20,17],[21,7,21,9],[21,10,21,17],[22,4,22,5],[12,13,12,17],[12,10,12,11],[18,7,18,9],[18,10,18,17],[30,14,30,15],[30,16,30,17],[23,12,23,13],[23,14,23,17],[19,7,19,9],[19,10,19,17],[26,1,28,2],[26,3,26,17],[27,3,27,17],[28,3,28,17],[16,3,16,6],[17,3,17,6],[18,3,18,6],[19,3,19,6],[16,1,21,2],[20,3,20,6],[22,1,22,2],[21,3,21,6],[23,4,23,5],[24,1,25,2],[24,3,24,17],[25,3,25,17],[0,2,0,8],[2,1,3,6],[5,1,5,17],[7,1,7,17],[8,1,8,17],[9,3,9,5],[9,6,9,17],[30,8,31,9],[30,10,30,11],[30,12,30,13],[14,9,14,10],[12,7,12,8],[14,6,14,8],[16,7,16,9],[10,3,10,5],[16,10,16,17],[17,7,17,9],[17,10,17,17],[11,3,11,5],[12,3,14,4],[12,5,13,5]]}
[null,"様式3","※黄色で示している部分を入力して下さい",null,null,null,null,null,null,null,"申請日","西暦",{"$f":"様式2!M1","v":0},"年",{"$f":"様式2!O1","v":0},"月",{"$f":"様式2!Q1","v":0},"日"]
[]
[null,"　\n　日本ライフセービング協会  御中"]
[]
[]
[null," JLA　ACADEMY 資格認定講習会　器材借用願"]
[]
[null,"下記のとおり、協会備品の借用をお願いいたします。\n借用物の管理は責任をもって行い、万が一紛失や破損をした際は弁償いたします。"]
[null,"※1、※2　「教材発注依頼書」の入力データが反映されています。 変更箇所がある場合は上書きしてください。"]
[null,"借用者情報",null,"講習会名",null,null,{"$f":"様式2!F12","v":"選択してください"}]
[null,null,null,"主管\n団体（者）名",null,null,{"$f":"様式2!F15","v":0}]
[null,null,null,"担当者　※1",null,null,{"$f":"様式2!I6","v":0}]
[null,null,null,"発送先\n※2",null,"住所","〒",{"$f":"様式2!G22","v":0},null,"-",{"$f":"様式2!J22","v":0},null,"TEL",{"$f":"様式2!N22","v":0}]
[null,null,null,null,null,null,{"$f":"様式2!F23","v":0}]
[null,null,null,null,null,"宛名",{"$f":"様式2!F24","v":0},null,null,"必着希望日",null,"西暦",{"$f":"様式2!M24","v":0},"年",{"$f":"様式2!O24","v":0},"月",{"$f":"様式2!Q24","v":0},"日"]
[]
[null,"借用品目",null,"品名",null,null,null,"数量",null,null,"備考"]
[]
[]
[]
[]
[]
[null,"借用期間",null,"西暦",null,null,"年",null,"月",null,"日",null,"～",null,"月",null,"日"]
[null,"返却予定日",null,"西暦",null,null,"年",null,"月",null,"日",null,"使用場所"]
[null,"使用目的"]
[]
[null,"備考"]

{"sheet":"様式4","index":3,"n_rows":157,"n_cols":14,"rows_kept":157,"cut":false,"hidden":false,"merged":[[0,2,0,4],[3,16,4,20],[5,11,5,12],[6,11,6,12],[7,11,7,12],[8,11,8,12],[9,11,9,12],[10,11,10,12],[1,1,1,13],[3,4,3,5],[2,4,2,5],[2,1,3,3],[2,6,2,8],[3,6,3,8],[2,9,3,10],[2,11,2,13],[23,11,23,12],[24,11,24,12],[25,11,25,12],[26,11,26,12],[27,11,27,12],[18,11,18,12],[19,11,19,12],[20,11,20,12],[21,11,21,12],[22,11,22,12],[11,11,11,12],[12,11,12,12],[13,11,13,12],[14,11,14,12],[15,11,15,12],[16,11,16,12],[17,11,17,12],[5,6,5,10],[3,11,3,13],[28,11,28,12],[29,11,29,12],[30,11,30,12],[31,11,31,12],[32,11,32,12],[43,11,43,12],[44,11,44,12],[45,11,45,12],[46,11,46,12],[33,11,33,12],[34,11,34,12],[35,11,35,12],[36,11,36,12],[37,11,37,12],[47,11,47,12],[38,11,38,12],[39,11,39,12],[40,11,40,12],[41,11,41,12],[42,11,42,12],[53,11,53,12],[54,11,54,12],[55,11,55,12],[56,11,56,12],[57,11,57,12],[48,11,48,12],[49,11,49,12],[50,11,50,12],[51,11,51,12],[52,11,52,12],[63,11,63,12],[64,11,64,12],[65,11,65,12],[66,11,66,12],[67,11,67,12],[58,11,58,12],[59,11,59,12],[60,11,60,12],[61,11,61,12],[62,11,62,12],[73,11,73,12],[74,11,74,12],[75,11,75,12],[76,11,76,12],[77,11,77,12],[68,11,68,12],[69,11,69,12],[70,11,70,12],[71,11,71,12],[72,11,72,12],[83,11,83,12],[84,11,84,12],[85,11,85,12],[86,11,86,12],[87,11,87,12],[78,11,78,12],[79,11,79,12],[80,11,80,12],[81,11,81,12],[82,11,82,12],[93,11,93,12],[94,11,94,12],[95,11,95,12],[96,11,96,12],[97,11,97,12],[88,11,88,12],[89,11,89,12],[90,11,90,12],[91,11,91,12],[92,11,92,12],[103,11,103,12],[104,11,104,12],[105,11,105,12],[106,11,106,12],[107,11,107,12],[98,11,98,12],[99,11,99,12],[100,11,100,12],[101,11,101,12],[102,11,102,12],[113,11,113,12],[114,11,114,12],[115,11,115,12],[116,11,116,12],[117,11,117,12],[108,11,108,12],[109,11,109,12],[110,11,110,12],[111,11,111,12],[112,11,112,12],[123,11,123,12],[124,11,124,12],[125,11,125,12],[126,11,126,12],[127,11,127,12],[118,11,118,12],[119,11,119,12],[120,11,120,12],[121,11,121,12],[122,11,122,12],[133,11,133,12],[134,11,134,12],[135,11,135,12],[136,11,136,12],[137,11,137,12],[128,11,128,12],[129,11,129,12],[130,11,130,12],[131,11,131,12],[132,11,132,12],[143,11,143,12],[144,11,144,12],[145,11,145,12],[146,11,146,12],[147,11,147,12],[138,11,138,12],[139,11,139,12],[140,11,140,12],[141,11,141,12],[142,11,142,12],[153,11,153,12],[154,11,154,12],[155,11,155,12],[156,11,156,12],[148,11,148,12],[149,11,149,12],[150,11,150,12],[151,11,151,12],[152,11,152,12]]}
[null,"様式4","※黄色で示している部分を入力して下さい"]
[null,"　JLA　ACADEMY 資格認定講習会　受講者名簿"]
[null,{"$f":"様式2!F12","v":"選択してください"},null,null,"開始日",null,{"$f":"様式2!H16&様式2!I16&様式2!J16&様式2!K16&様式2!L16&様式2!M16","v":"年月日"},null,null,"指導員名",null,{"$f":"様式2!F19","v":0}]
[null,null,null,null,"検定日",null,{"$f":"様式2!H17&様式2!I17&様式2!J17&様式2!K17&様式2!L17&様式2!M17","v":"年月日"},null,null,null,null,{"$f":"様式2!F20","v":0}]
[]
[null,"受検番号","申込番号","氏　名","フリガナ","性別","出欠\n（下段のオレンジセルの欄に開催日を入力してください）",null,null,null,null,"所属クラブ\n（JLA公認クラブに限る）",null,"職業"]
[null,"例000",null,"協会　波子","キョウカイ　ナミコ","女",null,null,null,null,null,"●●ライフセービングクラブ",null,"会社員"]
[null,"001"]
[null,"002"]
[null,"003"]
[null,"004"]
[null,"005"]
[null,"006"]
[null,"007"]
[null,"008"]
[null,"009"]
[null,"010"]
[null,"011"]
[null,"012"]
[null,"013"]
[null,"014"]
[null,"015"]
[null,"016"]
[null,"017"]
[null,"018"]
[null,"019"]
[null,"020"]
[null,"021"]
[null,"022"]
[null,"023"]
[null,"024"]
[null,"025"]
[null,"026"]
[null,"027"]
[null,"028"]
[null,"029"]
[null,"030"]
[null,"031"]
[null,"032"]
[null,"033"]
[null,"034"]
[null,"035"]
[null,"036"]
[null,"037"]
[null,"038"]
[null,"039"]
[null,"040"]
[null,"041"]
[null,"042"]
[null,"043"]
[null,"044"]
[null,"045"]
[null,"046"]
[null,"047"]
[null,"048"]
[null,"049"]
[null,"050"]
[null,"051"]
[null,"052"]
[null,"053"]
[null,"054"]
[null,"055"]
[null,"056"]
[null,"057"]
[null,"058"]
[null,"059"]
[null,"060"]
[null,"061"]
[null,"062"]
[null,"063"]
[null,"064"]
[null,"065"]
[null,"066"]
[null,"067"]
[null,"068"]
[null,"069"]
[null,"070"]
[null,"071"]
[null,"072"]
[null,"073"]
[null,"074"]
[null,"075"]
[null,"076"]
[null,"077"]
[null,"078"]
[null,"079"]
[null,"080"]
[null,"081"]
[null,"082"]
[null,"083"]
[null,"084"]
[null,"085"]
[null,"086"]
[null,"087"]
[null,"088"]
[null,"089"]
[null,"090"]
[null,"091"]
[null,"092"]
[null,"093"]
[null,"094"]
[null,"095"]
[null,"096"]
[null,"097"]
[null,"098"]
[null,"099"]
[null,"100"]
[null,"101"]
[null,"102"]
[null,"103"]
[null,"104"]
[null,"105"]
[null,"106"]
[null,"107"]
[null,"108"]
[null,"109"]
[null,"110"]
[null,"111"]
[null,"112"]
[null,"113"]
[null,"114"]
[null,"115"]
[null,"116"]
[null,"117"]
[null,"118"]
[null,"119"]
[null,"120"]
[null,"121"]
[null,"122"]
[null,"123"]
[null,"124"]
[null,"125"]
[null,"126"]
[null,"127"]
[null,"128"]
[null,"129"]
[null,"130"]
[null,"131"]
[null,"132"]
[null,"133"]
[null,"134"]
[null,"135"]
[null,"136"]
[null,"137"]
[null,"138"]
[null,"139"]
[null,"140"]
[null,"141"]
[null,"142"]
[null,"143"]
[null,"144"]
[null,"145"]
[null,"146"]
[null,"147"]
[null,"148"]
[null,"149"]
[null,"150"]

{"sheet":"様式5","index":4,"n_rows":160,"n_cols":16,"rows_kept":160,"cut":false,"hidden":false,"merged":[[6,1,8,1],[6,2,8,2],[0,3,0,6],[1,1,1,15],[2,1,2,5],[2,10,2,11],[2,12,2,13],[2,14,2,15],[3,1,4,5],[3,10,4,11],[3,12,4,13],[3,14,4,15],[6,3,8,3],[6,4,8,4],[6,5,8,9],[2,6,2,9],[3,6,4,9],[15,11,15,13],[15,14,16,14],[15,15,16,15],[16,11,16,13],[17,11,17,13],[17,14,18,15],[18,11,18,13],[13,11,13,13],[13,14,14,15],[14,11,14,13],[11,11,11,13],[11,14,12,14],[11,15,12,15],[12,11,12,13],[6,10,8,10],[6,11,8,13],[6,14,8,15],[9,11,9,13],[9,14,10,15],[10,11,10,13],[23,11,23,13],[23,14,24,14],[23,15,24,15],[24,11,24,13],[25,11,25,13],[26,11,26,13],[19,11,19,13],[19,14,20,14],[19,15,20,15],[20,11,20,13],[21,11,21,13],[21,14,22,15],[22,11,22,13],[33,11,33,13],[34,11,34,13],[35,11,35,13],[36,11,36,13],[37,11,37,13],[38,11,38,13],[27,11,27,13],[28,11,28,13],[29,11,29,13],[30,11,30,13],[31,11,31,13],[32,11,32,13],[45,11,45,13],[46,11,46,13],[47,11,47,13],[48,11,48,13],[49,11,49,13],[50,11,50,13],[39,11,39,13],[40,11,40,13],[41,11,41,13],[42,11,42,13],[43,11,43,13],[44,11,44,13],[57,11,57,13],[58,11,58,13],[59,11,59,13],[60,11,60,13],[61,11,61,13],[62,11,62,13],[51,11,51,13],[52,11,52,13],[53,11,53,13],[54,11,54,13],[55,11,55,13],[56,11,56,13],[69,11,69,13],[70,11,70,13],[71,11,71,13],[72,11,72,13],[73,11,73,13],[74,11,74,13],[63,11,63,13],[64,11,64,13],[65,11,65,13],[66,11,66,13],[67,11,67,13],[68,11,68,13],[81,11,81,13],[82,11,82,13],[83,11,83,13],[84,11,84,13],[85,11,85,13],[86,11,86,13],[75,11,75,13],[76,11,76,13],[77,11,77,13],[78,11,78,13],[79,11,79,13],[80,11,80,13],[93,11,93,13],[94,11,94,13],[95,11,95,13],[96,11,96,13],[97,11,97,13],[98,11,98,13],[87,11,87,13],[88,11,88,13],[89,11,89,13],[90,11,90,13],[91,11,91,13],[92,11,92,13],[105,11,105,13],[106,11,106,13],[107,11,107,13],[108,11,108,13],[109,11,109,13],[110,11,110,13],[99,11,99,13],[100,11,100,13],[101,11,101,13],[102,11,102,13],[103,11,103,13],[104,11,104,13],[117,11,117,13],[118,11,118,13],[119,11,119,13],[120,11,120,13],[121,11,121,13],[122,11,122,13],[111,11,111,13],[112,11,112,13],[113,11,113,13],[114,11,114,13],[115,11,115,13],[116,11,116,13],[129,11,129,13],[130,11,130,13],[131,11,131,13],[132,11,132,13],[133,11,133,13],[134,11,134,13],[123,11,123,13],[124,11,124,13],[125,11,125,13],[126,11,126,13],[127,11,127,13],[128,11,128,13],[141,11,141,13],[142,11,142,13],[143,11,143,13],[144,11,144,13],[145,11,145,13],[146,11,146,13],[135,11,135,13],[136,11,136,13],[137,11,137,13],[138,11,138,13],[139,11,139,13],[140,11,140,13],[159,11,159,13],[153,11,153,13],[154,11,154,13],[155,11,155,13],[156,11,156,13],[157,11,157,13],[158,11,158,13],[147,11,147,13],[148,11,148,13],[149,11,149,13],[150,11,150,13],[151,11,151,13],[152,11,152,13]]}
[null,"様式5",null,"※黄色で示している部分を入力して下さい"]
[null,"JLA　ACADEMY 資格認定講習会　総合結果表"]
[null,"講習会",null,null,null,null,"主管",null,null,null,"会場",null,"検定日",null,"検定責任者"]
[null,{"$f":"様式2!F12","v":"選択してください"},null,null,null,null,{"$f":"様式2!F15","v":0},null,null,null,null,null,{"$f":"様式2!H17&様式2!I17&様式2!J17&様式2!K17&様式2!L17&様式2!M17","v":"年月日"}]
[]
[]
[null,"受験番号","申込番号","氏　名","フリガナ","出　欠",null,null,null,null,"受講者区分\n※BLS講習会及び\n更新講習会の場合は必ず選択してください","備考",null,null,"教本購入"]
[]
[]
[null,"例000",null,"協会　波子","キョウカイ　ナミコ",{"$f":"IF(様式4!G7=\"\",\"\",様式4!G7)","v":""},{"$f":"IF(様式4!H7=\"\",\"\",様式4!H7)","v":""},{"$f":"IF(様式4!I7=\"\",\"\",様式4!I7)","v":""},{"$f":"IF(様式4!J7=\"\",\"\",様式4!J7)","v":""},{"$f":"IF(様式4!K7=\"\",\"\",様式4!K7)","v":""},"選択してください",null,null,null,"ウォーターセーフティ教本\n（価格：770円）"]
[null,"001",{"$f":"様式4!C8","v":0},{"$f":"様式4!D8","v":0},{"$f":"様式4!E8","v":0},{"$f":"様式4!G8","v":0},{"$f":"様式4!H8","v":0},{"$f":"様式4!I8","v":0},{"$f":"様式4!J8","v":0},{"$f":"様式4!K8","v":0}]
[null,"002",{"$f":"様式4!C9","v":0},{"$f":"様式4!D9","v":0},{"$f":"様式4!E9","v":0},{"$f":"様式4!G9","v":0},{"$f":"様式4!H9","v":0},{"$f":"様式4!I9","v":0},{"$f":"様式4!J9","v":0},{"$f":"様式4!K9","v":0},null,null,null,null,null,"冊"]
[null,"003",{"$f":"様式4!C10","v":0},{"$f":"様式4!D10","v":0},{"$f":"様式4!E10","v":0},{"$f":"様式4!G10","v":0},{"$f":"様式4!H10","v":0},{"$f":"様式4!I10","v":0},{"$f":"様式4!J10","v":0},{"$f":"様式4!K10","v":0}]
[null,"004",{"$f":"様式4!C11","v":0},{"$f":"様式4!D11","v":0},{"$f":"様式4!E11","v":0},{"$f":"様式4!G11","v":0},{"$f":"様式4!H11","v":0},{"$f":"様式4!I11","v":0},{"$f":"様式4!J11","v":0},{"$f":"様式4!K11","v":0},null,null,null,null,"心肺蘇生法教本\n（価格：770円）"]
[null,"005",{"$f":"様式4!C12","v":0},{"$f":"様式4!D12","v":0},{"$f":"様式4!E12","v":0},{"$f":"様式4!G12","v":0},{"$f":"様式4!H12","v":0},{"$f":"様式4!I12","v":0},{"$f":"様式4!J12","v":0},{"$f":"様式4!K12","v":0}]
[null,"006",{"$f":"様式4!C13","v":0},{"$f":"様式4!D13","v":0},{"$f":"様式4!E13","v":0},{"$f":"様式4!G13","v":0},{"$f":"様式4!H13","v":0},{"$f":"様式4!I13","v":0},{"$f":"様式4!J13","v":0},{"$f":"様式4!K13","v":0},null,null,null,null,null,"冊"]
[null,"007",{"$f":"様式4!C14","v":0},{"$f":"様式4!D14","v":0},{"$f":"様式4!E14","v":0},{"$f":"様式4!G14","v":0},{"$f":"様式4!H14","v":0},{"$f":"様式4!I14","v":0},{"$f":"様式4!J14","v":0},{"$f":"様式4!K14","v":0}]
[null,"008",{"$f":"様式4!C15","v":0},{"$f":"様式4!D15","v":0},{"$f":"様式4!E15","v":0},{"$f":"様式4!G15","v":0},{"$f":"様式4!H15","v":0},{"$f":"様式4!I15","v":0},{"$f":"様式4!J15","v":0},{"$f":"様式4!K15","v":0},null,null,null,null,"サーフライフセービング教本\n（価格：3,080円）"]
[null,"009",{"$f":"様式4!C16","v":0},{"$f":"様式4!D16","v":0},{"$f":"様式4!E16","v":0},{"$f":"様式4!G16","v":0},{"$f":"様式4!H16","v":0},{"$f":"様式4!I16","v":0},{"$f":"様式4!J16","v":0},{"$f":"様式4!K16","v":0}]
[null,"010",{"$f":"様式4!C17","v":0},{"$f":"様式4!D17","v":0},{"$f":"様式4!E17","v":0},{"$f":"様式4!G17","v":0},{"$f":"様式4!H17","v":0},{"$f":"様式4!I17","v":0},{"$f":"様式4!J17","v":0},{"$f":"様式4!K17","v":0},null,null,null,null,null,"冊"]
[null,"011",{"$f":"様式4!C18","v":0},{"$f":"様式4!D18","v":0},{"$f":"様式4!E18","v":0},{"$f":"様式4!G18","v":0},{"$f":"様式4!H18","v":0},{"$f":"様式4!I18","v":0},{"$f":"様式4!J18","v":0},{"$f":"様式4!K18","v":0}]
[null,"012",{"$f":"様式4!C19","v":0},{"$f":"様式4!D19","v":0},{"$f":"様式4!E19","v":0},{"$f":"様式4!G19","v":0},{"$f":"様式4!H19","v":0},{"$f":"様式4!I19","v":0},{"$f":"様式4!J19","v":0},{"$f":"様式4!K19","v":0},null,null,null,null,"プールライフガーディング教本\n（価格：2,860円）"]
[null,"013",{"$f":"様式4!C20","v":0},{"$f":"様式4!D20","v":0},{"$f":"様式4!E20","v":0},{"$f":"様式4!G20","v":0},{"$f":"様式4!H20","v":0},{"$f":"様式4!I20","v":0},{"$f":"様式4!J20","v":0},{"$f":"様式4!K20","v":0}]
[null,"014",{"$f":"様式4!C21","v":0},{"$f":"様式4!D21","v":0},{"$f":"様式4!E21","v":0},{"$f":"様式4!G21","v":0},{"$f":"様式4!H21","v":0},{"$f":"様式4!I21","v":0},{"$f":"様式4!J21","v":0},{"$f":"様式4!K21","v":0},null,null,null,null,null,"冊"]
[null,"015",{"$f":"様式4!C22","v":0},{"$f":"様式4!D22","v":0},{"$f":"様式4!E22","v":0},{"$f":"様式4!G22","v":0},{"$f":"様式4!H22","v":0},{"$f":"様式4!I22","v":0},{"$f":"様式4!J22","v":0},{"$f":"様式4!K22","v":0}]
[null,"016",{"$f":"様式4!C23","v":0},{"$f":"様式4!D23","v":0},{"$f":"様式4!E23","v":0},{"$f":"様式4!G23","v":0},{"$f":"様式4!H23","v":0},{"$f":"様式4!I23","v":0},{"$f":"様式4!J23","v":0},{"$f":"様式4!K23","v":0}]
[null,"017",{"$f":"様式4!C24","v":0},{"$f":"様式4!D24","v":0},{"$f":"様式4!E24","v":0},{"$f":"様式4!G24","v":0},{"$f":"様式4!H24","v":0},{"$f":"様式4!I24","v":0},{"$f":"様式4!J24","v":0},{"$f":"様式4!K24","v":0}]
[null,"018",{"$f":"様式4!C25","v":0},{"$f":"様式4!D25","v":0},{"$f":"様式4!E25","v":0},{"$f":"様式4!G25","v":0},{"$f":"様式4!H25","v":0},{"$f":"様式4!I25","v":0},{"$f":"様式4!J25","v":0},{"$f":"様式4!K25","v":0}]
[null,"019",{"$f":"様式4!C26","v":0},{"$f":"様式4!D26","v":0},{"$f":"様式4!E26","v":0},{"$f":"様式4!G26","v":0},{"$f":"様式4!H26","v":0},{"$f":"様式4!I26","v":0},{"$f":"様式4!J26","v":0},{"$f":"様式4!K26","v":0}]
[null,"020",{"$f":"様式4!C27","v":0},{"$f":"様式4!D27","v":0},{"$f":"様式4!E27","v":0},{"$f":"様式4!G27","v":0},{"$f":"様式4!H27","v":0},{"$f":"様式4!I27","v":0},{"$f":"様式4!J27","v":0},{"$f":"様式4!K27","v":0}]
[null,"021",{"$f":"様式4!C28","v":0},{"$f":"様式4!D28","v":0},{"$f":"様式4!E28","v":0},{"$f":"様式4!G28","v":0},{"$f":"様式4!H28","v":0},{"$f":"様式4!I28","v":0},{"$f":"様式4!J28","v":0},{"$f":"様式4!K28","v":0}]
[null,"022",{"$f":"様式4!C29","v":0},{"$f":"様式4!D29","v":0},{"$f":"様式4!E29","v":0},{"$f":"様式4!G29","v":0},{"$f":"様式4!H29","v":0},{"$f":"様式4!I29","v":0},{"$f":"様式4!J29","v":0},{"$f":"様式4!K29","v":0}]
[null,"023",{"$f":"様式4!C30","v":0},{"$f":"様式4!D30","v":0},{"$f":"様式4!E30","v":0},{"$f":"様式4!G30","v":0},{"$f":"様式4!H30","v":0},{"$f":"様式4!I30","v":0},{"$f":"様式4!J30","v":0},{"$f":"様式4!K30","v":0}]
[null,"024",{"$f":"様式4!C31","v":0},{"$f":"様式4!D31","v":0},{"$f":"様式4!E31","v":0},{"$f":"様式4!G31","v":0},{"$f":"様式4!H31","v":0},{"$f":"様式4!I31","v":0},{"$f":"様式4!J31","v":0},{"$f":"様式4!K31","v":0}]
[null,"025",{"$f":"様式4!C32","v":0},{"$f":"様式4!D32","v":0},{"$f":"様式4!E32","v":0},{"$f":"様式4!G32","v":0},{"$f":"様式4!H32","v":0},{"$f":"様式4!I32","v":0},{"$f":"様式4!J32","v":0},{"$f":"様式4!K32","v":0}]
[null,"026",{"$f":"様式4!C33","v":0},{"$f":"様式4!D33","v":0},{"$f":"様式4!E33","v":0},{"$f":"様式4!G33","v":0},{"$f":"様式4!H33","v":0},{"$f":"様式4!I33","v":0},{"$f":"様式4!J33","v":0},{"$f":"様式4!K33","v":0}]
[null,"027",{"$f":"様式4!C34","v":0},{"$f":"様式4!D34","v":0},{"$f":"様式4!E34","v":0},{"$f":"様式4!G34","v":0},{"$f":"様式4!H34","v":0},{"$f":"様式4!I34","v":0},{"$f":"様式4!J34","v":0},{"$f":"様式4!K34","v":0}]
[null,"028",{"$f":"様式4!C35","v":0},{"$f":"様式4!D35","v":0},{"$f":"様式4!E35","v":0},{"$f":"様式4!G35","v":0},{"$f":"様式4!H35","v":0},{"$f":"様式4!I35","v":0},{"$f":"様式4!J35","v":0},{"$f":"様式4!K35","v":0}]
[null,"029",{"$f":"様式4!C36","v":0},{"$f":"様式4!D36","v":0},{"$f":"様式4!E36","v":0},{"$f":"様式4!G36","v":0},{"$f":"様式4!H36","v":0},{"$f":"様式4!I36","v":0},{"$f":"様式4!J36","v":0},{"$f":"様式4!K36","v":0}]
[null,"030",{"$f":"様式4!C37","v":0},{"$f":"様式4!D37","v":0},{"$f":"様式4!E37","v":0},{"$f":"様式4!G37","v":0},{"$f":"様式4!H37","v":0},{"$f":"様式4!I37","v":0},{"$f":"様式4!J37","v":0},{"$f":"様式4!K37","v":0}]
[null,"031",{"$f":"様式4!C38","v":0},{"$f":"様式4!D38","v":0},{"$f":"様式4!E38","v":0},{"$f":"様式4!G38","v":0},{"$f":"様式4!H38","v":0},{"$f":"様式4!I38","v":0},{"$f":"様式4!J38","v":0},{"$f":"様式4!K38","v":0}]
[null,"032",{"$f":"様式4!C39","v":0},{"$f":"様式4!D39","v":0},{"$f":"様式4!E39","v":0},{"$f":"様式4!G39","v":0},{"$f":"様式4!H39","v":0},{"$f":"様式4!I39","v":0},{"$f":"様式4!J39","v":0},{"$f":"様式4!K39","v":0}]
[null,"033",{"$f":"様式4!C40","v":0},{"$f":"様式4!D40","v":0},{"$f":"様式4!E40","v":0},{"$f":"様式4!G40","v":0},{"$f":"様式4!H40","v":0},{"$f":"様式4!I40","v":0},{"$f":"様式4!J40","v":0},{"$f":"様式4!K40","v":0}]
[null,"034",{"$f":"様式4!C41","v":0},{"$f":"様式4!D41","v":0},{"$f":"様式4!E41","v":0},{"$f":"様式4!G41","v":0},{"$f":"様式4!H41","v":0},{"$f":"様式4!I41","v":0},{"$f":"様式4!J41","v":0},{"$f":"様式4!K41","v":0}]
[null,"035",{"$f":"様式4!C42","v":0},{"$f":"様式4!D42","v":0},{"$f":"様式4!E42","v":0},{"$f":"様式4!G42","v":0},{"$f":"様式4!H42","v":0},{"$f":"様式4!I42","v":0},{"$f":"様式4!J42","v":0},{"$f":"様式4!K42","v":0}]
[null,"036",{"$f":"様式4!C43","v":0},{"$f":"様式4!D43","v":0},{"$f":"様式4!E43","v":0},{"$f":"様式4!G43","v":0},{"$f":"様式4!H43","v":0},{"$f":"様式4!I43","v":0},{"$f":"様式4!J43","v":0},{"$f":"様式4!K43","v":0}]
[null,"037",{"$f":"様式4!C44","v":0},{"$f":"様式4!D44","v":0},{"$f":"様式4!E44","v":0},{"$f":"様式4!G44","v":0},{"$f":"様式4!H44","v":0},{"$f":"様式4!I44","v":0},{"$f":"様式4!J44","v":0},{"$f":"様式4!K44","v":0}]
[null,"038",{"$f":"様式4!C45","v":0},{"$f":"様式4!D45","v":0},{"$f":"様式4!E45","v":0},{"$f":"様式4!G45","v":0},{"$f":"様式4!H45","v":0},{"$f":"様式4!I45","v":0},{"$f":"様式4!J45","v":0},{"$f":"様式4!K45","v":0}]
[null,"039",{"$f":"様式4!C46","v":0},{"$f":"様式4!D46","v":0},{"$f":"様式4!E46","v":0},{"$f":"様式4!G46","v":0},{"$f":"様式4!H46","v":0},{"$f":"様式4!I46","v":0},{"$f":"様式4!J46","v":0},{"$f":"様式4!K46","v":0}]
[null,"040",{"$f":"様式4!C47","v":0},{"$f":"様式4!D47","v":0},{"$f":"様式4!E47","v":0},{"$f":"様式4!G47","v":0},{"$f":"様式4!H47","v":0},{"$f":"様式4!I47","v":0},{"$f":"様式4!J47","v":0},{"$f":"様式4!K47","v":0}]
[null,"041",{"$f":"様式4!C48","v":0},{"$f":"様式4!D48","v":0},{"$f":"様式4!E48","v":0},{"$f":"様式4!G48","v":0},{"$f":"様式4!H48","v":0},{"$f":"様式4!I48","v":0},{"$f":"様式4!J48","v":0},{"$f":"様式4!K48","v":0}]
[null,"042",{"$f":"様式4!C49","v":0},{"$f":"様式4!D49","v":0},{"$f":"様式4!E49","v":0},{"$f":"様式4!G49","v":0},{"$f":"様式4!H49","v":0},{"$f":"様式4!I49","v":0},{"$f":"様式4!J49","v":0},{"$f":"様式4!K49","v":0}]
[null,"043",{"$f":"様式4!C50","v":0},{"$f":"様式4!D50","v":0},{"$f":"様式4!E50","v":0},{"$f":"様式4!G50","v":0},{"$f":"様式4!H50","v":0},{"$f":"様式4!I50","v":0},{"$f":"様式4!J50","v":0},{"$f":"様式4!K50","v":0}]
[null,"044",{"$f":"様式4!C51","v":0},{"$f":"様式4!D51","v":0},{"$f":"様式4!E51","v":0},{"$f":"様式4!G51","v":0},{"$f":"様式4!H51","v":0},{"$f":"様式4!I51","v":0},{"$f":"様式4!J51","v":0},{"$f":"様式4!K51","v":0}]
[null,"045",{"$f":"様式4!C52","v":0},{"$f":"様式4!D52","v":0},{"$f":"様式4!E52","v":0},{"$f":"様式4!G52","v":0},{"$f":"様式4!H52","v":0},{"$f":"様式4!I52","v":0},{"$f":"様式4!J52","v":0},{"$f":"様式4!K52","v":0}]
[null,"046",{"$f":"様式4!C53","v":0},{"$f":"様式4!D53","v":0},{"$f":"様式4!E53","v":0},{"$f":"様式4!G53","v":0},{"$f":"様式4!H53","v":0},{"$f":"様式4!I53","v":0},{"$f":"様式4!J53","v":0},{"$f":"様式4!K53","v":0}]
[null,"047",{"$f":"様式4!C54","v":0},{"$f":"様式4!D54","v":0},{"$f":"様式4!E54","v":0},{"$f":"様式4!G54","v":0},{"$f":"様式4!H54","v":0},{"$f":"様式4!I54","v":0},{"$f":"様式4!J54","v":0},{"$f":"様式4!K54","v":0}]
[null,"048",{"$f":"様式4!C55","v":0},{"$f":"様式4!D55","v":0},{"$f":"様式4!E55","v":0},{"$f":"様式4!G55","v":0},{"$f":"様式4!H55","v":0},{"$f":"様式4!I55","v":0},{"$f":"様式4!J55","v":0},{"$f":"様式4!K55","v":0}]
[null,"049",{"$f":"様式4!C56","v":0},{"$f":"様式4!D56","v":0},{"$f":"様式4!E56","v":0},{"$f":"様式4!G56","v":0},{"$f":"様式4!H56","v":0},{"$f":"様式4!I56","v":0},{"$f":"様式4!J56","v":0},{"$f":"様式4!K56","v":0}]
[null,"050",{"$f":"様式4!C57","v":0},{"$f":"様式4!D57","v":0},{"$f":"様式4!E57","v":0},{"$f":"様式4!G57","v":0},{"$f":"様式4!H57","v":0},{"$f":"様式4!I57","v":0},{"$f":"様式4!J57","v":0},{"$f":"様式4!K57","v":0}]
[null,"051",{"$f":"様式4!C58","v":0},{"$f":"様式4!D58","v":0},{"$f":"様式4!E58","v":0},{"$f":"様式4!G58","v":0},{"$f":"様式4!H58","v":0},{"$f":"様式4!I58","v":0},{"$f":"様式4!J58","v":0},{"$f":"様式4!K58","v":0}]
[null,"052",{"$f":"様式4!C59","v":0},{"$f":"様式4!D59","v":0},{"$f":"様式4!E59","v":0},{"$f":"様式4!G59","v":0},{"$f":"様式4!H59","v":0},{"$f":"様式4!I59","v":0},{"$f":"様式4!J59","v":0},{"$f":"様式4!K59","v":0}]
[null,"053",{"$f":"様式4!C60","v":0},{"$f":"様式4!D60","v":0},{"$f":"様式4!E60","v":0},{"$f":"様式4!G60","v":0},{"$f":"様式4!H60","v":0},{"$f":"様式4!I60","v":0},{"$f":"様式4!J60","v":0},{"$f":"様式4!K60","v":0}]
[null,"054",{"$f":"様式4!C61","v":0},{"$f":"様式4!D61","v":0},{"$f":"様式4!E61","v":0},{"$f":"様式4!G61","v":0},{"$f":"様式4!H61","v":0},{"$f":"様式4!I61","v":0},{"$f":"様式4!J61","v":0},{"$f":"様式4!K61","v":0}]
[null,"055",{"$f":"様式4!C62","v":0},{"$f":"様式4!D62","v":0},{"$f":"様式4!E62","v":0},{"$f":"様式4!G62","v":0},{"$f":"様式4!H62","v":0},{"$f":"様式4!I62","v":0},{"$f":"様式4!J62","v":0},{"$f":"様式4!K62","v":0}]
[null,"056",{"$f":"様式4!C63","v":0},{"$f":"様式4!D63","v":0},{"$f":"様式4!E63","v":0},{"$f":"様式4!G63","v":0},{"$f":"様式4!H63","v":0},{"$f":"様式4!I63","v":0},{"$f":"様式4!J63","v":0},{"$f":"様式4!K63","v":0}]
[null,"057",{"$f":"様式4!C64","v":0},{"$f":"様式4!D64","v":0},{"$f":"様式4!E64","v":0},{"$f":"様式4!G64","v":0},{"$f":"様式4!H64","v":0},{"$f":"様式4!I64","v":0},{"$f":"様式4!J64","v":0},{"$f":"様式4!K64","v":0}]
[null,"058",{"$f":"様式4!C65","v":0},{"$f":"様式4!D65","v":0},{"$f":"様式4!E65","v":0},{"$f":"様式4!G65","v":0},{"$f":"様式4!H65","v":0},{"$f":"様式4!I65","v":0},{"$f":"様式4!J65","v":0},{"$f":"様式4!K65","v":0}]
[null,"059",{"$f":"様式4!C66","v":0},{"$f":"様式4!D66","v":0},{"$f":"様式4!E66","v":0},{"$f":"様式4!G66","v":0},{"$f":"様式4!H66","v":0},{"$f":"様式4!I66","v":0},{"$f":"様式4!J66","v":0},{"$f":"様式4!K66","v":0}]
[null,"060",{"$f":"様式4!C67","v":0},{"$f":"様式4!D67","v":0},{"$f":"様式4!E67","v":0},{"$f":"様式4!G67","v":0},{"$f":"様式4!H67","v":0},{"$f":"様式4!I67","v":0},{"$f":"様式4!J67","v":0},{"$f":"様式4!K67","v":0}]
[null,"061",{"$f":"様式4!C68","v":0},{"$f":"様式4!D68","v":0},{"$f":"様式4!E68","v":0},{"$f":"様式4!G68","v":0},{"$f":"様式4!H68","v":0},{"$f":"様式4!I68","v":0},{"$f":"様式4!J68","v":0},{"$f":"様式4!K68","v":0}]
[null,"062",{"$f":"様式4!C69","v":0},{"$f":"様式4!D69","v":0},{"$f":"様式4!E69","v":0},{"$f":"様式4!G69","v":0},{"$f":"様式4!H69","v":0},{"$f":"様式4!I69","v":0},{"$f":"様式4!J69","v":0},{"$f":"様式4!K69","v":0}]
[null,"063",{"$f":"様式4!C70","v":0},{"$f":"様式4!D70","v":0},{"$f":"様式4!E70","v":0},{"$f":"様式4!G70","v":0},{"$f":"様式4!H70","v":0},{"$f":"様式4!I70","v":0},{"$f":"様式4!J70","v":0},{"$f":"様式4!K70","v":0}]
[null,"064",{"$f":"様式4!C71","v":0},{"$f":"様式4!D71","v":0},{"$f":"様式4!E71","v":0},{"$f":"様式4!G71","v":0},{"$f":"様式4!H71","v":0},{"$f":"様式4!I71","v":0},{"$f":"様式4!J71","v":0},{"$f":"様式4!K71","v":0}]
[null,"065",{"$f":"様式4!C72","v":0},{"$f":"様式4!D72","v":0},{"$f":"様式4!E72","v":0},{"$f":"様式4!G72","v":0},{"$f":"様式4!H72","v":0},{"$f":"様式4!I72","v":0},{"$f":"様式4!J72","v":0},{"$f":"様式4!K72","v":0}]
[null,"066",{"$f":"様式4!C73","v":0},{"$f":"様式4!D73","v":0},{"$f":"様式4!E73","v":0},{"$f":"様式4!G73","v":0},{"$f":"様式4!H73","v":0},{"$f":"様式4!I73","v":0},{"$f":"様式4!J73","v":0},{"$f":"様式4!K73","v":0}]
[null,"067",{"$f":"様式4!C74","v":0},{"$f":"様式4!D74","v":0},{"$f":"様式4!E74","v":0},{"$f":"様式4!G74","v":0},{"$f":"様式4!H74","v":0},{"$f":"様式4!I74","v":0},{"$f":"様式4!J74","v":0},{"$f":"様式4!K74","v":0}]
[null,"068",{"$f":"様式4!C75","v":0},{"$f":"様式4!D75","v":0},{"$f":"様式4!E75","v":0},{"$f":"様式4!G75","v":0},{"$f":"様式4!H75","v":0},{"$f":"様式4!I75","v":0},{"$f":"様式4!J75","v":0},{"$f":"様式4!K75","v":0}]
[null,"069",{"$f":"様式4!C76","v":0},{"$f":"様式4!D76","v":0},{"$f":"様式4!E76","v":0},{"$f":"様式4!G76","v":0},{"$f":"様式4!H76","v":0},{"$f":"様式4!I76","v":0},{"$f":"様式4!J76","v":0},{"$f":"様式4!K76","v":0}]
[null,"070",{"$f":"様式4!C77","v":0},{"$f":"様式4!D77","v":0},{"$f":"様式4!E77","v":0},{"$f":"様式4!G77","v":0},{"$f":"様式4!H77","v":0},{"$f":"様式4!I77","v":0},{"$f":"様式4!J77","v":0},{"$f":"様式4!K77","v":0}]
[null,"071",{"$f":"様式4!C78","v":0},{"$f":"様式4!D78","v":0},{"$f":"様式4!E78","v":0},{"$f":"様式4!G78","v":0},{"$f":"様式4!H78","v":0},{"$f":"様式4!I78","v":0},{"$f":"様式4!J78","v":0},{"$f":"様式4!K78","v":0}]
[null,"072",{"$f":"様式4!C79","v":0},{"$f":"様式4!D79","v":0},{"$f":"様式4!E79","v":0},{"$f":"様式4!G79","v":0},{"$f":"様式4!H79","v":0},{"$f":"様式4!I79","v":0},{"$f":"様式4!J79","v":0},{"$f":"様式4!K79","v":0}]
[null,"073",{"$f":"様式4!C80","v":0},{"$f":"様式4!D80","v":0},{"$f":"様式4!E80","v":0},{"$f":"様式4!G80","v":0},{"$f":"様式4!H80","v":0},{"$f":"様式4!I80","v":0},{"$f":"様式4!J80","v":0},{"$f":"様式4!K80","v":0}]
[null,"074",{"$f":"様式4!C81","v":0},{"$f":"様式4!D81","v":0},{"$f":"様式4!E81","v":0},{"$f":"様式4!G81","v":0},{"$f":"様式4!H81","v":0},{"$f":"様式4!I81","v":0},{"$f":"様式4!J81","v":0},{"$f":"様式4!K81","v":0}]
[null,"075",{"$f":"様式4!C82","v":0},{"$f":"様式4!D82","v":0},{"$f":"様式4!E82","v":0},{"$f":"様式4!G82","v":0},{"$f":"様式4!H82","v":0},{"$f":"様式4!I82","v":0},{"$f":"様式4!J82","v":0},{"$f":"様式4!K82","v":0}]
[null,"076",{"$f":"様式4!C83","v":0},{"$f":"様式4!D83","v":0},{"$f":"様式4!E83","v":0},{"$f":"様式4!G83","v":0},{"$f":"様式4!H83","v":0},{"$f":"様式4!I83","v":0},{"$f":"様式4!J83","v":0},{"$f":"様式4!K83","v":0}]
[null,"077",{"$f":"様式4!C84","v":0},{"$f":"様式4!D84","v":0},{"$f":"様式4!E84","v":0},{"$f":"様式4!G84","v":0},{"$f":"様式4!H84","v":0},{"$f":"様式4!I84","v":0},{"$f":"様式4!J84","v":0},{"$f":"様式4!K84","v":0}]
[null,"078",{"$f":"様式4!C85","v":0},{"$f":"様式4!D85","v":0},{"$f":"様式4!E85","v":0},{"$f":"様式4!G85","v":0},{"$f":"様式4!H85","v":0},{"$f":"様式4!I85","v":0},{"$f":"様式4!J85","v":0},{"$f":"様式4!K85","v":0}]
[null,"079",{"$f":"様式4!C86","v":0},{"$f":"様式4!D86","v":0},{"$f":"様式4!E86","v":0},{"$f":"様式4!G86","v":0},{"$f":"様式4!H86","v":0},{"$f":"様式4!I86","v":0},{"$f":"様式4!J86","v":0},{"$f":"様式4!K86","v":0}]
[null,"080",{"$f":"様式4!C87","v":0},{"$f":"様式4!D87","v":0},{"$f":"様式4!E87","v":0},{"$f":"様式4!G87","v":0},{"$f":"様式4!H87","v":0},{"$f":"様式4!I87","v":0},{"$f":"様式4!J87","v":0},{"$f":"様式4!K87","v":0}]
[null,"081",{"$f":"様式4!C88","v":0},{"$f":"様式4!D88","v":0},{"$f":"様式4!E88","v":0},{"$f":"様式4!G88","v":0},{"$f":"様式4!H88","v":0},{"$f":"様式4!I88","v":0},{"$f":"様式4!J88","v":0},{"$f":"様式4!K88","v":0}]
[null,"082",{"$f":"様式4!C89","v":0},{"$f":"様式4!D89","v":0},{"$f":"様式4!E89","v":0},{"$f":"様式4!G89","v":0},{"$f":"様式4!H89","v":0},{"$f":"様式4!I89","v":0},{"$f":"様式4!J89","v":0},{"$f":"様式4!K89","v":0}]
[null,"083",{"$f":"様式4!C90","v":0},{"$f":"様式4!D90","v":0},{"$f":"様式4!E90","v":0},{"$f":"様式4!G90","v":0},{"$f":"様式4!H90","v":0},{"$f":"様式4!I90","v":0},{"$f":"様式4!J90","v":0},{"$f":"様式4!K90","v":0}]
[null,"084",{"$f":"様式4!C91","v":0},{"$f":"様式4!D91","v":0},{"$f":"様式4!E91","v":0},{"$f":"様式4!G91","v":0},{"$f":"様式4!H91","v":0},{"$f":"様式4!I91","v":0},{"$f":"様式4!J91","v":0},{"$f":"様式4!K91","v":0}]
[null,"085",{"$f":"様式4!C92","v":0},{"$f":"様式4!D92","v":0},{"$f":"様式4!E92","v":0},{"$f":"様式4!G92","v":0},{"$f":"様式4!H92","v":0},{"$f":"様式4!I92","v":0},{"$f":"様式4!J92","v":0},{"$f":"様式4!K92","v":0}]
[null,"086",{"$f":"様式4!C93","v":0},{"$f":"様式4!D93","v":0},{"$f":"様式4!E93","v":0},{"$f":"様式4!G93","v":0},{"$f":"様式4!H93","v":0},{"$f":"様式4!I93","v":0},{"$f":"様式4!J93","v":0},{"$f":"様式4!K93","v":0}]
[null,"087",{"$f":"様式4!C94","v":0},{"$f":"様式4!D94","v":0},{"$f":"様式4!E94","v":0},{"$f":"様式4!G94","v":0},{"$f":"様式4!H94","v":0},{"$f":"様式4!I94","v":0},{"$f":"様式4!J94","v":0},{"$f":"様式4!K94","v":0}]
[null,"088",{"$f":"様式4!C95","v":0},{"$f":"様式4!D95","v":0},{"$f":"様式4!E95","v":0},{"$f":"様式4!G95","v":0},{"$f":"様式4!H95","v":0},{"$f":"様式4!I95","v":0},{"$f":"様式4!J95","v":0},{"$f":"様式4!K95","v":0}]
[null,"089",{"$f":"様式4!C96","v":0},{"$f":"様式4!D96","v":0},{"$f":"様式4!E96","v":0},{"$f":"様式4!G96","v":0},{"$f":"様式4!H96","v":0},{"$f":"様式4!I96","v":0},{"$f":"様式4!J96","v":0},{"$f":"様式4!K96","v":0}]
[null,"090",{"$f":"様式4!C97","v":0},{"$f":"様式4!D97","v":0},{"$f":"様式4!E97","v":0},{"$f":"様式4!G97","v":0},{"$f":"様式4!H97","v":0},{"$f":"様式4!I97","v":0},{"$f":"様式4!J97","v":0},{"$f":"様式4!K97","v":0}]
[null,"091",{"$f":"様式4!C98","v":0},{"$f":"様式4!D98","v":0},{"$f":"様式4!E98","v":0},{"$f":"様式4!G98","v":0},{"$f":"様式4!H98","v":0},{"$f":"様式4!I98","v":0},{"$f":"様式4!J98","v":0},{"$f":"様式4!K98","v":0}]
[null,"092",{"$f":"様式4!C99","v":0},{"$f":"様式4!D99","v":0},{"$f":"様式4!E99","v":0},{"$f":"様式4!G99","v":0},{"$f":"様式4!H99","v":0},{"$f":"様式4!I99","v":0},{"$f":"様式4!J99","v":0},{"$f":"様式4!K99","v":0}]
[null,"093",{"$f":"様式4!C100","v":0},{"$f":"様式4!D100","v":0},{"$f":"様式4!E100","v":0},{"$f":"様式4!G100","v":0},{"$f":"様式4!H100","v":0},{"$f":"様式4!I100","v":0},{"$f":"様式4!J100","v":0},{"$f":"様式4!K100","v":0}]
[null,"094",{"$f":"様式4!C101","v":0},{"$f":"様式4!D101","v":0},{"$f":"様式4!E101","v":0},{"$f":"様式4!G101","v":0},{"$f":"様式4!H101","v":0},{"$f":"様式4!I101","v":0},{"$f":"様式4!J101","v":0},{"$f":"様式4!K101","v":0}]
[null,"095",{"$f":"様式4!C102","v":0},{"$f":"様式4!D102","v":0},{"$f":"様式4!E102","v":0},{"$f":"様式4!G102","v":0},{"$f":"様式4!H102","v":0},{"$f":"様式4!I102","v":0},{"$f":"様式4!J102","v":0},{"$f":"様式4!K102","v":0}]
[null,"096",{"$f":"様式4!C103","v":0},{"$f":"様式4!D103","v":0},{"$f":"様式4!E103","v":0},{"$f":"様式4!G103","v":0},{"$f":"様式4!H103","v":0},{"$f":"様式4!I103","v":0},{"$f":"様式4!J103","v":0},{"$f":"様式4!K103","v":0}]
[null,"097",{"$f":"様式4!C104","v":0},{"$f":"様式4!D104","v":0},{"$f":"様式4!E104","v":0},{"$f":"様式4!G104","v":0},{"$f":"様式4!H104","v":0},{"$f":"様式4!I104","v":0},{"$f":"様式4!J104","v":0},{"$f":"様式4!K104","v":0}]
[null,"098",{"$f":"様式4!C105","v":0},{"$f":"様式4!D105","v":0},{"$f":"様式4!E105","v":0},{"$f":"様式4!G105","v":0},{"$f":"様式4!H105","v":0},{"$f":"様式4!I105","v":0},{"$f":"様式4!J105","v":0},{"$f":"様式4!K105","v":0}]
[null,"099",{"$f":"様式4!C106","v":0},{"$f":"様式4!D106","v":0},{"$f":"様式4!E106","v":0},{"$f":"様式4!G106","v":0},{"$f":"様式4!H106","v":0},{"$f":"様式4!I106","v":0},{"$f":"様式4!J106","v":0},{"$f":"様式4!K106","v":0}]
[null,"100",{"$f":"様式4!C107","v":0},{"$f":"様式4!D107","v":0},{"$f":"様式4!E107","v":0},{"$f":"様式4!G107","v":0},{"$f":"様式4!H107","v":0},{"$f":"様式4!I107","v":0},{"$f":"様式4!J107","v":0},{"$f":"様式4!K107","v":0}]
[null,"101",{"$f":"様式4!C108","v":0},{"$f":"様式4!D108","v":0},{"$f":"様式4!E108","v":0},{"$f":"様式4!G108","v":0},{"$f":"様式4!H108","v":0},{"$f":"様式4!I108","v":0},{"$f":"様式4!J108","v":0},{"$f":"様式4!K108","v":0}]
[null,"102",{"$f":"様式4!C109","v":0},{"$f":"様式4!D109","v":0},{"$f":"様式4!E109","v":0},{"$f":"様式4!G109","v":0},{"$f":"様式4!H109","v":0},{"$f":"様式4!I109","v":0},{"$f":"様式4!J109","v":0},{"$f":"様式4!K109","v":0}]
[null,"103",{"$f":"様式4!C110","v":0},{"$f":"様式4!D110","v":0},{"$f":"様式4!E110","v":0},{"$f":"様式4!G110","v":0},{"$f":"様式4!H110","v":0},{"$f":"様式4!I110","v":0},{"$f":"様式4!J110","v":0},{"$f":"様式4!K110","v":0}]
[null,"104",{"$f":"様式4!C111","v":0},{"$f":"様式4!D111","v":0},{"$f":"様式4!E111","v":0},{"$f":"様式4!G111","v":0},{"$f":"様式4!H111","v":0},{"$f":"様式4!I111","v":0},{"$f":"様式4!J111","v":0},{"$f":"様式4!K111","v":0}]
[null,"105",{"$f":"様式4!C112","v":0},{"$f":"様式4!D112","v":0},{"$f":"様式4!E112","v":0},{"$f":"様式4!G112","v":0},{"$f":"様式4!H112","v":0},{"$f":"様式4!I112","v":0},{"$f":"様式4!J112","v":0},{"$f":"様式4!K112","v":0}]
[null,"106",{"$f":"様式4!C113","v":0},{"$f":"様式4!D113","v":0},{"$f":"様式4!E113","v":0},{"$f":"様式4!G113","v":0},{"$f":"様式4!H113","v":0},{"$f":"様式4!I113","v":0},{"$f":"様式4!J113","v":0},{"$f":"様式4!K113","v":0}]
[null,"107",{"$f":"様式4!C114","v":0},{"$f":"様式4!D114","v":0},{"$f":"様式4!E114","v":0},{"$f":"様式4!G114","v":0},{"$f":"様式4!H114","v":0},{"$f":"様式4!I114","v":0},{"$f":"様式4!J114","v":0},{"$f":"様式4!K114","v":0}]
[null,"108",{"$f":"様式4!C115","v":0},{"$f":"様式4!D115","v":0},{"$f":"様式4!E115","v":0},{"$f":"様式4!G115","v":0},{"$f":"様式4!H115","v":0},{"$f":"様式4!I115","v":0},{"$f":"様式4!J115","v":0},{"$f":"様式4!K115","v":0}]
[null,"109",{"$f":"様式4!C116","v":0},{"$f":"様式4!D116","v":0},{"$f":"様式4!E116","v":0},{"$f":"様式4!G116","v":0},{"$f":"様式4!H116","v":0},{"$f":"様式4!I116","v":0},{"$f":"様式4!J116","v":0},{"$f":"様式4!K116","v":0}]
[null,"110",{"$f":"様式4!C117","v":0},{"$f":"様式4!D117","v":0},{"$f":"様式4!E117","v":0},{"$f":"様式4!G117","v":0},{"$f":"様式4!H117","v":0},{"$f":"様式4!I117","v":0},{"$f":"様式4!J117","v":0},{"$f":"様式4!K117","v":0}]
[null,"111",{"$f":"様式4!C118","v":0},{"$f":"様式4!D118","v":0},{"$f":"様式4!E118","v":0},{"$f":"様式4!G118","v":0},{"$f":"様式4!H118","v":0},{"$f":"様式4!I118","v":0},{"$f":"様式4!J118","v":0},{"$f":"様式4!K118","v":0}]
[null,"112",{"$f":"様式4!C119","v":0},{"$f":"様式4!D119","v":0},{"$f":"様式4!E119","v":0},{"$f":"様式4!G119","v":0},{"$f":"様式4!H119","v":0},{"$f":"様式4!I119","v":0},{"$f":"様式4!J119","v":0},{"$f":"様式4!K119","v":0}]
[null,"113",{"$f":"様式4!C120","v":0},{"$f":"様式4!D120","v":0},{"$f":"様式4!E120","v":0},{"$f":"様式4!G120","v":0},{"$f":"様式4!H120","v":0},{"$f":"様式4!I120","v":0},{"$f":"様式4!J120","v":0},{"$f":"様式4!K120","v":0}]
[null,"114",{"$f":"様式4!C121","v":0},{"$f":"様式4!D121","v":0},{"$f":"様式4!E121","v":0},{"$f":"様式4!G121","v":0},{"$f":"様式4!H121","v":0},{"$f":"様式4!I121","v":0},{"$f":"様式4!J121","v":0},{"$f":"様式4!K121","v":0}]
[null,"115",{"$f":"様式4!C122","v":0},{"$f":"様式4!D122","v":0},{"$f":"様式4!E122","v":0},{"$f":"様式4!G122","v":0},{"$f":"様式4!H122","v":0},{"$f":"様式4!I122","v":0},{"$f":"様式4!J122","v":0},{"$f":"様式4!K122","v":0}]
[null,"116",{"$f":"様式4!C123","v":0},{"$f":"様式4!D123","v":0},{"$f":"様式4!E123","v":0},{"$f":"様式4!G123","v":0},{"$f":"様式4!H123","v":0},{"$f":"様式4!I123","v":0},{"$f":"様式4!J123","v":0},{"$f":"様式4!K123","v":0}]
[null,"117",{"$f":"様式4!C124","v":0},{"$f":"様式4!D124","v":0},{"$f":"様式4!E124","v":0},{"$f":"様式4!G124","v":0},{"$f":"様式4!H124","v":0},{"$f":"様式4!I124","v":0},{"$f":"様式4!J124","v":0},{"$f":"様式4!K124","v":0}]
[null,"118",{"$f":"様式4!C125","v":0},{"$f":"様式4!D125","v":0},{"$f":"様式4!E125","v":0},{"$f":"様式4!G125","v":0},{"$f":"様式4!H125","v":0},{"$f":"様式4!I125","v":0},{"$f":"様式4!J125","v":0},{"$f":"様式4!K125","v":0}]
[null,"119",{"$f":"様式4!C126","v":0},{"$f":"様式4!D126","v":0},{"$f":"様式4!E126","v":0},{"$f":"様式4!G126","v":0},{"$f":"様式4!H126","v":0},{"$f":"様式4!I126","v":0},{"$f":"様式4!J126","v":0},{"$f":"様式4!K126","v":0}]
[null,"120",{"$f":"様式4!C127","v":0},{"$f":"様式4!D127","v":0},{"$f":"様式4!E127","v":0},{"$f":"様式4!G127","v":0},{"$f":"様式4!H127","v":0},{"$f":"様式4!I127","v":0},{"$f":"様式4!J127","v":0},{"$f":"様式4!K127","v":0}]
[null,"121",{"$f":"様式4!C128","v":0},{"$f":"様式4!D128","v":0},{"$f":"様式4!E128","v":0},{"$f":"様式4!G128","v":0},{"$f":"様式4!H128","v":0},{"$f":"様式4!I128","v":0},{"$f":"様式4!J128","v":0},{"$f":"様式4!K128","v":0}]
[null,"122",{"$f":"様式4!C129","v":0},{"$f":"様式4!D129","v":0},{"$f":"様式4!E129","v":0},{"$f":"様式4!G129","v":0},{"$f":"様式4!H129","v":0},{"$f":"様式4!I129","v":0},{"$f":"様式4!J129","v":0},{"$f":"様式4!K129","v":0}]
[null,"123",{"$f":"様式4!C130","v":0},{"$f":"様式4!D130","v":0},{"$f":"様式4!E130","v":0},{"$f":"様式4!G130","v":0},{"$f":"様式4!H130","v":0},{"$f":"様式4!I130","v":0},{"$f":"様式4!J130","v":0},{"$f":"様式4!K130","v":0}]
[null,"124",{"$f":"様式4!C131","v":0},{"$f":"様式4!D131","v":0},{"$f":"様式4!E131","v":0},{"$f":"様式4!G131","v":0},{"$f":"様式4!H131","v":0},{"$f":"様式4!I131","v":0},{"$f":"様式4!J131","v":0},{"$f":"様式4!K131","v":0}]
[null,"125",{"$f":"様式4!C132","v":0},{"$f":"様式4!D132","v":0},{"$f":"様式4!E132","v":0},{"$f":"様式4!G132","v":0},{"$f":"様式4!H132","v":0},{"$f":"様式4!I132","v":0},{"$f":"様式4!J132","v":0},{"$f":"様式4!K132","v":0}]
[null,"126",{"$f":"様式4!C133","v":0},{"$f":"様式4!D133","v":0},{"$f":"様式4!E133","v":0},{"$f":"様式4!G133","v":0},{"$f":"様式4!H133","v":0},{"$f":"様式4!I133","v":0},{"$f":"様式4!J133","v":0},{"$f":"様式4!K133","v":0}]
[null,"127",{"$f":"様式4!C134","v":0},{"$f":"様式4!D134","v":0},{"$f":"様式4!E134","v":0},{"$f":"様式4!G134","v":0},{"$f":"様式4!H134","v":0},{"$f":"様式4!I134","v":0},{"$f":"様式4!J134","v":0},{"$f":"様式4!K134","v":0}]
[null,"128",{"$f":"様式4!C135","v":0},{"$f":"様式4!D135","v":0},{"$f":"様式4!E135","v":0},{"$f":"様式4!G135","v":0},{"$f":"様式4!H135","v":0},{"$f":"様式4!I135","v":0},{"$f":"様式4!J135","v":0},{"$f":"様式4!K135","v":0}]
[null,"129",{"$f":"様式4!C136","v":0},{"$f":"様式4!D136","v":0},{"$f":"様式4!E136","v":0},{"$f":"様式4!G136","v":0},{"$f":"様式4!H136","v":0},{"$f":"様式4!I136","v":0},{"$f":"様式4!J136","v":0},{"$f":"様式4!K136","v":0}]
[null,"130",{"$f":"様式4!C137","v":0},{"$f":"様式4!D137","v":0},{"$f":"様式4!E137","v":0},{"$f":"様式4!G137","v":0},{"$f":"様式4!H137","v":0},{"$f":"様式4!I137","v":0},{"$f":"様式4!J137","v":0},{"$f":"様式4!K137","v":0}]
[null,"131",{"$f":"様式4!C138","v":0},{"$f":"様式4!D138","v":0},{"$f":"様式4!E138","v":0},{"$f":"様式4!G138","v":0},{"$f":"様式4!H138","v":0},{"$f":"様式4!I138","v":0},{"$f":"様式4!J138","v":0},{"$f":"様式4!K138","v":0}]
[null,"132",{"$f":"様式4!C139","v":0},{"$f":"様式4!D139","v":0},{"$f":"様式4!E139","v":0},{"$f":"様式4!G139","v":0},{"$f":"様式4!H139","v":0},{"$f":"様式4!I139","v":0},{"$f":"様式4!J139","v":0},{"$f":"様式4!K139","v":0}]
[null,"133",{"$f":"様式4!C140","v":0},{"$f":"様式4!D140","v":0},{"$f":"様式4!E140","v":0},{"$f":"様式4!G140","v":0},{"$f":"様式4!H140","v":0},{"$f":"様式4!I140","v":0},{"$f":"様式4!J140","v":0},{"$f":"様式4!K140","v":0}]
[null,"134",{"$f":"様式4!C141","v":0},{"$f":"様式4!D141","v":0},{"$f":"様式4!E141","v":0},{"$f":"様式4!G141","v":0},{"$f":"様式4!H141","v":0},{"$f":"様式4!I141","v":0},{"$f":"様式4!J141","v":0},{"$f":"様式4!K141","v":0}]
[null,"135",{"$f":"様式4!C142","v":0},{"$f":"様式4!D142","v":0},{"$f":"様式4!E142","v":0},{"$f":"様式4!G142","v":0},{"$f":"様式4!H142","v":0},{"$f":"様式4!I142","v":0},{"$f":"様式4!J142","v":0},{"$f":"様式4!K142","v":0}]
[null,"136",{"$f":"様式4!C143","v":0},{"$f":"様式4!D143","v":0},{"$f":"様式4!E143","v":0},{"$f":"様式4!G143","v":0},{"$f":"様式4!H143","v":0},{"$f":"様式4!I143","v":0},{"$f":"様式4!J143","v":0},{"$f":"様式4!K143","v":0}]
[null,"137",{"$f":"様式4!C144","v":0},{"$f":"様式4!D144","v":0},{"$f":"様式4!E144","v":0},{"$f":"様式4!G144","v":0},{"$f":"様式4!H144","v":0},{"$f":"様式4!I144","v":0},{"$f":"様式4!J144","v":0},{"$f":"様式4!K144","v":0}]
[null,"138",{"$f":"様式4!C145","v":0},{"$f":"様式4!D145","v":0},{"$f":"様式4!E145","v":0},{"$f":"様式4!G145","v":0},{"$f":"様式4!H145","v":0},{"$f":"様式4!I145","v":0},{"$f":"様式4!J145","v":0},{"$f":"様式4!K145","v":0}]
[null,"139",{"$f":"様式4!C146","v":0},{"$f":"様式4!D146","v":0},{"$f":"様式4!E146","v":0},{"$f":"様式4!G146","v":0},{"$f":"様式4!H146","v":0},{"$f":"様式4!I146","v":0},{"$f":"様式4!J146","v":0},{"$f":"様式4!K146","v":0}]
[null,"140",{"$f":"様式4!C147","v":0},{"$f":"様式4!D147","v":0},{"$f":"様式4!E147","v":0},{"$f":"様式4!G147","v":0},{"$f":"様式4!H147","v":0},{"$f":"様式4!I147","v":0},{"$f":"様式4!J147","v":0},{"$f":"様式4!K147","v":0}]
[null,"141",{"$f":"様式4!C148","v":0},{"$f":"様式4!D148","v":0},{"$f":"様式4!E148","v":0},{"$f":"様式4!G148","v":0},{"$f":"様式4!H148","v":0},{"$f":"様式4!I148","v":0},{"$f":"様式4!J148","v":0},{"$f":"様式4!K148","v":0}]
[null,"142",{"$f":"様式4!C149","v":0},{"$f":"様式4!D149","v":0},{"$f":"様式4!E149","v":0},{"$f":"様式4!G149","v":0},{"$f":"様式4!H149","v":0},{"$f":"様式4!I149","v":0},{"$f":"様式4!J149","v":0},{"$f":"様式4!K149","v":0}]
[null,"143",{"$f":"様式4!C150","v":0},{"$f":"様式4!D150","v":0},{"$f":"様式4!E150","v":0},{"$f":"様式4!G150","v":0},{"$f":"様式4!H150","v":0},{"$f":"様式4!I150","v":0},{"$f":"様式4!J150","v":0},{"$f":"様式4!K150","v":0}]
[null,"144",{"$f":"様式4!C151","v":0},{"$f":"様式4!D151","v":0},{"$f":"様式4!E151","v":0},{"$f":"様式4!G151","v":0},{"$f":"様式4!H151","v":0},{"$f":"様式4!I151","v":0},{"$f":"様式4!J151","v":0},{"$f":"様式4!K151","v":0}]
[null,"145",{"$f":"様式4!C152","v":0},{"$f":"様式4!D152","v":0},{"$f":"様式4!E152","v":0},{"$f":"様式4!G152","v":0},{"$f":"様式4!H152","v":0},{"$f":"様式4!I152","v":0},{"$f":"様式4!J152","v":0},{"$f":"様式4!K152","v":0}]
[null,"146",{"$f":"様式4!C153","v":0},{"$f":"様式4!D153","v":0},{"$f":"様式4!E153","v":0},{"$f":"様式4!G153","v":0},{"$f":"様式4!H153","v":0},{"$f":"様式4!I153","v":0},{"$f":"様式4!J153","v":0},{"$f":"様式4!K153","v":0}]
[null,"147",{"$f":"様式4!C154","v":0},{"$f":"様式4!D154","v":0},{"$f":"様式4!E154","v":0},{"$f":"様式4!G154","v":0},{"$f":"様式4!H154","v":0},{"$f":"様式4!I154","v":0},{"$f":"様式4!J154","v":0},{"$f":"様式4!K154","v":0}]
[null,"148",{"$f":"様式4!C155","v":0},{"$f":"様式4!D155","v":0},{"$f":"様式4!E155","v":0},{"$f":"様式4!G155","v":0},{"$f":"様式4!H155","v":0},{"$f":"様式4!I155","v":0},{"$f":"様式4!J155","v":0},{"$f":"様式4!K155","v":0}]
[null,"149",{"$f":"様式4!C156","v":0},{"$f":"様式4!D156","v":0},{"$f":"様式4!E156","v":0},{"$f":"様式4!G156","v":0},{"$f":"様式4!H156","v":0},{"$f":"様式4!I156","v":0},{"$f":"様式4!J156","v":0},{"$f":"様式4!K156","v":0}]
[null,"150",{"$f":"様式4!C157","v":0},{"$f":"様式4!D157","v":0},{"$f":"様式4!E157","v":0},{"$f":"様式4!G157","v":0},{"$f":"様式4!H157","v":0},{"$f":"様式4!I157","v":0},{"$f":"様式4!J157","v":0},{"$f":"様式4!K157","v":0}]

{"sheet":"様式6-1","index":5,"n_rows":161,"n_cols":18,"rows_kept":161,"cut":false,"hidden":false,"merged":[[1,2,1,16],[2,14,2,16],[3,14,4,16],[7,7,8,8],[7,9,9,9],[7,13,7,16],[7,17,9,17],[6,10,6,12],[9,7,9,8],[9,10,9,11],[7,10,8,11],[7,12,9,12],[6,13,6,17],[2,6,2,8],[3,6,4,8],[2,9,2,11],[3,9,4,11],[2,12,2,13],[3,12,4,13],[10,10,10,11],[11,7,11,8],[11,10,11,11],[10,7,10,8],[6,2,9,2],[6,3,9,3],[6,4,9,4],[6,5,9,5],[6,7,6,9],[6,6,9,6],[14,10,14,11],[15,7,15,8],[15,10,15,11],[14,7,14,8],[12,10,12,11],[13,7,13,8],[13,10,13,11],[12,7,12,8],[18,10,18,11],[19,7,19,8],[19,10,19,11],[18,7,18,8],[16,10,16,11],[17,7,17,8],[17,10,17,11],[16,7,16,8],[22,10,22,11],[23,7,23,8],[23,10,23,11],[22,7,22,8],[20,10,20,11],[21,7,21,8],[21,10,21,11],[20,7,20,8],[26,10,26,11],[27,7,27,8],[27,10,27,11],[26,7,26,8],[24,10,24,11],[25,7,25,8],[25,10,25,11],[24,7,24,8],[30,10,30,11],[31,7,31,8],[31,10,31,11],[30,7,30,8],[28,10,28,11],[29,7,29,8],[29,10,29,11],[28,7,28,8],[34,10,34,11],[35,7,35,8],[35,10,35,11],[34,7,34,8],[32,10,32,11],[33,7,33,8],[33,10,33,11],[32,7,32,8],[38,10,38,11],[39,7,39,8],[39,10,39,11],[38,7,38,8],[36,10,36,11],[37,7,37,8],[37,10,37,11],[36,7,36,8],[42,10,42,11],[43,7,43,8],[43,10,43,11],[42,7,42,8],[40,10,40,11],[41,7,41,8],[41,10,41,11],[40,7,40,8],[46,10,46,11],[47,7,47,8],[47,10,47,11],[46,7,46,8],[44,10,44,11],[45,7,45,8],[45,10,45,11],[44,7,44,8],[50,10,50,11],[51,7,51,8],[51,10,51,11],[50,7,50,8],[48,10,48,11],[49,7,49,8],[49,10,49,11],[48,7,48,8],[54,10,54,11],[55,7,55,8],[55,10,55,11],[54,7,54,8],[52,10,52,11],[53,7,53,8],[53,10,53,11],[52,7,52,8],[58,10,58,11],[59,7,59,8],[59,10,59,11],[58,7,58,8],[56,10,56,11],[57,7,57,8],[57,10,57,11],[56,7,56,8],[62,10,62,11],[63,7,63,8],[63,10,63,11],[62,7,62,8],[60,10,60,11],[61,7,61,8],[61,10,61,11],[60,7,60,8],[66,10,66,11],[67,7,67,8],[67,10,67,11],[66,7,66,8],[64,10,64,11],[65,7,65,8],[65,10,65,11],[64,7,64,8],[70,10,70,11],[71,7,71,8],[71,10,71,11],[70,7,70,8],[68,10,68,11],[69,7,69,8],[69,10,69,11],[68,7,68,8],[74,10,74,11],[75,7,75,8],[75,10,75,11],[74,7,74,8],[72,10,72,11],[73,7,73,8],[73,10,73,11],[72,7,72,8],[78,10,78,11],[79,7,79,8],[79,10,79,11],[78,7,78,8],[76,10,76,11],[77,7,77,8],[77,10,77,11],[76,7,76,8],[82,10,82,11],[83,7,83,8],[83,10,83,11],[82,7,82,8],[80,10,80,11],[81,7,81,8],[81,10,81,11],[80,7,80,8],[86,10,86,11],[87,7,87,8],[87,10,87,11],[86,7,86,8],[84,10,84,11],[85,7,85,8],[85,10,85,11],[84,7,84,8],[90,10,90,11],[91,7,91,8],[91,10,91,11],[90,7,90,8],[88,10,88,11],[89,7,89,8],[89,10,89,11],[88,7,88,8],[94,10,94,11],[95,7,95,8],[95,10,95,11],[94,7,94,8],[92,10,92,11],[93,7,93,8],[93,10,93,11],[92,7,92,8],[98,10,98,11],[99,7,99,8],[99,10,99,11],[98,7,98,8],[96,10,96,11],[97,7,97,8],[97,10,97,11],[96,7,96,8],[102,10,102,11],[103,7,103,8],[103,10,103,11],[102,7,102,8],[100,10,100,11],[101,7,101,8],[101,10,101,11],[100,7,100,8],[106,10,106,11],[107,7,107,8],[107,10,107,11],[106,7,106,8],[104,10,104,11],[105,7,105,8],[105,10,105,11],[104,7,104,8],[110,10,110,11],[111,7,111,8],[111,10,111,11],[110,7,110,8],[108,10,108,11],[109,7,109,8],[109,10,109,11],[108,7,108,8],[114,10,114,11],[115,7,115,8],[115,10,115,11],[114,7,114,8],[112,10,112,11],[113,7,113,8],[113,10,113,11],[112,7,112,8],[118,10,118,11],[119,7,119,8],[119,10,119,11],[118,7,118,8],[116,10,116,11],[117,7,117,8],[117,10,117,11],[116,7,116,8],[122,10,122,11],[123,7,123,8],[123,10,123,11],[122,7,122,8],[120,10,120,11],[121,7,121,8],[121,10,121,11],[120,7,120,8],[126,10,126,11],[127,7,127,8],[127,10,127,11],[126,7,126,8],[124,10,124,11],[125,7,125,8],[125,10,125,11],[124,7,124,8],[130,10,130,11],[131,7,131,8],[131,10,131,11],[130,7,130,8],[128,10,128,11],[129,7,129,8],[129,10,129,11],[128,7,128,8],[134,10,134,11],[135,7,135,8],[135,10,135,11],[134,7,134,8],[132,10,132,11],[133,7,133,8],[133,10,133,11],[132,7,132,8],[138,10,138,11],[137,10,137,11],[136,7,136,8],[136,10,136,11],[137,7,137,8],[142,10,142,11],[143,7,143,8],[143,10,143,11],[142,7,142,8],[140,10,140,11],[141,7,141,8],[141,10,141,11],[140,7,140,8],[160,10,160,11],[160,7,160,8],[151,7,151,8],[151,10,151,11],[150,7,150,8],[148,10,148,11],[149,7,149,8],[149,10,149,11],[148,7,148,8],[154,10,154,11],[155,7,155,8],[155,10,155,11],[154,7,154,8],[152,10,152,11],[153,7,153,8],[153,10,153,11],[152,7,152,8],[150,10,150,11],[0,4,0,7],[2,2,2,5],[3,2,4,5],[158,10,158,11],[159,7,159,8],[159,10,159,11],[158,7,158,8],[156,10,156,11],[157,7,157,8],[157,10,157,11],[156,7,156,8],[146,10,146,11],[147,7,147,8],[147,10,147,11],[146,7,146,8],[144,10,144,11],[145,7,145,8],[145,10,145,11],[144,7,144,8],[139,7,139,8],[139,10,139,11],[138,7,138,8]]}
[null,null,"様式6-1",null,"※黄色で示している部分を入力して下さい"]
[null,null,"JLA　ACADEMY 資格認定講習会　総合結果表"]
[null,null,"講習会",null,null,null,"主管",null,null,"会場",null,null,"検定日",null,"検定責任者"]
[null,null,{"$f":"様式2!F12","v":"選択してください"},null,null,null,{"$f":"様式5!G4:J5","v":0},null,null,{"$f":"様式5!K4","v":0},null,null,{"$f":"様式2!H17&様式2!I17&様式2!J17&様式2!K17&様式2!L17&様式2!M17","v":"年月日"},null,{"$f":"様式5!O4","v":0}]
[]
[]
[null,null,"受験番号","申込番号","氏　名","フリガナ","合否\n\n※記入漏れが\nないよう、\nお願いします。","BLS（新規）",null,null,"更新（BLS，認定LS）",null,null,"WS"]
[null,null,null,null,null,null,null,"インストラクターの目視",null,"学科検定\n\n(80点以上合格)\n※点数を入力","インストラクターの目視",null,"学科検定\n\n(80点以上合格)\n※点数を入力","インストラクターの目視",null,null,null,"学科検定\n\n(80点以上合格)\n※点数を入力"]
[null,null,null,null,null,null,null,null,null,null,null,null,null,"入水の仕方","ｽｶｰﾘﾝｸﾞ\nﾎﾞﾃﾞｨｵﾘｴﾝﾃｰｼｮﾝ","ｻｳﾞｧｲﾊﾞﾙ・\nｽﾄﾗﾃｼﾞｰｽﾞ","ﾗｲﾌｾｰﾋﾞﾝｸﾞ\nｽﾄﾛｰｸ"]
[null,null,null,null,null,null,null,"手技・手順",null,null,"手技・手順",null,null,"スターアップリフト","ｷｯｸﾎﾞｰﾄﾞ\nｸﾙｰｼﾞﾝｸﾞ","PFD","ﾗｲﾌｾｰﾋﾞﾝｸﾞ\nﾊﾞｯｸｽﾄﾛｰｸ"]
[null,null,"例000",null,"協会　波子","キョウカイ　ナミコ","合格","×→○",null,100,"×→○",null,100,"○","○","○","○",100]
[null,null,"001",{"$f":"様式4!C8","v":0},{"$f":"様式4!D8","v":0},{"$f":"様式4!E8","v":0}]
[null,null,"002",{"$f":"様式4!C9","v":0},{"$f":"様式4!D9","v":0},{"$f":"様式4!E9","v":0}]
[null,null,"003",{"$f":"様式4!C10","v":0},{"$f":"様式4!D10","v":0},{"$f":"様式4!E10","v":0}]
[null,null,"004",{"$f":"様式4!C11","v":0},{"$f":"様式4!D11","v":0},{"$f":"様式4!E11","v":0}]
[null,null,"005",{"$f":"様式4!C12","v":0},{"$f":"様式4!D12","v":0},{"$f":"様式4!E12","v":0}]
[null,null,"006",{"$f":"様式4!C13","v":0},{"$f":"様式4!D13","v":0},{"$f":"様式4!E13","v":0}]
[null,null,"007",{"$f":"様式4!C14","v":0},{"$f":"様式4!D14","v":0},{"$f":"様式4!E14","v":0}]
[null,null,"008",{"$f":"様式4!C15","v":0},{"$f":"様式4!D15","v":0},{"$f":"様式4!E15","v":0}]
[null,null,"009",{"$f":"様式4!C16","v":0},{"$f":"様式4!D16","v":0},{"$f":"様式4!E16","v":0}]
[null,null,"010",{"$f":"様式4!C17","v":0},{"$f":"様式4!D17","v":0},{"$f":"様式4!E17","v":0}]
[null,null,"011",{"$f":"様式4!C18","v":0},{"$f":"様式4!D18","v":0},{"$f":"様式4!E18","v":0}]
[null,null,"012",{"$f":"様式4!C19","v":0},{"$f":"様式4!D19","v":0},{"$f":"様式4!E19","v":0}]
[null,null,"013",{"$f":"様式4!C20","v":0},{"$f":"様式4!D20","v":0},{"$f":"様式4!E20","v":0}]
[null,null,"014",{"$f":"様式4!C21","v":0},{"$f":"様式4!D21","v":0},{"$f":"様式4!E21","v":0}]
[null,null,"015",{"$f":"様式4!C22","v":0},{"$f":"様式4!D22","v":0},{"$f":"様式4!E22","v":0}]
[null,null,"016",{"$f":"様式4!C23","v":0},{"$f":"様式4!D23","v":0},{"$f":"様式4!E23","v":0}]
[null,null,"017",{"$f":"様式4!C24","v":0},{"$f":"様式4!D24","v":0},{"$f":"様式4!E24","v":0}]
[null,null,"018",{"$f":"様式4!C25","v":0},{"$f":"様式4!D25","v":0},{"$f":"様式4!E25","v":0}]
[null,null,"019",{"$f":"様式4!C26","v":0},{"$f":"様式4!D26","v":0},{"$f":"様式4!E26","v":0}]
[null,null,"020",{"$f":"様式4!C27","v":0},{"$f":"様式4!D27","v":0},{"$f":"様式4!E27","v":0}]
[null,null,"021",{"$f":"様式4!C28","v":0},{"$f":"様式4!D28","v":0},{"$f":"様式4!E28","v":0}]
[null,null,"022",{"$f":"様式4!C29","v":0},{"$f":"様式4!D29","v":0},{"$f":"様式4!E29","v":0}]
[null,null,"023",{"$f":"様式4!C30","v":0},{"$f":"様式4!D30","v":0},{"$f":"様式4!E30","v":0}]
[null,null,"024",{"$f":"様式4!C31","v":0},{"$f":"様式4!D31","v":0},{"$f":"様式4!E31","v":0}]
[null,null,"025",{"$f":"様式4!C32","v":0},{"$f":"様式4!D32","v":0},{"$f":"様式4!E32","v":0}]
[null,null,"026",{"$f":"様式4!C33","v":0},{"$f":"様式4!D33","v":0},{"$f":"様式4!E33","v":0}]
[null,null,"027",{"$f":"様式4!C34","v":0},{"$f":"様式4!D34","v":0},{"$f":"様式4!E34","v":0}]
[null,null,"028",{"$f":"様式4!C35","v":0},{"$f":"様式4!D35","v":0},{"$f":"様式4!E35","v":0}]
[null,null,"029",{"$f":"様式4!C36","v":0},{"$f":"様式4!D36","v":0},{"$f":"様式4!E36","v":0}]
[null,null,"030",{"$f":"様式4!C37","v":0},{"$f":"様式4!D37","v":0},{"$f":"様式4!E37","v":0}]
[null,null,"031",{"$f":"様式4!C38","v":0},{"$f":"様式4!D38","v":0},{"$f":"様式4!E38","v":0}]
[null,null,"032",{"$f":"様式4!C39","v":0},{"$f":"様式4!D39","v":0},{"$f":"様式4!E39","v":0}]
[null,null,"033",{"$f":"様式4!C40","v":0},{"$f":"様式4!D40","v":0},{"$f":"様式4!E40","v":0}]
[null,null,"034",{"$f":"様式4!C41","v":0},{"$f":"様式4!D41","v":0},{"$f":"様式4!E41","v":0}]
[null,null,"035",{"$f":"様式4!C42","v":0},{"$f":"様式4!D42","v":0},{"$f":"様式4!E42","v":0}]
[null,null,"036",{"$f":"様式4!C43","v":0},{"$f":"様式4!D43","v":0},{"$f":"様式4!E43","v":0}]
[null,null,"037",{"$f":"様式4!C44","v":0},{"$f":"様式4!D44","v":0},{"$f":"様式4!E44","v":0}]
[null,null,"038",{"$f":"様式4!C45","v":0},{"$f":"様式4!D45","v":0},{"$f":"様式4!E45","v":0}]
[null,null,"039",{"$f":"様式4!C46","v":0},{"$f":"様式4!D46","v":0},{"$f":"様式4!E46","v":0}]
[null,null,"040",{"$f":"様式4!C47","v":0},{"$f":"様式4!D47","v":0},{"$f":"様式4!E47","v":0}]
[null,null,"041",{"$f":"様式4!C48","v":0},{"$f":"様式4!D48","v":0},{"$f":"様式4!E48","v":0}]
[null,null,"042",{"$f":"様式4!C49","v":0},{"$f":"様式4!D49","v":0},{"$f":"様式4!E49","v":0}]
[null,null,"043",{"$f":"様式4!C50","v":0},{"$f":"様式4!D50","v":0},{"$f":"様式4!E50","v":0}]
[null,null,"044",{"$f":"様式4!C51","v":0},{"$f":"様式4!D51","v":0},{"$f":"様式4!E51","v":0}]
[null,null,"045",{"$f":"様式4!C52","v":0},{"$f":"様式4!D52","v":0},{"$f":"様式4!E52","v":0}]
[null,null,"046",{"$f":"様式4!C53","v":0},{"$f":"様式4!D53","v":0},{"$f":"様式4!E53","v":0}]
[null,null,"047",{"$f":"様式4!C54","v":0},{"$f":"様式4!D54","v":0},{"$f":"様式4!E54","v":0}]
[null,null,"048",{"$f":"様式4!C55","v":0},{"$f":"様式4!D55","v":0},{"$f":"様式4!E55","v":0}]
[null,null,"049",{"$f":"様式4!C56","v":0},{"$f":"様式4!D56","v":0},{"$f":"様式4!E56","v":0}]
[null,null,"050",{"$f":"様式4!C57","v":0},{"$f":"様式4!D57","v":0},{"$f":"様式4!E57","v":0}]
[null,null,"051",{"$f":"様式4!C58","v":0},{"$f":"様式4!D58","v":0},{"$f":"様式4!E58","v":0}]
[null,null,"052",{"$f":"様式4!C59","v":0},{"$f":"様式4!D59","v":0},{"$f":"様式4!E59","v":0}]
[null,null,"053",{"$f":"様式4!C60","v":0},{"$f":"様式4!D60","v":0},{"$f":"様式4!E60","v":0}]
[null,null,"054",{"$f":"様式4!C61","v":0},{"$f":"様式4!D61","v":0},{"$f":"様式4!E61","v":0}]
[null,null,"055",{"$f":"様式4!C62","v":0},{"$f":"様式4!D62","v":0},{"$f":"様式4!E62","v":0}]
[null,null,"056",{"$f":"様式4!C63","v":0},{"$f":"様式4!D63","v":0},{"$f":"様式4!E63","v":0}]
[null,null,"057",{"$f":"様式4!C64","v":0},{"$f":"様式4!D64","v":0},{"$f":"様式4!E64","v":0}]
[null,null,"058",{"$f":"様式4!C65","v":0},{"$f":"様式4!D65","v":0},{"$f":"様式4!E65","v":0}]
[null,null,"059",{"$f":"様式4!C66","v":0},{"$f":"様式4!D66","v":0},{"$f":"様式4!E66","v":0}]
[null,null,"060",{"$f":"様式4!C67","v":0},{"$f":"様式4!D67","v":0},{"$f":"様式4!E67","v":0}]
[null,null,"061",{"$f":"様式4!C68","v":0},{"$f":"様式4!D68","v":0},{"$f":"様式4!E68","v":0}]
[null,null,"062",{"$f":"様式4!C69","v":0},{"$f":"様式4!D69","v":0},{"$f":"様式4!E69","v":0}]
[null,null,"063",{"$f":"様式4!C70","v":0},{"$f":"様式4!D70","v":0},{"$f":"様式4!E70","v":0}]
[null,null,"064",{"$f":"様式4!C71","v":0},{"$f":"様式4!D71","v":0},{"$f":"様式4!E71","v":0}]
[null,null,"065",{"$f":"様式4!C72","v":0},{"$f":"様式4!D72","v":0},{"$f":"様式4!E72","v":0}]
[null,null,"066",{"$f":"様式4!C73","v":0},{"$f":"様式4!D73","v":0},{"$f":"様式4!E73","v":0}]
[null,null,"067",{"$f":"様式4!C74","v":0},{"$f":"様式4!D74","v":0},{"$f":"様式4!E74","v":0}]
[null,null,"068",{"$f":"様式4!C75","v":0},{"$f":"様式4!D75","v":0},{"$f":"様式4!E75","v":0}]
[null,null,"069",{"$f":"様式4!C76","v":0},{"$f":"様式4!D76","v":0},{"$f":"様式4!E76","v":0}]
[null,null,"070",{"$f":"様式4!C77","v":0},{"$f":"様式4!D77","v":0},{"$f":"様式4!E77","v":0}]
[null,null,"071",{"$f":"様式4!C78","v":0},{"$f":"様式4!D78","v":0},{"$f":"様式4!E78","v":0}]
[null,null,"072",{"$f":"様式4!C79","v":0},{"$f":"様式4!D79","v":0},{"$f":"様式4!E79","v":0}]
[null,null,"073",{"$f":"様式4!C80","v":0},{"$f":"様式4!D80","v":0},{"$f":"様式4!E80","v":0}]
[null,null,"074",{"$f":"様式4!C81","v":0},{"$f":"様式4!D81","v":0},{"$f":"様式4!E81","v":0}]
[null,null,"075",{"$f":"様式4!C82","v":0},{"$f":"様式4!D82","v":0},{"$f":"様式4!E82","v":0}]
[null,null,"076",{"$f":"様式4!C83","v":0},{"$f":"様式4!D83","v":0},{"$f":"様式4!E83","v":0}]
[null,null,"077",{"$f":"様式4!C84","v":0},{"$f":"様式4!D84","v":0},{"$f":"様式4!E84","v":0}]
[null,null,"078",{"$f":"様式4!C85","v":0},{"$f":"様式4!D85","v":0},{"$f":"様式4!E85","v":0}]
[null,null,"079",{"$f":"様式4!C86","v":0},{"$f":"様式4!D86","v":0},{"$f":"様式4!E86","v":0}]
[null,null,"080",{"$f":"様式4!C87","v":0},{"$f":"様式4!D87","v":0},{"$f":"様式4!E87","v":0}]
[null,null,"081",{"$f":"様式4!C88","v":0},{"$f":"様式4!D88","v":0},{"$f":"様式4!E88","v":0}]
[null,null,"082",{"$f":"様式4!C89","v":0},{"$f":"様式4!D89","v":0},{"$f":"様式4!E89","v":0}]
[null,null,"083",{"$f":"様式4!C90","v":0},{"$f":"様式4!D90","v":0},{"$f":"様式4!E90","v":0}]
[null,null,"084",{"$f":"様式4!C91","v":0},{"$f":"様式4!D91","v":0},{"$f":"様式4!E91","v":0}]
[null,null,"085",{"$f":"様式4!C92","v":0},{"$f":"様式4!D92","v":0},{"$f":"様式4!E92","v":0}]
[null,null,"086",{"$f":"様式4!C93","v":0},{"$f":"様式4!D93","v":0},{"$f":"様式4!E93","v":0}]
[null,null,"087",{"$f":"様式4!C94","v":0},{"$f":"様式4!D94","v":0},{"$f":"様式4!E94","v":0}]
[null,null,"088",{"$f":"様式4!C95","v":0},{"$f":"様式4!D95","v":0},{"$f":"様式4!E95","v":0}]
[null,null,"089",{"$f":"様式4!C96","v":0},{"$f":"様式4!D96","v":0},{"$f":"様式4!E96","v":0}]
[null,null,"090",{"$f":"様式4!C97","v":0},{"$f":"様式4!D97","v":0},{"$f":"様式4!E97","v":0}]
[null,null,"091",{"$f":"様式4!C98","v":0},{"$f":"様式4!D98","v":0},{"$f":"様式4!E98","v":0}]
[null,null,"092",{"$f":"様式4!C99","v":0},{"$f":"様式4!D99","v":0},{"$f":"様式4!E99","v":0}]
[null,null,"093",{"$f":"様式4!C100","v":0},{"$f":"様式4!D100","v":0},{"$f":"様式4!E100","v":0}]
[null,null,"094",{"$f":"様式4!C101","v":0},{"$f":"様式4!D101","v":0},{"$f":"様式4!E101","v":0}]
[null,null,"095",{"$f":"様式4!C102","v":0},{"$f":"様式4!D102","v":0},{"$f":"様式4!E102","v":0}]
[null,null,"096",{"$f":"様式4!C103","v":0},{"$f":"様式4!D103","v":0},{"$f":"様式4!E103","v":0}]
[null,null,"097",{"$f":"様式4!C104","v":0},{"$f":"様式4!D104","v":0},{"$f":"様式4!E104","v":0}]
[null,null,"098",{"$f":"様式4!C105","v":0},{"$f":"様式4!D105","v":0},{"$f":"様式4!E105","v":0}]
[null,null,"099",{"$f":"様式4!C106","v":0},{"$f":"様式4!D106","v":0},{"$f":"様式4!E106","v":0}]
[null,null,"100",{"$f":"様式4!C107","v":0},{"$f":"様式4!D107","v":0},{"$f":"様式4!E107","v":0}]
[null,null,"101",{"$f":"様式4!C108","v":0},{"$f":"様式4!D108","v":0},{"$f":"様式4!E108","v":0}]
[null,null,"102",{"$f":"様式4!C109","v":0},{"$f":"様式4!D109","v":0},{"$f":"様式4!E109","v":0}]
[null,null,"103",{"$f":"様式4!C110","v":0},{"$f":"様式4!D110","v":0},{"$f":"様式4!E110","v":0}]
[null,null,"104",{"$f":"様式4!C111","v":0},{"$f":"様式4!D111","v":0},{"$f":"様式4!E111","v":0}]
[null,null,"105",{"$f":"様式4!C112","v":0},{"$f":"様式4!D112","v":0},{"$f":"様式4!E112","v":0}]
[null,null,"106",{"$f":"様式4!C113","v":0},{"$f":"様式4!D113","v":0},{"$f":"様式4!E113","v":0}]
[null,null,"107",{"$f":"様式4!C114","v":0},{"$f":"様式4!D114","v":0},{"$f":"様式4!E114","v":0}]
[null,null,"108",{"$f":"様式4!C115","v":0},{"$f":"様式4!D115","v":0},{"$f":"様式4!E115","v":0}]
[null,null,"109",{"$f":"様式4!C116","v":0},{"$f":"様式4!D116","v":0},{"$f":"様式4!E116","v":0}]
[null,null,"110",{"$f":"様式4!C117","v":0},{"$f":"様式4!D117","v":0},{"$f":"様式4!E117","v":0}]
[null,null,"111",{"$f":"様式4!C118","v":0},{"$f":"様式4!D118","v":0},{"$f":"様式4!E118","v":0}]
[null,null,"112",{"$f":"様式4!C119","v":0},{"$f":"様式4!D119","v":0},{"$f":"様式4!E119","v":0}]
[null,null,"113",{"$f":"様式4!C120","v":0},{"$f":"様式4!D120","v":0},{"$f":"様式4!E120","v":0}]
[null,null,"114",{"$f":"様式4!C121","v":0},{"$f":"様式4!D121","v":0},{"$f":"様式4!E121","v":0}]
[null,null,"115",{"$f":"様式4!C122","v":0},{"$f":"様式4!D122","v":0},{"$f":"様式4!E122","v":0}]
[null,null,"116",{"$f":"様式4!C123","v":0},{"$f":"様式4!D123","v":0},{"$f":"様式4!E123","v":0}]
[null,null,"117",{"$f":"様式4!C124","v":0},{"$f":"様式4!D124","v":0},{"$f":"様式4!E124","v":0}]
[null,null,"118",{"$f":"様式4!C125","v":0},{"$f":"様式4!D125","v":0},{"$f":"様式4!E125","v":0}]
[null,null,"119",{"$f":"様式4!C126","v":0},{"$f":"様式4!D126","v":0},{"$f":"様式4!E126","v":0}]
[null,null,"120",{"$f":"様式4!C127","v":0},{"$f":"様式4!D127","v":0},{"$f":"様式4!E127","v":0}]
[null,null,"121",{"$f":"様式4!C128","v":0},{"$f":"様式4!D128","v":0},{"$f":"様式4!E128","v":0}]
[null,null,"122",{"$f":"様式4!C129","v":0},{"$f":"様式4!D129","v":0},{"$f":"様式4!E129","v":0}]
[null,null,"123",{"$f":"様式4!C130","v":0},{"$f":"様式4!D130","v":0},{"$f":"様式4!E130","v":0}]
[null,null,"124",{"$f":"様式4!C131","v":0},{"$f":"様式4!D131","v":0},{"$f":"様式4!E131","v":0}]
[null,null,"125",{"$f":"様式4!C132","v":0},{"$f":"様式4!D132","v":0},{"$f":"様式4!E132","v":0}]
[null,null,"126",{"$f":"様式4!C133","v":0},{"$f":"様式4!D133","v":0},{"$f":"様式4!E133","v":0}]
[null,null,"127",{"$f":"様式4!C134","v":0},{"$f":"様式4!D134","v":0},{"$f":"様式4!E134","v":0}]
[null,null,"128",{"$f":"様式4!C135","v":0},{"$f":"様式4!D135","v":0},{"$f":"様式4!E135","v":0}]
[null,null,"129",{"$f":"様式4!C136","v":0},{"$f":"様式4!D136","v":0},{"$f":"様式4!E136","v":0}]
[null,null,"130",{"$f":"様式4!C137","v":0},{"$f":"様式4!D137","v":0},{"$f":"様式4!E137","v":0}]
[null,null,"131",{"$f":"様式4!C138","v":0},{"$f":"様式4!D138","v":0},{"$f":"様式4!E138","v":0}]
[null,null,"132",{"$f":"様式4!C139","v":0},{"$f":"様式4!D139","v":0},{"$f":"様式4!E139","v":0}]
[null,null,"133",{"$f":"様式4!C140","v":0},{"$f":"様式4!D140","v":0},{"$f":"様式4!E140","v":0}]
[null,null,"134",{"$f":"様式4!C141","v":0},{"$f":"様式4!D141","v":0},{"$f":"様式4!E141","v":0}]
[null,null,"135",{"$f":"様式4!C142","v":0},{"$f":"様式4!D142","v":0},{"$f":"様式4!E142","v":0}]
[null,null,"136",{"$f":"様式4!C143","v":0},{"$f":"様式4!D143","v":0},{"$f":"様式4!E143","v":0}]
[null,null,"137",{"$f":"様式4!C144","v":0},{"$f":"様式4!D144","v":0},{"$f":"様式4!E144","v":0}]
[null,null,"138",{"$f":"様式4!C145","v":0},{"$f":"様式4!D145","v":0},{"$f":"様式4!E145","v":0}]
[null,null,"139",{"$f":"様式4!C146","v":0},{"$f":"様式4!D146","v":0},{"$f":"様式4!E146","v":0}]
[null,null,"140",{"$f":"様式4!C147","v":0},{"$f":"様式4!D147","v":0},{"$f":"様式4!E147","v":0}]
[null,null,"141",{"$f":"様式4!C148","v":0},{"$f":"様式4!D148","v":0},{"$f":"様式4!E148","v":0}]
[null,null,"142",{"$f":"様式4!C149","v":0},{"$f":"様式4!D149","v":0},{"$f":"様式4!E149","v":0}]
[null,null,"143",{"$f":"様式4!C150","v":0},{"$f":"様式4!D150","v":0},{"$f":"様式4!E150","v":0}]
[null,null,"144",{"$f":"様式4!C151","v":0},{"$f":"様式4!D151","v":0},{"$f":"様式4!E151","v":0}]
[null,null,"145",{"$f":"様式4!C152","v":0},{"$f":"様式4!D152","v":0},{"$f":"様式4!E152","v":0}]
[null,null,"146",{"$f":"様式4!C153","v":0},{"$f":"様式4!D153","v":0},{"$f":"様式4!E153","v":0}]
[null,null,"147",{"$f":"様式4!C154","v":0},{"$f":"様式4!D154","v":0},{"$f":"様式4!E154","v":0}]
[null,null,"148",{"$f":"様式4!C155","v":0},{"$f":"様式4!D155","v":0},{"$f":"様式4!E155","v":0}]
[null,null,"149",{"$f":"様式4!C156","v":0},{"$f":"様式4!D156","v":0},{"$f":"様式4!E156","v":0}]
[null,null,"150",{"$f":"様式4!C157","v":0},{"$f":"様式4!D157","v":0},{"$f":"様式4!E157","v":0}]

{"sheet":"様式6-2","index":6,"n_rows":161,"n_cols":24,"rows_kept":161,"cut":false,"hidden":false,"merged":[[0,4,0,6],[7,21,8,22],[7,23,9,23],[7,13,9,13],[7,14,9,14],[7,15,9,15],[7,16,9,16],[7,17,9,17],[7,18,9,18],[7,10,9,10],[7,11,9,11],[7,19,9,19],[7,20,9,20],[7,12,9,12],[6,7,6,12],[6,13,6,20],[6,21,6,23],[3,2,4,5],[3,6,4,8],[3,9,4,11],[3,12,4,13],[3,14,4,16],[6,2,9,2],[6,3,9,3],[6,4,9,4],[6,5,9,5],[6,6,9,6],[7,7,9,7],[7,8,9,8],[7,9,9,9],[1,2,1,16],[2,2,2,5],[2,6,2,8],[2,9,2,11],[2,12,2,13],[2,14,2,16]]}
[null,null,"様式6-2",null,"※黄色で示している部分を入力して下さい"]
[null,null,"JLA　ACADEMY 資格認定講習会　総合結果表"]
[null,null,"講習会",null,null,null,"主管",null,null,"会場",null,null,"検定日",null,"検定責任者"]
[null,null,{"$f":"様式2!F12","v":"選択してください"},null,null,null,{"$f":"様式5!G4:J5","v":0},null,null,{"$f":"様式5!K4","v":0},null,null,{"$f":"様式2!H17&様式2!I17&様式2!J17&様式2!K17&様式2!L17&様式2!M17","v":"年月日"},null,{"$f":"様式5!O4","v":0}]
[]
[]
[null,null,"受験番号","申込番号","氏　名","フリガナ","合否\n\n※記入漏れが\nないよう、\nお願いします。","ベーシック・ライフセービング",null,null,null,null,null,"アドバンス・サーフ・ライフセービング",null,null,null,null,null,null,null,"プール・ライフガーディング"]
[null,null,null,null,null,null,null,"R・S・R","ボード\nレスキュー","チューブ\nレスキュー","溺水2メン\nBLS","F・A","学科検定\n\n(80点以上合格)\n※点数を入力","RSRBRTR","ボード\nレスキュー","チューブ\nレスキュー","熟練救助者\nBLS","PBLS","ロープ","救助\nｼﾐｭﾚｰｼｮﾝ","学科検定\n\n(80点以上合格)\n※点数を入力","学科理解度テスト\nフィードバック実施",null,"実技検定"]
[]
[null,null,null,null,null,null,null,null,null,null,null,null,null,null,null,null,null,null,null,null,null,"＜１＞","＜２＞"]
[null,null,"例000",null,"協会　波子","キョウカイ　ナミコ","合格","○","○","○","○","○",100,"○","○","○","○","○","○","○",100,"○","○","○"]
[null,null,"001",{"$f":"様式4!C8","v":0},{"$f":"様式4!D8","v":0},{"$f":"様式4!E8","v":0}]
[null,null,"002",{"$f":"様式4!C9","v":0},{"$f":"様式4!D9","v":0},{"$f":"様式4!E9","v":0}]
[null,null,"003",{"$f":"様式4!C10","v":0},{"$f":"様式4!D10","v":0},{"$f":"様式4!E10","v":0}]
[null,null,"004",{"$f":"様式4!C11","v":0},{"$f":"様式4!D11","v":0},{"$f":"様式4!E11","v":0}]
[null,null,"005",{"$f":"様式4!C12","v":0},{"$f":"様式4!D12","v":0},{"$f":"様式4!E12","v":0}]
[null,null,"006",{"$f":"様式4!C13","v":0},{"$f":"様式4!D13","v":0},{"$f":"様式4!E13","v":0}]
[null,null,"007",{"$f":"様式4!C14","v":0},{"$f":"様式4!D14","v":0},{"$f":"様式4!E14","v":0}]
[null,null,"008",{"$f":"様式4!C15","v":0},{"$f":"様式4!D15","v":0},{"$f":"様式4!E15","v":0}]
[null,null,"009",{"$f":"様式4!C16","v":0},{"$f":"様式4!D16","v":0},{"$f":"様式4!E16","v":0}]
[null,null,"010",{"$f":"様式4!C17","v":0},{"$f":"様式4!D17","v":0},{"$f":"様式4!E17","v":0}]
[null,null,"011",{"$f":"様式4!C18","v":0},{"$f":"様式4!D18","v":0},{"$f":"様式4!E18","v":0}]
[null,null,"012",{"$f":"様式4!C19","v":0},{"$f":"様式4!D19","v":0},{"$f":"様式4!E19","v":0}]
[null,null,"013",{"$f":"様式4!C20","v":0},{"$f":"様式4!D20","v":0},{"$f":"様式4!E20","v":0}]
[null,null,"014",{"$f":"様式4!C21","v":0},{"$f":"様式4!D21","v":0},{"$f":"様式4!E21","v":0}]
[null,null,"015",{"$f":"様式4!C22","v":0},{"$f":"様式4!D22","v":0},{"$f":"様式4!E22","v":0}]
[null,null,"016",{"$f":"様式4!C23","v":0},{"$f":"様式4!D23","v":0},{"$f":"様式4!E23","v":0}]
[null,null,"017",{"$f":"様式4!C24","v":0},{"$f":"様式4!D24","v":0},{"$f":"様式4!E24","v":0}]
[null,null,"018",{"$f":"様式4!C25","v":0},{"$f":"様式4!D25","v":0},{"$f":"様式4!E25","v":0}]
[null,null,"019",{"$f":"様式4!C26","v":0},{"$f":"様式4!D26","v":0},{"$f":"様式4!E26","v":0}]
[null,null,"020",{"$f":"様式4!C27","v":0},{"$f":"様式4!D27","v":0},{"$f":"様式4!E27","v":0}]
[null,null,"021",{"$f":"様式4!C28","v":0},{"$f":"様式4!D28","v":0},{"$f":"様式4!E28","v":0}]
[null,null,"022",{"$f":"様式4!C29","v":0},{"$f":"様式4!D29","v":0},{"$f":"様式4!E29","v":0}]
[null,null,"023",{"$f":"様式4!C30","v":0},{"$f":"様式4!D30","v":0},{"$f":"様式4!E30","v":0}]
[null,null,"024",{"$f":"様式4!C31","v":0},{"$f":"様式4!D31","v":0},{"$f":"様式4!E31","v":0}]
[null,null,"025",{"$f":"様式4!C32","v":0},{"$f":"様式4!D32","v":0},{"$f":"様式4!E32","v":0}]
[null,null,"026",{"$f":"様式4!C33","v":0},{"$f":"様式4!D33","v":0},{"$f":"様式4!E33","v":0}]
[null,null,"027",{"$f":"様式4!C34","v":0},{"$f":"様式4!D34","v":0},{"$f":"様式4!E34","v":0}]
[null,null,"028",{"$f":"様式4!C35","v":0},{"$f":"様式4!D35","v":0},{"$f":"様式4!E35","v":0}]
[null,null,"029",{"$f":"様式4!C36","v":0},{"$f":"様式4!D36","v":0},{"$f":"様式4!E36","v":0}]
[null,null,"030",{"$f":"様式4!C37","v":0},{"$f":"様式4!D37","v":0},{"$f":"様式4!E37","v":0}]
[null,null,"031",{"$f":"様式4!C38","v":0},{"$f":"様式4!D38","v":0},{"$f":"様式4!E38","v":0}]
[null,null,"032",{"$f":"様式4!C39","v":0},{"$f":"様式4!D39","v":0},{"$f":"様式4!E39","v":0}]
[null,null,"033",{"$f":"様式4!C40","v":0},{"$f":"様式4!D40","v":0},{"$f":"様式4!E40","v":0}]
[null,null,"034",{"$f":"様式4!C41","v":0},{"$f":"様式4!D41","v":0},{"$f":"様式4!E41","v":0}]
[null,null,"035",{"$f":"様式4!C42","v":0},{"$f":"様式4!D42","v":0},{"$f":"様式4!E42","v":0}]
[null,null,"036",{"$f":"様式4!C43","v":0},{"$f":"様式4!D43","v":0},{"$f":"様式4!E43","v":0}]
[null,null,"037",{"$f":"様式4!C44","v":0},{"$f":"様式4!D44","v":0},{"$f":"様式4!E44","v":0}]
[null,null,"038",{"$f":"様式4!C45","v":0},{"$f":"様式4!D45","v":0},{"$f":"様式4!E45","v":0}]
[null,null,"039",{"$f":"様式4!C46","v":0},{"$f":"様式4!D46","v":0},{"$f":"様式4!E46","v":0}]
[null,null,"040",{"$f":"様式4!C47","v":0},{"$f":"様式4!D47","v":0},{"$f":"様式4!E47","v":0}]
[null,null,"041",{"$f":"様式4!C48","v":0},{"$f":"様式4!D48","v":0},{"$f":"様式4!E48","v":0}]
[null,null,"042",{"$f":"様式4!C49","v":0},{"$f":"様式4!D49","v":0},{"$f":"様式4!E49","v":0}]
[null,null,"043",{"$f":"様式4!C50","v":0},{"$f":"様式4!D50","v":0},{"$f":"様式4!E50","v":0}]
[null,null,"044",{"$f":"様式4!C51","v":0},{"$f":"様式4!D51","v":0},{"$f":"様式4!E51","v":0}]
[null,null,"045",{"$f":"様式4!C52","v":0},{"$f":"様式4!D52","v":0},{"$f":"様式4!E52","v":0}]
[null,null,"046",{"$f":"様式4!C53","v":0},{"$f":"様式4!D53","v":0},{"$f":"様式4!E53","v":0}]
[null,null,"047",{"$f":"様式4!C54","v":0},{"$f":"様式4!D54","v":0},{"$f":"様式4!E54","v":0}]
[null,null,"048",{"$f":"様式4!C55","v":0},{"$f":"様式4!D55","v":0},{"$f":"様式4!E55","v":0}]
[null,null,"049",{"$f":"様式4!C56","v":0},{"$f":"様式4!D56","v":0},{"$f":"様式4!E56","v":0}]
[null,null,"050",{"$f":"様式4!C57","v":0},{"$f":"様式4!D57","v":0},{"$f":"様式4!E57","v":0}]
[null,null,"051",{"$f":"様式4!C58","v":0},{"$f":"様式4!D58","v":0},{"$f":"様式4!E58","v":0}]
[null,null,"052",{"$f":"様式4!C59","v":0},{"$f":"様式4!D59","v":0},{"$f":"様式4!E59","v":0}]
[null,null,"053",{"$f":"様式4!C60","v":0},{"$f":"様式4!D60","v":0},{"$f":"様式4!E60","v":0}]
[null,null,"054",{"$f":"様式4!C61","v":0},{"$f":"様式4!D61","v":0},{"$f":"様式4!E61","v":0}]
[null,null,"055",{"$f":"様式4!C62","v":0},{"$f":"様式4!D62","v":0},{"$f":"様式4!E62","v":0}]
[null,null,"056",{"$f":"様式4!C63","v":0},{"$f":"様式4!D63","v":0},{"$f":"様式4!E63","v":0}]
[null,null,"057",{"$f":"様式4!C64","v":0},{"$f":"様式4!D64","v":0},{"$f":"様式4!E64","v":0}]
[null,null,"058",{"$f":"様式4!C65","v":0},{"$f":"様式4!D65","v":0},{"$f":"様式4!E65","v":0}]
[null,null,"059",{"$f":"様式4!C66","v":0},{"$f":"様式4!D66","v":0},{"$f":"様式4!E66","v":0}]
[null,null,"060",{"$f":"様式4!C67","v":0},{"$f":"様式4!D67","v":0},{"$f":"様式4!E67","v":0}]
[null,null,"061",{"$f":"様式4!C68","v":0},{"$f":"様式4!D68","v":0},{"$f":"様式4!E68","v":0}]
[null,null,"062",{"$f":"様式4!C69","v":0},{"$f":"様式4!D69","v":0},{"$f":"様式4!E69","v":0}]
[null,null,"063",{"$f":"様式4!C70","v":0},{"$f":"様式4!D70","v":0},{"$f":"様式4!E70","v":0}]
[null,null,"064",{"$f":"様式4!C71","v":0},{"$f":"様式4!D71","v":0},{"$f":"様式4!E71","v":0}]
[null,null,"065",{"$f":"様式4!C72","v":0},{"$f":"様式4!D72","v":0},{"$f":"様式4!E72","v":0}]
[null,null,"066",{"$f":"様式4!C73","v":0},{"$f":"様式4!D73","v":0},{"$f":"様式4!E73","v":0}]
[null,null,"067",{"$f":"様式4!C74","v":0},{"$f":"様式4!D74","v":0},{"$f":"様式4!E74","v":0}]
[null,null,"068",{"$f":"様式4!C75","v":0},{"$f":"様式4!D75","v":0},{"$f":"様式4!E75","v":0}]
[null,null,"069",{"$f":"様式4!C76","v":0},{"$f":"様式4!D76","v":0},{"$f":"様式4!E76","v":0}]
[null,null,"070",{"$f":"様式4!C77","v":0},{"$f":"様式4!D77","v":0},{"$f":"様式4!E77","v":0}]
[null,null,"071",{"$f":"様式4!C78","v":0},{"$f":"様式4!D78","v":0},{"$f":"様式4!E78","v":0}]
[null,null,"072",{"$f":"様式4!C79","v":0},{"$f":"様式4!D79","v":0},{"$f":"様式4!E79","v":0}]
[null,null,"073",{"$f":"様式4!C80","v":0},{"$f":"様式4!D80","v":0},{"$f":"様式4!E80","v":0}]
[null,null,"074",{"$f":"様式4!C81","v":0},{"$f":"様式4!D81","v":0},{"$f":"様式4!E81","v":0}]
[null,null,"075",{"$f":"様式4!C82","v":0},{"$f":"様式4!D82","v":0},{"$f":"様式4!E82","v":0}]
[null,null,"076",{"$f":"様式4!C83","v":0},{"$f":"様式4!D83","v":0},{"$f":"様式4!E83","v":0}]
[null,null,"077",{"$f":"様式4!C84","v":0},{"$f":"様式4!D84","v":0},{"$f":"様式4!E84","v":0}]
[null,null,"078",{"$f":"様式4!C85","v":0},{"$f":"様式4!D85","v":0},{"$f":"様式4!E85","v":0}]
[null,null,"079",{"$f":"様式4!C86","v":0},{"$f":"様式4!D86","v":0},{"$f":"様式4!E86","v":0}]
[null,null,"080",{"$f":"様式4!C87","v":0},{"$f":"様式4!D87","v":0},{"$f":"様式4!E87","v":0}]
[null,null,"081",{"$f":"様式4!C88","v":0},{"$f":"様式4!D88","v":0},{"$f":"様式4!E88","v":0}]
[null,null,"082",{"$f":"様式4!C89","v":0},{"$f":"様式4!D89","v":0},{"$f":"様式4!E89","v":0}]
[null,null,"083",{"$f":"様式4!C90","v":0},{"$f":"様式4!D90","v":0},{"$f":"様式4!E90","v":0}]
[null,null,"084",{"$f":"様式4!C91","v":0},{"$f":"様式4!D91","v":0},{"$f":"様式4!E91","v":0}]
[null,null,"085",{"$f":"様式4!C92","v":0},{"$f":"様式4!D92","v":0},{"$f":"様式4!E92","v":0}]
[null,null,"086",{"$f":"様式4!C93","v":0},{"$f":"様式4!D93","v":0},{"$f":"様式4!E93","v":0}]
[null,null,"087",{"$f":"様式4!C94","v":0},{"$f":"様式4!D94","v":0},{"$f":"様式4!E94","v":0}]
[null,null,"088",{"$f":"様式4!C95","v":0},{"$f":"様式4!D95","v":0},{"$f":"様式4!E95","v":0}]
[null,null,"089",{"$f":"様式4!C96","v":0},{"$f":"様式4!D96","v":0},{"$f":"様式4!E96","v":0}]
[null,null,"090",{"$f":"様式4!C97","v":0},{"$f":"様式4!D97","v":0},{"$f":"様式4!E97","v":0}]
[null,null,"091",{"$f":"様式4!C98","v":0},{"$f":"様式4!D98","v":0},{"$f":"様式4!E98","v":0}]
[null,null,"092",{"$f":"様式4!C99","v":0},{"$f":"様式4!D99","v":0},{"$f":"様式4!E99","v":0}]
[null,null,"093",{"$f":"様式4!C100","v":0},{"$f":"様式4!D100","v":0},{"$f":"様式4!E100","v":0}]
[null,null,"094",{"$f":"様式4!C101","v":0},{"$f":"様式4!D101","v":0},{"$f":"様式4!E101","v":0}]
[null,null,"095",{"$f":"様式4!C102","v":0},{"$f":"様式4!D102","v":0},{"$f":"様式4!E102","v":0}]
[null,null,"096",{"$f":"様式4!C103","v":0},{"$f":"様式4!D103","v":0},{"$f":"様式4!E103","v":0}]
[null,null,"097",{"$f":"様式4!C104","v":0},{"$f":"様式4!D104","v":0},{"$f":"様式4!E104","v":0}]
[null,null,"098",{"$f":"様式4!C105","v":0},{"$f":"様式4!D105","v":0},{"$f":"様式4!E105","v":0}]
[null,null,"099",{"$f":"様式4!C106","v":0},{"$f":"様式4!D106","v":0},{"$f":"様式4!E106","v":0}]
[null,null,"100",{"$f":"様式4!C107","v":0},{"$f":"様式4!D107","v":0},{"$f":"様式4!E107","v":0}]
[null,null,"101",{"$f":"様式4!C108","v":0},{"$f":"様式4!D108","v":0},{"$f":"様式4!E108","v":0}]
[null,null,"102",{"$f":"様式4!C109","v":0},{"$f":"様式4!D109","v":0},{"$f":"様式4!E109","v":0}]
[null,null,"103",{"$f":"様式4!C110","v":0},{"$f":"様式4!D110","v":0},{"$f":"様式4!E110","v":0}]
[null,null,"104",{"$f":"様式4!C111","v":0},{"$f":"様式4!D111","v":0},{"$f":"様式4!E111","v":0}]
[null,null,"105",{"$f":"様式4!C112","v":0},{"$f":"様式4!D112","v":0},{"$f":"様式4!E112","v":0}]
[null,null,"106",{"$f":"様式4!C113","v":0},{"$f":"様式4!D113","v":0},{"$f":"様式4!E113","v":0}]
[null,null,"107",{"$f":"様式4!C114","v":0},{"$f":"様式4!D114","v":0},{"$f":"様式4!E114","v":0}]
[null,null,"108",{"$f":"様式4!C115","v":0},{"$f":"様式4!D115","v":0},{"$f":"様式4!E115","v":0}]
[null,null,"109",{"$f":"様式4!C116","v":0},{"$f":"様式4!D116","v":0},{"$f":"様式4!E116","v":0}]
[null,null,"110",{"$f":"様式4!C117","v":0},{"$f":"様式4!D117","v":0},{"$f":"様式4!E117","v":0}]
[null,null,"111",{"$f":"様式4!C118","v":0},{"$f":"様式4!D118","v":0},{"$f":"様式4!E118","v":0}]
[null,null,"112",{"$f":"様式4!C119","v":0},{"$f":"様式4!D119","v":0},{"$f":"様式4!E119","v":0}]
[null,null,"113",{"$f":"様式4!C120","v":0},{"$f":"様式4!D120","v":0},{"$f":"様式4!E120","v":0}]
[null,null,"114",{"$f":"様式4!C121","v":0},{"$f":"様式4!D121","v":0},{"$f":"様式4!E121","v":0}]
[null,null,"115",{"$f":"様式4!C122","v":0},{"$f":"様式4!D122","v":0},{"$f":"様式4!E122","v":0}]
[null,null,"116",{"$f":"様式4!C123","v":0},{"$f":"様式4!D123","v":0},{"$f":"様式4!E123","v":0}]
[null,null,"117",{"$f":"様式4!C124","v":0},{"$f":"様式4!D124","v":0},{"$f":"様式4!E124","v":0}]
[null,null,"118",{"$f":"様式4!C125","v":0},{"$f":"様式4!D125","v":0},{"$f":"様式4!E125","v":0}]
[null,null,"119",{"$f":"様式4!C126","v":0},{"$f":"様式4!D126","v":0},{"$f":"様式4!E126","v":0}]
[null,null,"120",{"$f":"様式4!C127","v":0},{"$f":"様式4!D127","v":0},{"$f":"様式4!E127","v":0}]
[null,null,"121",{"$f":"様式4!C128","v":0},{"$f":"様式4!D128","v":0},{"$f":"様式4!E128","v":0}]
[null,null,"122",{"$f":"様式4!C129","v":0},{"$f":"様式4!D129","v":0},{"$f":"様式4!E129","v":0}]
[null,null,"123",{"$f":"様式4!C130","v":0},{"$f":"様式4!D130","v":0},{"$f":"様式4!E130","v":0}]
[null,null,"124",{"$f":"様式4!C131","v":0},{"$f":"様式4!D131","v":0},{"$f":"様式4!E131","v":0}]
[null,null,"125",{"$f":"様式4!C132","v":0},{"$f":"様式4!D132","v":0},{"$f":"様式4!E132","v":0}]
[null,null,"126",{"$f":"様式4!C133","v":0},{"$f":"様式4!D133","v":0},{"$f":"様式4!E133","v":0}]
[null,null,"127",{"$f":"様式4!C134","v":0},{"$f":"様式4!D134","v":0},{"$f":"様式4!E134","v":0}]
[null,null,"128",{"$f":"様式4!C135","v":0},{"$f":"様式4!D135","v":0},{"$f":"様式4!E135","v":0}]
[null,null,"129",{"$f":"様式4!C136","v":0},{"$f":"様式4!D136","v":0},{"$f":"様式4!E136","v":0}]
[null,null,"130",{"$f":"様式4!C137","v":0},{"$f":"様式4!D137","v":0},{"$f":"様式4!E137","v":0}]
[null,null,"131",{"$f":"様式4!C138","v":0},{"$f":"様式4!D138","v":0},{"$f":"様式4!E138","v":0}]
[null,null,"132",{"$f":"様式4!C139","v":0},{"$f":"様式4!D139","v":0},{"$f":"様式4!E139","v":0}]
[null,null,"133",{"$f":"様式4!C140","v":0},{"$f":"様式4!D140","v":0},{"$f":"様式4!E140","v":0}]
[null,null,"134",{"$f":"様式4!C141","v":0},{"$f":"様式4!D141","v":0},{"$f":"様式4!E141","v":0}]
[null,null,"135",{"$f":"様式4!C142","v":0},{"$f":"様式4!D142","v":0},{"$f":"様式4!E142","v":0}]
[null,null,"136",{"$f":"様式4!C143","v":0},{"$f":"様式4!D143","v":0},{"$f":"様式4!E143","v":0}]
[null,null,"137",{"$f":"様式4!C144","v":0},{"$f":"様式4!D144","v":0},{"$f":"様式4!E144","v":0}]
[null,null,"138",{"$f":"様式4!C145","v":0},{"$f":"様式4!D145","v":0},{"$f":"様式4!E145","v":0}]
[null,null,"139",{"$f":"様式4!C146","v":0},{"$f":"様式4!D146","v":0},{"$f":"様式4!E146","v":0}]
[null,null,"140",{"$f":"様式4!C147","v":0},{"$f":"様式4!D147","v":0},{"$f":"様式4!E147","v":0}]
[null,null,"141",{"$f":"様式4!C148","v":0},{"$f":"様式4!D148","v":0},{"$f":"様式4!E148","v":0}]
[null,null,"142",{"$f":"様式4!C149","v":0},{"$f":"様式4!D149","v":0},{"$f":"様式4!E149","v":0}]
[null,null,"143",{"$f":"様式4!C150","v":0},{"$f":"様式4!D150","v":0},{"$f":"様式4!E150","v":0}]
[null,null,"144",{"$f":"様式4!C151","v":0},{"$f":"様式4!D151","v":0},{"$f":"様式4!E151","v":0}]
[null,null,"145",{"$f":"様式4!C152","v":0},{"$f":"様式4!D152","v":0},{"$f":"様式4!E152","v":0}]
[null,null,"146",{"$f":"様式4!C153","v":0},{"$f":"様式4!D153","v":0},{"$f":"様式4!E153","v":0}]
[null,null,"147",{"$f":"様式4!C154","v":0},{"$f":"様式4!D154","v":0},{"$f":"様式4!E154","v":0}]
[null,null,"148",{"$f":"様式4!C155","v":0},{"$f":"様式4!D155","v":0},{"$f":"様式4!E155","v":0}]
[null,null,"149",{"$f":"様式4!C156","v":0},{"$f":"様式4!D156","v":0},{"$f":"様式4!E156","v":0}]
[null,null,"150",{"$f":"様式4!C157","v":0},{"$f":"様式4!D157","v":0},{"$f":"様式4!E157","v":0}]

{"sheet":"様式6-3","index":7,"n_rows":161,"n_cols":19,"rows_kept":161,"cut":false,"hidden":false,"merged":[[0,4,0,7],[1,2,1,16],[160,7,160,8],[6,7,6,9],[3,6,4,8],[3,9,4,11],[156,7,156,8],[158,7,158,8],[152,7,152,8],[154,7,154,8],[148,7,148,8],[150,7,150,8],[144,7,144,8],[146,7,146,8],[140,7,140,8],[142,7,142,8],[136,7,136,8],[138,7,138,8],[132,7,132,8],[134,7,134,8],[128,7,128,8],[130,7,130,8],[124,7,124,8],[24,7,24,8],[152,10,152,11],[152,13,152,14],[20,7,20,8],[22,7,22,8],[16,7,16,8],[18,7,18,8],[12,7,12,8],[14,7,14,8],[6,13,6,15],[23,13,23,14],[24,10,24,11],[24,13,24,14],[23,7,23,8],[23,10,23,11],[21,13,21,14],[22,10,22,11],[22,13,22,14],[21,7,21,8],[21,10,21,11],[19,13,19,14],[20,10,20,11],[20,13,20,14],[19,7,19,8],[19,10,19,11],[155,13,155,14],[156,10,156,11],[156,13,156,14],[155,7,155,8],[155,10,155,11],[153,13,153,14],[154,10,154,11],[154,13,154,14],[153,7,153,8],[153,10,153,11],[159,13,159,14],[160,10,160,11],[160,13,160,14],[159,7,159,8],[159,10,159,11],[157,13,157,14],[158,10,158,11],[158,13,158,14],[157,7,157,8],[157,10,157,11],[151,7,151,8],[151,10,151,11],[149,13,149,14],[150,10,150,11],[150,13,150,14],[149,7,149,8],[149,10,149,11],[147,13,147,14],[148,10,148,11],[148,13,148,14],[147,7,147,8],[147,10,147,11],[151,13,151,14],[145,13,145,14],[146,10,146,11],[146,13,146,14],[145,7,145,8],[145,10,145,11],[143,13,143,14],[144,10,144,11],[144,13,144,14],[143,7,143,8],[143,10,143,11],[141,13,141,14],[142,10,142,11],[142,13,142,14],[141,7,141,8],[141,10,141,11],[139,13,139,14],[140,10,140,11],[140,13,140,14],[139,7,139,8],[139,10,139,11],[137,13,137,14],[138,10,138,11],[138,13,138,14],[137,7,137,8],[137,10,137,11],[135,13,135,14],[136,10,136,11],[136,13,136,14],[135,7,135,8],[135,10,135,11],[133,13,133,14],[134,10,134,11],[134,13,134,14],[133,7,133,8],[133,10,133,11],[131,13,131,14],[132,10,132,11],[132,13,132,14],[131,7,131,8],[131,10,131,11],[129,13,129,14],[130,10,130,11],[130,13,130,14],[129,7,129,8],[129,10,129,11],[127,13,127,14],[128,10,128,11],[128,13,128,14],[127,7,127,8],[127,10,127,11],[125,13,125,14],[126,10,126,11],[126,13,126,14],[125,7,125,8],[125,10,125,11],[126,7,126,8],[123,13,123,14],[124,10,124,11],[124,13,124,14],[123,7,123,8],[123,10,123,11],[121,13,121,14],[122,10,122,11],[122,13,122,14],[121,7,121,8],[121,10,121,11],[122,7,122,8],[119,13,119,14],[120,10,120,11],[120,13,120,14],[119,7,119,8],[119,10,119,11],[117,13,117,14],[118,10,118,11],[118,13,118,14],[117,7,117,8],[117,10,117,11],[120,7,120,8],[118,7,118,8],[115,13,115,14],[116,10,116,11],[116,13,116,14],[115,7,115,8],[115,10,115,11],[113,13,113,14],[114,10,114,11],[114,13,114,14],[113,7,113,8],[113,10,113,11],[116,7,116,8],[114,7,114,8],[111,13,111,14],[112,10,112,11],[112,13,112,14],[111,7,111,8],[111,10,111,11],[109,13,109,14],[110,10,110,11],[110,13,110,14],[109,7,109,8],[109,10,109,11],[112,7,112,8],[110,7,110,8],[107,13,107,14],[108,10,108,11],[108,13,108,14],[107,7,107,8],[107,10,107,11],[105,13,105,14],[106,10,106,11],[106,13,106,14],[105,7,105,8],[105,10,105,11],[106,7,106,8],[108,7,108,8],[103,13,103,14],[104,10,104,11],[104,13,104,14],[103,7,103,8],[103,10,103,11],[101,13,101,14],[102,10,102,11],[102,13,102,14],[101,7,101,8],[101,10,101,11],[104,7,104,8],[102,7,102,8],[99,13,99,14],[100,10,100,11],[100,13,100,14],[99,7,99,8],[99,10,99,11],[97,13,97,14],[98,10,98,11],[98,13,98,14],[97,7,97,8],[97,10,97,11],[100,7,100,8],[98,7,98,8],[95,13,95,14],[96,10,96,11],[96,13,96,14],[95,7,95,8],[95,10,95,11],[93,13,93,14],[94,10,94,11],[94,13,94,14],[93,7,93,8],[93,10,93,11],[96,7,96,8],[94,7,94,8],[91,13,91,14],[92,10,92,11],[92,13,92,14],[91,7,91,8],[91,10,91,11],[89,13,89,14],[90,10,90,11],[90,13,90,14],[89,7,89,8],[89,10,89,11],[92,7,92,8],[90,7,90,8],[87,13,87,14],[88,10,88,11],[88,13,88,14],[87,7,87,8],[87,10,87,11],[85,13,85,14],[86,10,86,11],[86,13,86,14],[85,7,85,8],[85,10,85,11],[86,7,86,8],[88,7,88,8],[83,13,83,14],[84,10,84,11],[84,13,84,14],[83,7,83,8],[83,10,83,11],[81,13,81,14],[82,10,82,11],[82,13,82,14],[81,7,81,8],[81,10,81,11],[84,7,84,8],[82,7,82,8],[79,13,79,14],[80,10,80,11],[80,13,80,14],[79,7,79,8],[79,10,79,11],[77,13,77,14],[78,10,78,11],[78,13,78,14],[77,7,77,8],[77,10,77,11],[80,7,80,8],[78,7,78,8],[75,13,75,14],[76,10,76,11],[76,13,76,14],[75,7,75,8],[75,10,75,11],[73,13,73,14],[74,10,74,11],[74,13,74,14],[73,7,73,8],[73,10,73,11],[76,7,76,8],[74,7,74,8],[71,13,71,14],[72,10,72,11],[72,13,72,14],[71,7,71,8],[71,10,71,11],[69,13,69,14],[70,10,70,11],[70,13,70,14],[69,7,69,8],[69,10,69,11],[72,7,72,8],[70,7,70,8],[67,13,67,14],[68,10,68,11],[68,13,68,14],[67,7,67,8],[67,10,67,11],[65,13,65,14],[66,10,66,11],[66,13,66,14],[65,7,65,8],[65,10,65,11],[66,7,66,8],[68,7,68,8],[63,13,63,14],[64,10,64,11],[64,13,64,14],[63,7,63,8],[63,10,63,11],[61,13,61,14],[62,10,62,11],[62,13,62,14],[61,7,61,8],[61,10,61,11],[64,7,64,8],[62,7,62,8],[59,13,59,14],[60,10,60,11],[60,13,60,14],[59,7,59,8],[59,10,59,11],[57,13,57,14],[58,10,58,11],[58,13,58,14],[57,7,57,8],[57,10,57,11],[60,7,60,8],[58,7,58,8],[55,13,55,14],[56,10,56,11],[56,13,56,14],[55,7,55,8],[55,10,55,11],[53,13,53,14],[54,10,54,11],[54,13,54,14],[53,7,53,8],[53,10,53,11],[56,7,56,8],[54,7,54,8],[51,13,51,14],[52,10,52,11],[52,13,52,14],[51,7,51,8],[51,10,51,11],[49,13,49,14],[50,10,50,11],[50,13,50,14],[49,7,49,8],[49,10,49,11],[52,7,52,8],[50,7,50,8],[47,13,47,14],[48,10,48,11],[48,13,48,14],[47,7,47,8],[47,10,47,11],[45,13,45,14],[46,10,46,11],[46,13,46,14],[45,7,45,8],[45,10,45,11],[46,7,46,8],[48,7,48,8],[43,13,43,14],[44,10,44,11],[44,13,44,14],[43,7,43,8],[43,10,43,11],[41,13,41,14],[42,10,42,11],[42,13,42,14],[41,7,41,8],[41,10,41,11],[44,7,44,8],[42,7,42,8],[39,13,39,14],[40,10,40,11],[40,13,40,14],[39,7,39,8],[39,10,39,11],[37,13,37,14],[38,10,38,11],[38,13,38,14],[37,7,37,8],[37,10,37,11],[40,7,40,8],[38,7,38,8],[35,13,35,14],[36,10,36,11],[36,13,36,14],[35,7,35,8],[35,10,35,11],[33,13,33,14],[34,10,34,11],[34,13,34,14],[33,7,33,8],[33,10,33,11],[36,7,36,8],[34,7,34,8],[31,13,31,14],[32,10,32,11],[32,13,32,14],[31,7,31,8],[31,10,31,11],[29,13,29,14],[30,10,30,11],[30,13,30,14],[29,7,29,8],[29,10,29,11],[32,7,32,8],[30,7,30,8],[27,13,27,14],[28,10,28,11],[28,13,28,14],[27,7,27,8],[27,10,27,11],[25,13,25,14],[26,10,26,11],[26,13,26,14],[25,7,25,8],[25,10,25,11],[28,7,28,8],[26,7,26,8],[17,7,17,8],[17,10,17,11],[18,13,18,14],[17,13,17,14],[18,10,18,11],[15,13,15,14],[16,10,16,11],[16,13,16,14],[15,7,15,8],[15,10,15,11],[13,13,13,14],[14,10,14,11],[14,13,14,14],[13,7,13,8],[13,10,13,11],[12,10,12,11],[12,13,12,14],[10,7,10,8],[10,10,10,11],[10,13,10,14],[11,7,11,8],[11,10,11,11],[2,2,2,5],[2,6,2,8],[2,9,2,11],[2,12,2,13],[2,14,2,16],[6,16,6,18],[7,15,9,15],[6,10,6,12],[3,2,4,5],[6,2,9,2],[6,3,9,3],[6,4,9,4],[6,5,9,5],[6,6,9,6],[7,9,9,9],[7,12,9,12],[3,14,4,16],[7,7,9,8],[7,10,9,11],[7,13,9,14],[7,16,7,17],[7,18,9,18],[8,16,9,16],[8,17,9,17],[3,12,4,13],[11,13,11,14]]}
[null,null,"様式6-3",null,"※黄色で示している部分を入力して下さい"]
[null,null,"JLA　ACADEMY 資格認定講習会　総合結果表"]
[null,null,"講習会",null,null,null,"主管",null,null,"会場",null,null,"検定日",null,"検定責任者"]
[null,null,{"$f":"様式2!F12","v":"選択してください"},null,null,null,{"$f":"様式5!G4:J5","v":0},null,null,{"$f":"様式5!K4","v":0},null,null,{"$f":"様式2!H17&様式2!I17&様式2!J17&様式2!K17&様式2!L17&様式2!M17","v":"年月日"},null,{"$f":"様式5!O4","v":0}]
[]
[]
[null,null,"受験番号","申込番号","氏　名","フリガナ","合否\n\n※記入漏れが\nないよう、\nお願いします。","アドバンス・プールガーディング",null,null,"IRBクルー",null,null,"IRBドライバー",null,null,"リーダー"]
[null,null,null,null,null,null,null,"実技検定",null,"学科検定\n\n（80点以上合格）\n※点数を入力","実技検定",null,"学科検定\n\n(70点以上合格)\n※点数を入力","実技検定",null,"学科検定\n\n(70点以上合格)\n※点数を入力","実技実施項目",null,"学科検定\n\n(80点以上合格)\n※点数を入力"]
[null,null,null,null,null,null,null,null,null,null,null,null,null,null,null,null,"ウォーターセーフティー\nプログラム　Jr.","ワークショップ"]
[]
[null,null,"例000",null,"協会　波子","キョウカイ　ナミコ","合格","○",null,100,"○",null,100,"○",null,100,"○","○",100]
[null,null,"001",{"$f":"様式4!C8","v":0},{"$f":"様式4!D8","v":0},{"$f":"様式4!E8","v":0}]
[null,null,"002",{"$f":"様式4!C9","v":0},{"$f":"様式4!D9","v":0},{"$f":"様式4!E9","v":0}]
[null,null,"003",{"$f":"様式4!C10","v":0},{"$f":"様式4!D10","v":0},{"$f":"様式4!E10","v":0}]
[null,null,"004",{"$f":"様式4!C11","v":0},{"$f":"様式4!D11","v":0},{"$f":"様式4!E11","v":0}]
[null,null,"005",{"$f":"様式4!C12","v":0},{"$f":"様式4!D12","v":0},{"$f":"様式4!E12","v":0}]
[null,null,"006",{"$f":"様式4!C13","v":0},{"$f":"様式4!D13","v":0},{"$f":"様式4!E13","v":0}]
[null,null,"007",{"$f":"様式4!C14","v":0},{"$f":"様式4!D14","v":0},{"$f":"様式4!E14","v":0}]
[null,null,"008",{"$f":"様式4!C15","v":0},{"$f":"様式4!D15","v":0},{"$f":"様式4!E15","v":0}]
[null,null,"009",{"$f":"様式4!C16","v":0},{"$f":"様式4!D16","v":0},{"$f":"様式4!E16","v":0}]
[null,null,"010",{"$f":"様式4!C17","v":0},{"$f":"様式4!D17","v":0},{"$f":"様式4!E17","v":0}]
[null,null,"011",{"$f":"様式4!C18","v":0},{"$f":"様式4!D18","v":0},{"$f":"様式4!E18","v":0}]
[null,null,"012",{"$f":"様式4!C19","v":0},{"$f":"様式4!D19","v":0},{"$f":"様式4!E19","v":0}]
[null,null,"013",{"$f":"様式4!C20","v":0},{"$f":"様式4!D20","v":0},{"$f":"様式4!E20","v":0}]
[null,null,"014",{"$f":"様式4!C21","v":0},{"$f":"様式4!D21","v":0},{"$f":"様式4!E21","v":0}]
[null,null,"015",{"$f":"様式4!C22","v":0},{"$f":"様式4!D22","v":0},{"$f":"様式4!E22","v":0}]
[null,null,"016",{"$f":"様式4!C23","v":0},{"$f":"様式4!D23","v":0},{"$f":"様式4!E23","v":0}]
[null,null,"017",{"$f":"様式4!C24","v":0},{"$f":"様式4!D24","v":0},{"$f":"様式4!E24","v":0}]
[null,null,"018",{"$f":"様式4!C25","v":0},{"$f":"様式4!D25","v":0},{"$f":"様式4!E25","v":0}]
[null,null,"019",{"$f":"様式4!C26","v":0},{"$f":"様式4!D26","v":0},{"$f":"様式4!E26","v":0}]
[null,null,"020",{"$f":"様式4!C27","v":0},{"$f":"様式4!D27","v":0},{"$f":"様式4!E27","v":0}]
[null,null,"021",{"$f":"様式4!C28","v":0},{"$f":"様式4!D28","v":0},{"$f":"様式4!E28","v":0}]
[null,null,"022",{"$f":"様式4!C29","v":0},{"$f":"様式4!D29","v":0},{"$f":"様式4!E29","v":0}]
[null,null,"023",{"$f":"様式4!C30","v":0},{"$f":"様式4!D30","v":0},{"$f":"様式4!E30","v":0}]
[null,null,"024",{"$f":"様式4!C31","v":0},{"$f":"様式4!D31","v":0},{"$f":"様式4!E31","v":0}]
[null,null,"025",{"$f":"様式4!C32","v":0},{"$f":"様式4!D32","v":0},{"$f":"様式4!E32","v":0}]
[null,null,"026",{"$f":"様式4!C33","v":0},{"$f":"様式4!D33","v":0},{"$f":"様式4!E33","v":0}]
[null,null,"027",{"$f":"様式4!C34","v":0},{"$f":"様式4!D34","v":0},{"$f":"様式4!E34","v":0}]
[null,null,"028",{"$f":"様式4!C35","v":0},{"$f":"様式4!D35","v":0},{"$f":"様式4!E35","v":0}]
[null,null,"029",{"$f":"様式4!C36","v":0},{"$f":"様式4!D36","v":0},{"$f":"様式4!E36","v":0}]
[null,null,"030",{"$f":"様式4!C37","v":0},{"$f":"様式4!D37","v":0},{"$f":"様式4!E37","v":0}]
[null,null,"031",{"$f":"様式4!C38","v":0},{"$f":"様式4!D38","v":0},{"$f":"様式4!E38","v":0}]
[null,null,"032",{"$f":"様式4!C39","v":0},{"$f":"様式4!D39","v":0},{"$f":"様式4!E39","v":0}]
[null,null,"033",{"$f":"様式4!C40","v":0},{"$f":"様式4!D40","v":0},{"$f":"様式4!E40","v":0}]
[null,null,"034",{"$f":"様式4!C41","v":0},{"$f":"様式4!D41","v":0},{"$f":"様式4!E41","v":0}]
[null,null,"035",{"$f":"様式4!C42","v":0},{"$f":"様式4!D42","v":0},{"$f":"様式4!E42","v":0}]
[null,null,"036",{"$f":"様式4!C43","v":0},{"$f":"様式4!D43","v":0},{"$f":"様式4!E43","v":0}]
[null,null,"037",{"$f":"様式4!C44","v":0},{"$f":"様式4!D44","v":0},{"$f":"様式4!E44","v":0}]
[null,null,"038",{"$f":"様式4!C45","v":0},{"$f":"様式4!D45","v":0},{"$f":"様式4!E45","v":0}]
[null,null,"039",{"$f":"様式4!C46","v":0},{"$f":"様式4!D46","v":0},{"$f":"様式4!E46","v":0}]
[null,null,"040",{"$f":"様式4!C47","v":0},{"$f":"様式4!D47","v":0},{"$f":"様式4!E47","v":0}]
[null,null,"041",{"$f":"様式4!C48","v":0},{"$f":"様式4!D48","v":0},{"$f":"様式4!E48","v":0}]
[null,null,"042",{"$f":"様式4!C49","v":0},{"$f":"様式4!D49","v":0},{"$f":"様式4!E49","v":0}]
[null,null,"043",{"$f":"様式4!C50","v":0},{"$f":"様式4!D50","v":0},{"$f":"様式4!E50","v":0}]
[null,null,"044",{"$f":"様式4!C51","v":0},{"$f":"様式4!D51","v":0},{"$f":"様式4!E51","v":0}]
[null,null,"045",{"$f":"様式4!C52","v":0},{"$f":"様式4!D52","v":0},{"$f":"様式4!E52","v":0}]
[null,null,"046",{"$f":"様式4!C53","v":0},{"$f":"様式4!D53","v":0},{"$f":"様式4!E53","v":0}]
[null,null,"047",{"$f":"様式4!C54","v":0},{"$f":"様式4!D54","v":0},{"$f":"様式4!E54","v":0}]
[null,null,"048",{"$f":"様式4!C55","v":0},{"$f":"様式4!D55","v":0},{"$f":"様式4!E55","v":0}]
[null,null,"049",{"$f":"様式4!C56","v":0},{"$f":"様式4!D56","v":0},{"$f":"様式4!E56","v":0}]
[null,null,"050",{"$f":"様式4!C57","v":0},{"$f":"様式4!D57","v":0},{"$f":"様式4!E57","v":0}]
[null,null,"051",{"$f":"様式4!C58","v":0},{"$f":"様式4!D58","v":0},{"$f":"様式4!E58","v":0}]
[null,null,"052",{"$f":"様式4!C59","v":0},{"$f":"様式4!D59","v":0},{"$f":"様式4!E59","v":0}]
[null,null,"053",{"$f":"様式4!C60","v":0},{"$f":"様式4!D60","v":0},{"$f":"様式4!E60","v":0}]
[null,null,"054",{"$f":"様式4!C61","v":0},{"$f":"様式4!D61","v":0},{"$f":"様式4!E61","v":0}]
[null,null,"055",{"$f":"様式4!C62","v":0},{"$f":"様式4!D62","v":0},{"$f":"様式4!E62","v":0}]
[null,null,"056",{"$f":"様式4!C63","v":0},{"$f":"様式4!D63","v":0},{"$f":"様式4!E63","v":0}]
[null,null,"057",{"$f":"様式4!C64","v":0},{"$f":"様式4!D64","v":0},{"$f":"様式4!E64","v":0}]
[null,null,"058",{"$f":"様式4!C65","v":0},{"$f":"様式4!D65","v":0},{"$f":"様式4!E65","v":0}]
[null,null,"059",{"$f":"様式4!C66","v":0},{"$f":"様式4!D66","v":0},{"$f":"様式4!E66","v":0}]
[null,null,"060",{"$f":"様式4!C67","v":0},{"$f":"様式4!D67","v":0},{"$f":"様式4!E67","v":0}]
[null,null,"061",{"$f":"様式4!C68","v":0},{"$f":"様式4!D68","v":0},{"$f":"様式4!E68","v":0}]
[null,null,"062",{"$f":"様式4!C69","v":0},{"$f":"様式4!D69","v":0},{"$f":"様式4!E69","v":0}]
[null,null,"063",{"$f":"様式4!C70","v":0},{"$f":"様式4!D70","v":0},{"$f":"様式4!E70","v":0}]
[null,null,"064",{"$f":"様式4!C71","v":0},{"$f":"様式4!D71","v":0},{"$f":"様式4!E71","v":0}]
[null,null,"065",{"$f":"様式4!C72","v":0},{"$f":"様式4!D72","v":0},{"$f":"様式4!E72","v":0}]
[null,null,"066",{"$f":"様式4!C73","v":0},{"$f":"様式4!D73","v":0},{"$f":"様式4!E73","v":0}]
[null,null,"067",{"$f":"様式4!C74","v":0},{"$f":"様式4!D74","v":0},{"$f":"様式4!E74","v":0}]
[null,null,"068",{"$f":"様式4!C75","v":0},{"$f":"様式4!D75","v":0},{"$f":"様式4!E75","v":0}]
[null,null,"069",{"$f":"様式4!C76","v":0},{"$f":"様式4!D76","v":0},{"$f":"様式4!E76","v":0}]
[null,null,"070",{"$f":"様式4!C77","v":0},{"$f":"様式4!D77","v":0},{"$f":"様式4!E77","v":0}]
[null,null,"071",{"$f":"様式4!C78","v":0},{"$f":"様式4!D78","v":0},{"$f":"様式4!E78","v":0}]
[null,null,"072",{"$f":"様式4!C79","v":0},{"$f":"様式4!D79","v":0},{"$f":"様式4!E79","v":0}]
[null,null,"073",{"$f":"様式4!C80","v":0},{"$f":"様式4!D80","v":0},{"$f":"様式4!E80","v":0}]
[null,null,"074",{"$f":"様式4!C81","v":0},{"$f":"様式4!D81","v":0},{"$f":"様式4!E81","v":0}]
[null,null,"075",{"$f":"様式4!C82","v":0},{"$f":"様式4!D82","v":0},{"$f":"様式4!E82","v":0}]
[null,null,"076",{"$f":"様式4!C83","v":0},{"$f":"様式4!D83","v":0},{"$f":"様式4!E83","v":0}]
[null,null,"077",{"$f":"様式4!C84","v":0},{"$f":"様式4!D84","v":0},{"$f":"様式4!E84","v":0}]
[null,null,"078",{"$f":"様式4!C85","v":0},{"$f":"様式4!D85","v":0},{"$f":"様式4!E85","v":0}]
[null,null,"079",{"$f":"様式4!C86","v":0},{"$f":"様式4!D86","v":0},{"$f":"様式4!E86","v":0}]
[null,null,"080",{"$f":"様式4!C87","v":0},{"$f":"様式4!D87","v":0},{"$f":"様式4!E87","v":0}]
[null,null,"081",{"$f":"様式4!C88","v":0},{"$f":"様式4!D88","v":0},{"$f":"様式4!E88","v":0}]
[null,null,"082",{"$f":"様式4!C89","v":0},{"$f":"様式4!D89","v":0},{"$f":"様式4!E89","v":0}]
[null,null,"083",{"$f":"様式4!C90","v":0},{"$f":"様式4!D90","v":0},{"$f":"様式4!E90","v":0}]
[null,null,"084",{"$f":"様式4!C91","v":0},{"$f":"様式4!D91","v":0},{"$f":"様式4!E91","v":0}]
[null,null,"085",{"$f":"様式4!C92","v":0},{"$f":"様式4!D92","v":0},{"$f":"様式4!E92","v":0}]
[null,null,"086",{"$f":"様式4!C93","v":0},{"$f":"様式4!D93","v":0},{"$f":"様式4!E93","v":0}]
[null,null,"087",{"$f":"様式4!C94","v":0},{"$f":"様式4!D94","v":0},{"$f":"様式4!E94","v":0}]
[null,null,"088",{"$f":"様式4!C95","v":0},{"$f":"様式4!D95","v":0},{"$f":"様式4!E95","v":0}]
[null,null,"089",{"$f":"様式4!C96","v":0},{"$f":"様式4!D96","v":0},{"$f":"様式4!E96","v":0}]
[null,null,"090",{"$f":"様式4!C97","v":0},{"$f":"様式4!D97","v":0},{"$f":"様式4!E97","v":0}]
[null,null,"091",{"$f":"様式4!C98","v":0},{"$f":"様式4!D98","v":0},{"$f":"様式4!E98","v":0}]
[null,null,"092",{"$f":"様式4!C99","v":0},{"$f":"様式4!D99","v":0},{"$f":"様式4!E99","v":0}]
[null,null,"093",{"$f":"様式4!C100","v":0},{"$f":"様式4!D100","v":0},{"$f":"様式4!E100","v":0}]
[null,null,"094",{"$f":"様式4!C101","v":0},{"$f":"様式4!D101","v":0},{"$f":"様式4!E101","v":0}]
[null,null,"095",{"$f":"様式4!C102","v":0},{"$f":"様式4!D102","v":0},{"$f":"様式4!E102","v":0}]
[null,null,"096",{"$f":"様式4!C103","v":0},{"$f":"様式4!D103","v":0},{"$f":"様式4!E103","v":0}]
[null,null,"097",{"$f":"様式4!C104","v":0},{"$f":"様式4!D104","v":0},{"$f":"様式4!E104","v":0}]
[null,null,"098",{"$f":"様式4!C105","v":0},{"$f":"様式4!D105","v":0},{"$f":"様式4!E105","v":0}]
[null,null,"099",{"$f":"様式4!C106","v":0},{"$f":"様式4!D106","v":0},{"$f":"様式4!E106","v":0}]
[null,null,"100",{"$f":"様式4!C107","v":0},{"$f":"様式4!D107","v":0},{"$f":"様式4!E107","v":0}]
[null,null,"101",{"$f":"様式4!C108","v":0},{"$f":"様式4!D108","v":0},{"$f":"様式4!E108","v":0}]
[null,null,"102",{"$f":"様式4!C109","v":0},{"$f":"様式4!D109","v":0},{"$f":"様式4!E109","v":0}]
[null,null,"103",{"$f":"様式4!C110","v":0},{"$f":"様式4!D110","v":0},{"$f":"様式4!E110","v":0}]
[null,null,"104",{"$f":"様式4!C111","v":0},{"$f":"様式4!D111","v":0},{"$f":"様式4!E111","v":0}]
[null,null,"105",{"$f":"様式4!C112","v":0},{"$f":"様式4!D112","v":0},{"$f":"様式4!E112","v":0}]
[null,null,"106",{"$f":"様式4!C113","v":0},{"$f":"様式4!D113","v":0},{"$f":"様式4!E113","v":0}]
[null,null,"107",{"$f":"様式4!C114","v":0},{"$f":"様式4!D114","v":0},{"$f":"様式4!E114","v":0}]
[null,null,"108",{"$f":"様式4!C115","v":0},{"$f":"様式4!D115","v":0},{"$f":"様式4!E115","v":0}]
[null,null,"109",{"$f":"様式4!C116","v":0},{"$f":"様式4!D116","v":0},{"$f":"様式4!E116","v":0}]
[null,null,"110",{"$f":"様式4!C117","v":0},{"$f":"様式4!D117","v":0},{"$f":"様式4!E117","v":0}]
[null,null,"111",{"$f":"様式4!C118","v":0},{"$f":"様式4!D118","v":0},{"$f":"様式4!E118","v":0}]
[null,null,"112",{"$f":"様式4!C119","v":0},{"$f":"様式4!D119","v":0},{"$f":"様式4!E119","v":0}]
[null,null,"113",{"$f":"様式4!C120","v":0},{"$f":"様式4!D120","v":0},{"$f":"様式4!E120","v":0}]
[null,null,"114",{"$f":"様式4!C121","v":0},{"$f":"様式4!D121","v":0},{"$f":"様式4!E121","v":0}]
[null,null,"115",{"$f":"様式4!C122","v":0},{"$f":"様式4!D122","v":0},{"$f":"様式4!E122","v":0}]
[null,null,"116",{"$f":"様式4!C123","v":0},{"$f":"様式4!D123","v":0},{"$f":"様式4!E123","v":0}]
[null,null,"117",{"$f":"様式4!C124","v":0},{"$f":"様式4!D124","v":0},{"$f":"様式4!E124","v":0}]
[null,null,"118",{"$f":"様式4!C125","v":0},{"$f":"様式4!D125","v":0},{"$f":"様式4!E125","v":0}]
[null,null,"119",{"$f":"様式4!C126","v":0},{"$f":"様式4!D126","v":0},{"$f":"様式4!E126","v":0}]
[null,null,"120",{"$f":"様式4!C127","v":0},{"$f":"様式4!D127","v":0},{"$f":"様式4!E127","v":0}]
[null,null,"121",{"$f":"様式4!C128","v":0},{"$f":"様式4!D128","v":0},{"$f":"様式4!E128","v":0}]
[null,null,"122",{"$f":"様式4!C129","v":0},{"$f":"様式4!D129","v":0},{"$f":"様式4!E129","v":0}]
[null,null,"123",{"$f":"様式4!C130","v":0},{"$f":"様式4!D130","v":0},{"$f":"様式4!E130","v":0}]
[null,null,"124",{"$f":"様式4!C131","v":0},{"$f":"様式4!D131","v":0},{"$f":"様式4!E131","v":0}]
[null,null,"125",{"$f":"様式4!C132","v":0},{"$f":"様式4!D132","v":0},{"$f":"様式4!E132","v":0}]
[null,null,"126",{"$f":"様式4!C133","v":0},{"$f":"様式4!D133","v":0},{"$f":"様式4!E133","v":0}]
[null,null,"127",{"$f":"様式4!C134","v":0},{"$f":"様式4!D134","v":0},{"$f":"様式4!E134","v":0}]
[null,null,"128",{"$f":"様式4!C135","v":0},{"$f":"様式4!D135","v":0},{"$f":"様式4!E135","v":0}]
[null,null,"129",{"$f":"様式4!C136","v":0},{"$f":"様式4!D136","v":0},{"$f":"様式4!E136","v":0}]
[null,null,"130",{"$f":"様式4!C137","v":0},{"$f":"様式4!D137","v":0},{"$f":"様式4!E137","v":0}]
[null,null,"131",{"$f":"様式4!C138","v":0},{"$f":"様式4!D138","v":0},{"$f":"様式4!E138","v":0}]
[null,null,"132",{"$f":"様式4!C139","v":0},{"$f":"様式4!D139","v":0},{"$f":"様式4!E139","v":0}]
[null,null,"133",{"$f":"様式4!C140","v":0},{"$f":"様式4!D140","v":0},{"$f":"様式4!E140","v":0}]
[null,null,"134",{"$f":"様式4!C141","v":0},{"$f":"様式4!D141","v":0},{"$f":"様式4!E141","v":0}]
[null,null,"135",{"$f":"様式4!C142","v":0},{"$f":"様式4!D142","v":0},{"$f":"様式4!E142","v":0}]
[null,null,"136",{"$f":"様式4!C143","v":0},{"$f":"様式4!D143","v":0},{"$f":"様式4!E143","v":0}]
[null,null,"137",{"$f":"様式4!C144","v":0},{"$f":"様式4!D144","v":0},{"$f":"様式4!E144","v":0}]
[null,null,"138",{"$f":"様式4!C145","v":0},{"$f":"様式4!D145","v":0},{"$f":"様式4!E145","v":0}]
[null,null,"139",{"$f":"様式4!C146","v":0},{"$f":"様式4!D146","v":0},{"$f":"様式4!E146","v":0}]
[null,null,"140",{"$f":"様式4!C147","v":0},{"$f":"様式4!D147","v":0},{"$f":"様式4!E147","v":0}]
[null,null,"141",{"$f":"様式4!C148","v":0},{"$f":"様式4!D148","v":0},{"$f":"様式4!E148","v":0}]
[null,null,"142",{"$f":"様式4!C149","v":0},{"$f":"様式4!D149","v":0},{"$f":"様式4!E149","v":0}]
[null,null,"143",{"$f":"様式4!C150","v":0},{"$f":"様式4!D150","v":0},{"$f":"様式4!E150","v":0}]
[null,null,"144",{"$f":"様式4!C151","v":0},{"$f":"様式4!D151","v":0},{"$f":"様式4!E151","v":0}]
[null,null,"145",{"$f":"様式4!C152","v":0},{"$f":"様式4!D152","v":0},{"$f":"様式4!E152","v":0}]
[null,null,"146",{"$f":"様式4!C153","v":0},{"$f":"様式4!D153","v":0},{"$f":"様式4!E153","v":0}]
[null,null,"147",{"$f":"様式4!C154","v":0},{"$f":"様式4!D154","v":0},{"$f":"様式4!E154","v":0}]
[null,null,"148",{"$f":"様式4!C155","v":0},{"$f":"様式4!D155","v":0},{"$f":"様式4!E155","v":0}]
[null,null,"149",{"$f":"様式4!C156","v":0},{"$f":"様式4!D156","v":0},{"$f":"様式4!E156","v":0}]
[null,null,"150",{"$f":"様式4!C157","v":0},{"$f":"様式4!D157","v":0},{"$f":"様式4!E157","v":0}]

{"sheet":"様式7","index":8,"n_rows":31,"n_cols":22,"rows_kept":31,"cut":false,"hidden":false,"merged":[[8,8,8,12],[9,8,9,12],[15,13,15,18],[10,1,10,17],[8,13,8,18],[9,13,9,18],[14,4,14,5],[15,1,15,3],[15,4,15,5],[15,6,15,10],[11,4,11,18],[12,4,12,18],[13,13,14,15],[13,16,14,17],[13,18,14,18],[11,1,11,3],[12,1,12,3],[13,1,14,3],[13,4,13,5],[15,11,15,12],[7,1,8,6],[0,2,0,8],[2,1,2,17],[5,8,5,18],[4,8,4,18],[6,8,6,12],[6,17,6,18],[6,14,6,15],[7,8,7,18],[3,1,3,18],[4,1,5,6],[6,1,6,6],[23,12,23,15],[17,1,17,3],[20,1,20,3],[19,1,19,3],[18,1,18,3],[22,1,22,3],[21,1,21,3],[18,12,18,15],[21,12,21,15],[17,4,17,8],[18,4,18,8],[19,4,19,8],[20,4,20,8],[22,4,22,8],[21,4,21,8],[18,16,18,18],[26,16,26,18],[27,16,27,18],[28,16,28,18],[29,16,29,18],[30,9,30,11],[28,9,28,11],[29,9,29,11],[17,16,17,18],[19,16,19,18],[20,16,20,18],[21,16,21,18],[22,16,22,18],[23,16,23,18],[24,16,24,18],[25,16,25,18],[25,9,25,11],[18,9,18,11],[19,12,19,15],[20,12,20,15],[22,12,22,15],[21,9,21,11],[22,9,22,11],[23,9,23,11],[27,1,27,3],[26,1,26,3],[24,12,24,15],[25,12,25,15],[24,9,24,11],[30,4,30,8],[30,16,30,18],[30,12,30,15],[27,12,27,15],[27,9,27,11],[33,2,33,18],[34,2,34,18],[25,1,25,3],[24,1,24,3],[23,1,23,3],[19,9,19,11],[20,9,20,11],[17,12,17,15],[17,9,17,11],[26,4,26,8],[27,4,27,8],[32,2,32,18],[29,1,29,3],[28,1,28,3],[30,1,30,3],[28,12,28,15],[29,12,29,15],[26,12,26,15],[26,9,26,11],[24,4,24,8],[25,4,25,8],[28,4,28,8],[29,4,29,8],[23,4,23,8]]}
[null,"様式7","※黄色で示している部分を入力して下さい",null,null,null,null,null,null,null,null,"記入日","西暦",null,"年",null,"月",null,"日"]
[]
[null,"JLA　ACADEMY 資格認定講習会　実施報告書"]
[null,"※1,※2　「教材発注依頼書」の入力データが反映されています。 変更箇所がある場合は上書きしてください。"]
[null," 日本ライフセービング協会\n 理事長　　殿",null,null,null,null,null,null,"指導員氏名 ※1"]
[null,null,null,null,null,null,null,null,{"$f":"様式2!I6","v":0}]
[null,"LIFESAVERS講習会 ID",null,null,null,null,null,null,"住所 ※1",null,null,null,null,"〒",{"$f":"様式2!N7","v":0},null,"-",{"$f":"様式2!Q7","v":0}]
[null,{"$f":"様式2!B8","v":0},null,null,null,null,null,null,{"$f":"様式2!I8","v":0}]
[null,null,null,null,null,null,null,null,"電話番号 ※1",null,null,null,null,"Eメール ※1"]
[null,null,null,null,null,null,null,null,{"$f":"様式2!I10","v":0},null,null,null,null,{"$f":"様式2!M10","v":0}]
[null,"下記の通り、日本ライフセービング協会 資格認定講習会が終了したことを報告いたします。"]
[null,"講習会名",null,null,{"$f":"様式2!F12","v":"選択してください"}]
[null,"主管\n団体（者）名",null,null,{"$f":"様式2!F15","v":0}]
[null,"開催日程",null,null,"開始日 ※2",null,"西暦",{"$f":"様式2!H16","v":0},"年",{"$f":"様式2!J16","v":0},"月",{"$f":"様式2!L16","v":0},"日","合計日数 ※2",null,null,{"$f":"様式2!P16","v":0},null,"日"]
[null,null,null,null,"検定日 ※2",null,"西暦",{"$f":"様式2!H17","v":0},"年",{"$f":"様式2!J17","v":0},"月",{"$f":"様式2!L17","v":0},"日"]
[null,"開催場所",null,null,"実技",null,null,null,null,null,null,"学科"]
[]
[null,"指導員氏名",null,null,"指導日",null,null,null,null,"指導員資格",null,null," ①指導員資格\n　　継続研修会参加済\n ②指導員養成合格・\n　　資格を新規取得",null,null,null,"今年度\n資格登録費納入"]
[null,"（例）協会　太郎",null,null,"10/15,20",null,null,null,null,"BLS I",null,null,"①",null,null,null,"○入金済"]
[null,null,null,null,null,null,null,null,null,null,null,null,"【　①②何れか選択　】"]
[null,null,null,null,null,null,null,null,null,null,null,null,"【　①②何れか選択　】"]
[null,null,null,null,null,null,null,null,null,null,null,null,"【　①②何れか選択　】"]
[null,null,null,null,null,null,null,null,null,null,null,null,"【　①②何れか選択　】"]
[null,null,null,null,null,null,null,null,null,null,null,null,"【　①②何れか選択　】"]
[null,null,null,null,null,null,null,null,null,null,null,null,"【　①②何れか選択　】"]
[null,null,null,null,null,null,null,null,null,null,null,null,"【　①②何れか選択　】"]
[null,null,null,null,null,null,null,null,null,null,null,null,"【　①②何れか選択　】"]
[null,null,null,null,null,null,null,null,null,null,null,null,"【　①②何れか選択　】"]
[null,null,null,null,null,null,null,null,null,null,null,null,"【　①②何れか選択　】"]
[null,null,null,null,null,null,null,null,null,null,null,null,"【　①②何れか選択　】"]
[null,null,null,null,null,null,null,null,null,null,null,null,"【　①②何れか選択　】",null,null,null,null,null,null,null,null," 　\n　"]

{"sheet":"指導員報告書","index":9,"n_rows":35,"n_cols":11,"rows_kept":35,"cut":false,"hidden":false,"merged":[[34,2,34,16],[0,2,0,16],[26,10,26,16],[7,2,7,7],[8,2,8,7],[10,3,10,15],[4,2,4,16],[5,2,5,16],[2,1,2,17],[38,1,39,2],[38,3,38,4],[38,5,38,9],[39,3,39,4],[39,5,39,9]]}
[null,null,"※指導員全員が提出します"]
[]
[null,"ＪＬＡ　ＡＣＡＤＥＭＹ 資格認定講習会　指導員報告書"]
[]
[null,null,"本講習会に参加した指導員は、全員提出をお願いします。"]
[null,null,"※提出が無い場合は、指導実績としてカウントされません。"]
[]
[null,null,"LIFESAVERS講習会 ID"]
[null,null,{"$f":"様式2!B8","v":0}]
[]
[null,null,null,"【指導員報告書Googleフォームリンク一覧】"]
[]
[null,null,"1）BLS（更新含む）",null,null,null,null,null,null,null,"2）ウォーターセーフティ"]
[null,null,"https://forms.gle/J9D9je7vxJ4i94od7",null,null,null,null,null,null,null,"https://forms.gle/SSYeNdGvYQD7smYaA "]
[]
[]
[]
[]
[]
[null,null,"3）サーフライフセービング",null,null,null,null,null,null,null,"4）IRB"]
[null,null,"https://forms.gle/CGmeM5e7QtVayTB59",null,null,null,null,null,null,null,"https://forms.gle/p5HjRY8krmPPWvWF7 "]
[]
[]
[]
[]
[]
[null,null,"5）プールライフガーディング",null,null,null,null,null,null,null,"6）ジュニアエデュケーション（リーダー）"]
[null,null,"https://forms.gle/9rgt7Vc3hDh4SbQC7",null,null,null,null,null,null,null,"https://forms.gle/P2ioWp4hrSPBxpAd9"]
[]
[]
[]
[]
[]
[]
[null,null,"※2021年度より、指導員報告書はGoogleフォーム上での提出に変更となりました。"]

{"sheet":"e-learning","index":10,"n_rows":42,"n_cols":11,"rows_kept":42,"cut":false,"hidden":false,"merged":[[40,2,40,16],[41,2,41,16],[21,2,21,16],[37,2,37,16],[38,2,38,16],[39,2,39,16],[31,2,31,16],[33,2,33,5],[33,6,33,16],[34,2,34,16],[36,2,36,16],[10,2,10,16],[35,2,35,16],[45,1,46,2],[45,3,45,4],[45,5,45,9],[46,3,46,4],[46,5,46,9],[13,2,13,16],[12,2,12,5],[24,2,24,16],[26,2,26,8],[27,2,27,16],[30,2,30,8],[14,2,14,16],[16,2,16,5],[19,2,19,5],[0,2,0,16],[2,1,2,17],[4,2,5,16],[8,2,8,16],[7,2,7,9]]}
[null,null,"※「e-learning」対応講習会は、ご参照ください"]
[]
[null,"ＪＬＡ　ＡＣＡＤＥＭＹ 資格認定講習会　「e-learning」対応について"]
[]
[null,null,"2020年5月より、新型コロナウィルス感染拡大防止等の観点から、JLAアカデミー解説動画\n「e-learning」を取り入れた講習会を開催しています。"]
[]
[]
[null,null,"「e-learning」対応の講習会（2021年6月現在）"]
[null,null,"【BLS講習会】【ウォーターセーフティ講習会】【ベーシック・サーフライフセービング講習会】\n【プール・ライフガーディング講習会】【アドバンス・プールライフガーディング講習会】【更新講習会】"]
[]
[null,null,"e-learning対応の講習会を開催する指導員は、下記①～③をご確認ください。"]
[]
[null,null,"①教本の個別発送"]
[null,null,"「e-learning」対応の講習会は、受講者の方へ事前に教本を個別発送することができます。\nLIFESAVERSにて支払済を確認次第、発送先の《住所リスト》を適宜、アカデミー事務局へご提出をお願いします。【提出先： academy@jla.gr.jp】\n"]
[null,null,"※注意事項\n　・ゆうメールで発送する為、ポストに投函されます。\n　・住所リストをご提出いただいてから、受講者のお手元に届くまで、およそ３～５日程度、所要します。また\n　　郵便事情による遅延の可能性があります。できるだけ早めに、ご提出をお願いします。\n　・教本の発送は、講習会費の支払済が前提となります。講習会開催日から逆算し、請求中および未請求　\n　　の受講者へ、必要に応じて講習会費振込の催促をお願いします。　↓定型文、ご参照ください。"]
[null,null,"　"]
[null,null,"②解説動画ＵＲＬの送信"]
[null,null,"LIFESAVERSにて支払済を確認次第、送信をお願いします。　↓定型文、ご参照ください。"]
[]
[null,null,"③教材発注"]
[null,null,"通常通り、データパック「様式２」（器材借用は「様式３」）のご提出をお願いします。"]
[null,null,"【問い合わせ先】\nJLA ACADEMY事務局　　　　　　　　　　　　　　　　　　　　　\n〒220-6218　神奈川県横浜市西区みなとみらい2-3-5 クイーンズタワーC 18階　\n株式会社オフサイド内　　TEL: 045-661-0622　　MAIL: academy@jla.gr.jp"]
[]
[]
[null,null,"講習会費の振込、解説動画ＵＲＬ送信の「メール定型文」は、下記をご参照ください。"]
[]
[null,null,"講習会費お支払いのお願い　【請求中の場合】",null,null,null,null,null,null,null,"※日付と講習会名は、適宜変更してください。"]
[null,null,"タイトル：　【5/29 ウォーターセーフティ講習会】講習会費お支払いのお願い\n本文：\nこの度は講習会のお申込み、誠にありがとうございます。\n本講習会は、e-learning対応となっております。\n\nこのメールを受け取られた皆様は、講習会費のお振込みが確認できていない方々です。\n受講条件である『教本を確認しながらのe-learningの聴講』は、講習会費のお支払いが\n完了された方に、教本と動画のURLを送ることになっております。\n\n恐れ入りますが、講習会費のお支払いをお願いいたします。\n※明日（5月23日）までにお振込みが確認できない場合、事前に教本をお送りすることができません。\n\n支払方法が不明な方は、下記解説動画で確認をお願いします。\n■LIFESAVERS講習会申し込み方法と支払い手順（解説動画）\nhttps://vimeo.com/413015980\n※11分53秒から支払い方法に関する解説が始まります。\n\n【講習会のキャンセルをご希望の場合】\n本メールにキャンセルのご連絡をお願いします。その後、下記操作をお願いします。\n--------------------\n1）LIFESAVERSにログイン\n2）支払い管理画面の赤文字『支払情報照会』をクリック\n3）現在発行している講習会の支払い明細を取り消す\n--------------------\nこの後に、キャンセル設定をします。\n\nお手数おかけいたしますが、よろしくお願いいたします。"]
[]
[]
[null,null,"講習会費お支払いのお願い　【未請求の場合】",null,null,null,null,null,null,null,"※日付と講習会名は、適宜変更してください。"]
[null,null,"タイトル：　【5/29 ウォーターセーフティ講習会】講習会費お支払いのお願い\n本文：\nこの度は講習会のお申込み、誠にありがとうございます。\n本講習会は、e-learning対応となっております。\n\nこのメールを受け取られた皆様は、講習会費のお振込みが確認できていない方々です。\n受講条件である『教本を確認しながらのe-learningの聴講』は、講習会費のお支払いが\n完了された方に、教本と動画のURLを送ることになっております。\n\n恐れ入りますが、講習会費のお支払いをお願いいたします。\n※明日（5月23日）までにお振込みが確認できない場合、事前に教本をお送りすることができません。\n\n支払方法が不明な方は、下記解説動画で確認をお願いします。\n■LIFESAVERS講習会申し込み方法と支払い手順（解説動画）\nhttps://vimeo.com/413015980\n※11分53秒から支払い方法に関する解説が始まります。\n\n講習会受付期間は過ぎておりますが、支払い明細の発行とお振込みが可能です。\n以上、ご確認くださいますよう、よろしくお願い致します。\n\nお手数おかけいたしますが、よろしくお願いいたします。"]
[]
[null,null,"解説動画ＵＲＬの送信"]
[null,null,"※講習会費の支払済が確認できた方から、該当する講習会のみ、送信してください。\n　また、下記パスワードは、2021年度のものです。毎年アップデートしておりますので、送信時にご注意ください。"]
[null,null,"タイトル：　ＪＬＡ講習会 解説動画の配信\n本文：\nこの度は講習会のお申込み、ならびに講習会費のご入金、誠にありがとうございます。\n本講習会は、e-learning対応となっております。\n学科講習の内容については、下記URLにアクセスしていただき、事前に解説動画の視聴をお願いいたします。\n講習会場では、実技講習中心の内容になっており、学科の伝達時間はございませんのでご注意ください。 \n（※転送は禁止です）"]
[null,null,"【BLS講習会】\nhttps://ls.jla-lifesaving.or.jp/academy/certification/bls/ \nパスワード　Cn92N8Rf\n\n　≪解説動画タイトル≫\n　■BLS講習会①　第8章　ライフセービングとその活動（17分11秒）\n　■BLS講習会②　第1章 心肺蘇生の意義～第3章 心肺蘇生の理論（31分37秒）\n　■BLS講習会③　第4章 心肺蘇生の実際（35分42秒）\n　■BLS講習会④　第5章 小児・乳児への心肺蘇生～第7章 溺水事故での心肺蘇生（17分35秒）"]
[null,null,"【ウォーターセーフティ講習会】\nhttps://ls.jla-lifesaving.or.jp/academy/certification/water-safety/ \nパスワード　Xv5EK2Mz\n\n　≪解説動画タイトル≫\n　■ウォーターセーフティ講習会①　JLA WSの目的とライフセービング （13分18秒）\n　■ウォーターセーフティ講習会②　第1章WSの意義～第3章WSの実際（31分19秒） \n　■ウォーターセーフティ講習会③　第4章 安全管理 （13分47秒）"]
[null,null,"【ベーシック・サーフライフセービング講習会】\nhttps://ls.jla-lifesaving.or.jp/academy/certification/surf-lifesaving-basic/ \nパスワード　s6TSduib\n\n　≪解説動画タイトル≫\n　■第1章　ライフセービング概論① （13分10秒）\n　■第1章　ライフセービング概論② （14分56秒）\n　■第2章　ライフセーバーの心がけ （15分59秒）\n　■第3章　サーフスキルとトレーニング（16分56秒）\n　■第4章　海の知識①（10分32秒）\n　■第4章　海の知識②（15分49秒）\n　■第4章　海の知識③（18分30秒）\n　■第5章　サーフパトロール （32分04秒）\n　■第6章　サーフレスキュー （16分11秒）\n　■第7章　応急手当 （76分02秒）\n　■第8章　一次救命処置（31分16秒）"]
[null,null,"【プール・ライフガーディング講習会】\n　https://ls.jla-lifesaving.or.jp/academy/certification/poollife-guarding/\nパスワード　W6gxzMCp\n\n　≪解説動画タイトル≫\n　■プール・ライフガーディング講習会　はじめに（1分33秒）\n　■第1章　プール・ライフガーディングについて（11分48秒）\n　■第2章　プールに関する基礎知識（21分30秒）\n　■第3章　プール事故の原因と防止（17分14秒）\n　■第4章　プールの監視体制（46分38秒）\n　■第5章　プール・ライフガード（17分05秒）\n　■第9章　プール・ライフガードによる応急手当（57分25秒）"]
[null,null,"【アドバンス・プールライフガーディング講習会】\nhttps://ls.jla-lifesaving.or.jp/academy/certification/poollife-guarding-advance/ \nパスワード　xK7zqnSt\n\n　≪解説動画タイトル≫\n　■アドバンス・プールライフガーディング講習会　はじめに（1分30秒）\n　■第2章　プールに関する基礎知識～水泳プールの安全管理マニュアル～（92分56秒）\n　■第6章　緊急時対応計画（58分30秒）\n　■第8章　頚椎損傷・頚髄損傷の疑いのある場合の救助（9分00秒）\n　■第11章　プール事故と法的責任（30分58秒）"]
[null,null,"【更新講習会】\n※ウォーターセーフティ以外の資格登録者専用ページで確認できます。\n　■1.更新講習会　ライフセービング近年の動向（13分58秒）\n　■2.更新講習会　BLSの重要性と実際（52分11秒）"]

{"sheet":"マスタ","index":11,"n_rows":88,"n_cols":5,"rows_kept":88,"cut":false,"hidden":true,"merged":[]}
["指導員資格種類"]
["選択してください"]
["BLS I"]
["BLS A"]
["WS I"]
["WS A"]
["S I"]
["S A"]
["PL I"]
["PL A"]
["IRB I"]
["IRB A"]
["Jr.L I"]
["Jr.L A"]
[]
["講習会名"]
["選択してください"]
["BLS講習会"]
["ウォーターセーフティ講習会"]
["ベーシック・サーフライフセービング講習会"]
["アドバンス・サーフライフセービング講習会"]
["プールライフガーディング講習会"]
["アドバンス・プールライフガーディング講習会"]
["IRB・クルー講習会"]
["IRB・ドライバー講習会"]
["リーダー講習会"]
["更新講習会"]
["失効 ベーシック・サーフライフセーバー資格"]
["失効 アドバンス・サーフライフセーバー資格"]
["失効 プールライフガード資格"]
["失効 アドバンス・プールライフガード資格"]
["失効 IRB・クルー資格"]
["失効 IRB・ドライバー資格"]
["再検定 BLS講習会"]
["再検定 ベーシック・サーフライフセービング講習会"]
["再検定 アドバンス・サーフライフセービング講習会"]
["再検定 プールライフガーディング講習会"]
["再検定 アドバンス・プールライフガーディング講習会"]
["再検定 IRB・クルー講習会"]
["再検定 IRB・ドライバー講習会"]
["再検定 リーダー講習会"]
[]
[]
[]
[null,null,null,"選択してください"]
["新規BLS",null,null,"BLS講習会"]
["更新BLS",null,null,"ウォーターセーフティ講習会"]
["更新認定LS",null,null,"ベーシック・サーフ・ライフセービング講習会"]
[null,null,null,"アドバンス・サーフ・ライフセービング講習会"]
["新規WS",null,null,"プール・ライフガーディング講習会"]
["更新WS",null,null,"アドバンス・プール・ライフガーディング講習会"]
[null,null,null,"IRB・クルー講習会"]
["新規BSLS",null,null,"IRB・ドライバー講習会"]
["更新BSLS",null,null,"更新講習会"]
[null,null,null,"リーダー講習会"]
["新規ASLS"]
["更新ASLS",null,null,1,1]
[null,null,null,2,2]
["新規IRB・クルー",null,null,3,3]
["更新IRB・クルー",null,null,4,4]
[null,null,null,5,5]
["新規IRB・ドライバー",null,null,6,6]
["更新IRB・ドライバー",null,null,7,7]
[null,null,null,8,8]
["新規PLG",null,null,9,9]
["更新PLG",null,null,10,10]
[null,null,null,11,11]
["新規APLG",null,null,12,12]
["更新APLG",null,null,13]
[null,null,null,14]
["新規リーダー",null,null,15]
["更新リーダー",null,null,16]
[null,null,null,17]
["更新BLS",null,null,18]
["更新認定LS",null,null,19]
[null,null,null,20]
["BLS・アシスタントインストラクター",null,null,21]
["BLS・インストラクター",null,null,22]
["ウォーターセーフティ・アシスタントインストラクター",null,null,23]
["ウォーターセーフティ・インストラクター",null,null,24]
["サーフライフセービング・アシスタントインストラクター",null,null,25]
["サーフライフセービング・インストラクター",null,null,26]
["IRB・アシスタントインストラクター",null,null,27]
["IRB・インストラクター",null,null,28]
["プールライフガーディング・アシスタントインストラクター",null,null,29]
["プールライフガーディング・インストラクター",null,null,30]
["ジュニアライフセービング・アシスタントインストラクター",null,null,31]
["ジュニアライフセービング・インストラクター "]