{"text_format":"1","workbook":"xlsx","n_sheets":13,"sheets":["※C級認定審判員養成講習会の流れ ","様式1","STEP2","STEP3","STEP4","STEP5","様式2","様式4","様式6","様式7","様式8","管理","マスタ"],"not_rendered":{"charts":0,"images":0,"macros":1,"external_links":0,"defined_names":53,"comments":4,"pivot_tables":0},"unopened":[],"bounds":{"document_bytes":16777216,"sheet_cells":100000,"rows_first":2000,"rows_last":500,"rows_between":2000,"halvings":0,"cell_chars":16384,"cell_head_chars":4096},"cells_cut":0,"cells_raw":0,"read":"whole","date_system":"1900"}

{"sheet":"※C級認定審判員養成講習会の流れ ","index":0,"n_rows":30,"n_cols":5,"rows_kept":30,"cut":false,"hidden":false,"merged":[[19,1,24,1],[19,3,24,3],[4,1,8,1],[10,1,13,1],[14,1,18,1]]}
[]
[null,"C級認定審判員養成講習会の流れ（主管：S級認定審判員）",null,null,"2023.4.1"]
[null,"時期","内容","詳細","JLAへの提出書類・データ等"]
[null,"年度始め","講習会実施計画","講習会の計画を立てる\n①講習種類　②日程　③会場　④定員　⑤責任者　⑥予算"]
[null,"30日以上前まで","資格認定講習会実施申請書","本データの様式1，STEP2～5のシートに必要事項を入力後、\nメールにてデータ送信≪academy@jla.gr.jp≫\n⇒これを受けアカデミー事務局より主管者へ承諾書をメールにてデータ送信\n　同時に、アカデミー事務局がLIFESAVERS上にページを作成する","【データ】様式1+STEP2～5"]
[null,null,"受講の募集開始","LIFESAVERS上で募集開始。"]
[null,null,"受講者の受付"]
[null,null,"受講者への連絡","変更や情報の追加が発生した場合は、主管者からアカデミー事務局へ連絡を入れ、必要に応じてアカデミー事務局から受講者へ連絡する"]
[null,null,"指導員、スタッフ選出","担当する指導員、スタッフを決め、打ち合わせをする。スタッフの選出にあたり、各自のライセンス、経験、体力、意識等の能力を充分鹹味すること。"]
[null,"承諾書受領後\n開催の5日前まで\n（土日祝を含めない）","教材発注依頼の提出\n・受講人数\n・指導員","・教材発注書をメールにてデータ送信≪academy@jla.gr.jp≫し、受講人数を報告することで 教材、検定書類の発注をする。\n・決定している指導員を報告する。","【本データ】様式2"]
[null,"前日まで","事前打ち合わせ","指導員とスタッフで事前に打ち合わせ、リハーサルを行う事が望ましい。\n期間中の気象海象予報を確認しプログラムの２次案、３次案を想定。"]
[null,null,"事前準備","講習に必要な準備を行う\n①講習セット（教本、指導要領等）　\n②器具、機材、教材の確認と運搬\n③講習実施に必要な各資料\n④検定セット・・その他"]
[null,null,"教材、検定書類等受け取る","JLAから教材、検定書類が届く"]
[null,null,"関係各所に連絡","必要な関係各所（保安庁、警察、自治体、漁協、病院、浜関係者等）に\n簡略書式等にて事前に周知しておく事が望ましい。"]
[null,"講習中","開講式","①名簿・出欠表　②予定表（タイムテーブル）　③その他　→配布式次第（例）\n　　１.開講宣言\n　　２.主管者挨拶\n　　３.指導員・スタッフ紹介\n　　４.諸注意、事務連絡"]
[null,null,"実施上の注意","円滑で効果的な講習会を目指すも、全てに安全が優先することを忘れない。\n→法的責任問題回避のためにも下記に留意する。\n①1日の気象海象予測とプログラムの再確認（講習の種別による）。\n②事前の健康確認。\n③特に祝祭日の救急医療機関の確認。\n④その他の危機管理全般確認"]
[null,null,"検定","①検定　②アンケート　　→回収"]
[null,null,"閉講式","合否連絡等、事務連絡詳細　式次第（例）\n　　１.指導員総評\n　　２.主管者挨拶\n　　３.事務連絡（合格していれば認定日に資格が付与される）"]
[null,null,"事務処理（終了直後）","出来れば以下を即行うことが望ましい\n①採点　②合否判定\n③その他、各記録、報告書、反省会のとりまとめ\n④スタッフに対する精算（領収書作成）\n⑤地元関係各所への報告及び挨拶"]
[null,"7日後まで","受講者名簿※1","講習会終了後必ず7日以内にアカデミー事務局へ郵送\n\n〒220-6218\n　横浜市西区みなとみらい2-3-5　クイーンズタワーC　18階\n　(株)オフサイド気付\n　JLAアカデミー事務局\n　TEL 045-661-0622\n※1についてはメールにてデータ送信とする","【データ】様式4"]
[null,null,"総合結果表※1",null,"【データ】様式6"]
[null,null,"講習会実施報告書※1",null,"【データ】様式7"]
[null,null,"指導員報告書※1",null,"【データ】様式8"]
[null,null,"記入済試験用紙、解答",null,"【書類】記入済試験用紙、解答"]
[null,null,"記入済アンケート用紙",null,"【書類】記入済アンケート用紙"]
[null,"データ受信後\n3営業日以内","資格認定（資格付与）","受信した総合結果表を基に、JLAアカデミー事務局が合否結果を入力。\n主管者側が設定した認定日に、受講者のマイページへ資格が付与される。"]
[]
[]
[]
["　\n　　　"]

{"sheet":"様式1","index":1,"n_rows":36,"n_cols":18,"rows_kept":36,"cut":false,"hidden":false,"merged":[[35,4,35,17],[36,4,36,17],[33,4,33,7],[33,13,33,17],[23,1,24,3],[25,1,28,3],[29,1,30,3],[30,4,30,6],[35,1,36,3],[29,14,29,17],[32,1,33,3],[32,4,32,5],[32,6,32,7],[32,8,32,17],[30,7,30,10],[30,11,30,13],[16,15,17,16],[16,13,17,14],[17,4,17,5],[16,4,16,5],[16,1,18,3],[18,4,18,5],[18,6,18,17],[16,17,17,17],[19,1,22,3],[22,12,22,17],[31,1,31,3],[27,12,27,13],[22,4,22,5],[22,6,22,9],[31,4,31,17],[24,12,24,17],[28,4,28,5],[29,10,29,13],[24,4,24,5],[24,6,24,9],[26,4,26,17],[25,8,25,17],[21,9,21,17],[29,4,29,9],[13,4,13,17],[14,4,14,17],[13,1,15,3],[15,4,15,17],[4,1,4,6],[12,1,12,3],[6,1,6,6],[7,1,7,6],[8,1,8,6],[0,2,0,8],[2,1,2,17],[12,4,12,17],[11,1,11,17],[6,13,6,14],[6,16,6,17],[4,8,4,17],[5,8,5,17],[6,8,6,11],[7,8,7,17],[5,1,5,6],[8,8,8,11],[9,8,9,11],[8,12,8,17],[9,12,9,17],[30,14,30,17],[19,4,19,5],[19,6,19,17],[28,13,28,17],[22,10,22,11],[24,10,24,11],[20,4,20,17],[23,4,23,5],[23,6,23,17],[27,14,27,17],[27,4,27,5],[27,6,27,11]]}
[null,"様式1","※黄色で示している部分を入力して下さい",null,null,null,null,null,null,null,"申請日","西暦",null,"年",null,"月",null,"日"]
[]
[null,"C級認定審判員養成講習会　実施申請書"]
[]
[null,"申請者JLA ID",null,null,null,null,null,null,"申請者氏名"]
[]
[null,"LIFESAVERS講習会 ID",null,null,null,null,null,null,"住所",null,null,null,"〒",null,null,"-"]
[]
[null,"※事務局で入力します",null,null,null,null,null,null,"電話番号",null,null,null,"Eメール"]
[]
[]
[null,"下記の通り、日本ライフセービング協会資格認定講習会実施の申請をいたします。"]
[null,"講習会名",null,null,"C級認定審判員養成講習会"]
[null,"主管\n団体（者）名"]
[]
[null,null,null,null,"※S級認定審判員でも可。"]
[null,"開催日程",null,null,"開始日",null,"西暦",null,"年",null,"月",null,"日","合計日数",null,null,null,"日"]
[null,null,null,null,"検定日",null,"西暦",null,"年",null,"月",null,"日"]
[null,null,null,null,"中　日"]
[null,"開催責任者",null,null,"氏名（必須）"]
[]
[null,null,null,null,"住所","〒",null,"-"]
[null,null,null,null,"電話番号",null,null,null,null,null,"Eﾒｰﾙ"]
[null,"問合せ担当者",null,null,"氏　　名"]
[null,null,null,null,"電話番号",null,null,null,null,null,"Eﾒｰﾙ"]
[null,"教材発送住所",null,null,"〒",null,"-"]
[]
[null,null,null,null,"宛　　名",null,null,null,null,null,null,null,"電話番号"]
[null,null,null,null,"必着希望日",null,"西暦",null,"年",null,"月",null,"日"]
[null,"開催場所",null,null,null,null,null,null,null,null,"所在地\n（都道府県市区町村まで）"]
[null,null,null,null,"開催中連絡先\n（電話番号）",null,null,null,null,null,null,"開催中連絡先\n（お名前）"]
[null,"募集対象"]
[null,"定員",null,null,null,null,"名／備考"]
[null,null,null,null,"受講者の一般公募は",null,null,null,null,null,null,null,null,"※『不可能です』を選択した場合は、STEP5で\n必ず　パスワード設定を行ってください。"]
[]
[null,"備考欄"]

{"sheet":"STEP2","index":2,"n_rows":38,"n_cols":17,"rows_kept":38,"cut":false,"hidden":false,"merged":[[0,2,0,8],[1,1,3,16],[2,19,2,27],[4,5,4,6],[4,7,4,8],[4,9,4,10],[4,11,4,12],[5,1,5,16],[7,1,7,16],[30,1,31,3],[30,4,31,16],[32,1,32,3],[32,9,32,11],[32,4,32,8],[32,12,32,16],[21,1,22,3],[24,1,24,16],[25,1,25,3],[25,4,25,8],[8,1,9,3],[10,1,11,3],[12,1,13,3],[14,1,15,3],[14,4,15,16],[16,1,17,3],[16,4,16,16],[17,4,17,16],[8,4,9,16],[10,4,11,16],[12,4,13,16],[18,4,20,16],[21,4,22,16],[25,12,25,16],[25,9,25,11],[26,1,26,3],[26,4,26,16],[18,1,20,3],[28,1,28,16],[29,1,29,3],[29,4,29,8],[29,9,29,10],[29,11,29,12],[29,14,29,16],[33,1,33,3],[33,4,33,16],[34,1,36,3],[34,4,36,16],[37,0,38,16383]]}
[null,"STEP2","※黄色で示している部分を入力して下さい",null,null,null,null,null,null,"申請日","西暦",null,"年",null,"月",null,"日"]
[null,"L I F E S A V E R S\n日本ライフセービング協会　登録管理システム\nhttps://life-savers.jp/login"]
[]
[]
[null,null,null,null,null,"STEP2\n詳細情報の入力",null,"STEP3\n申込情報の設定",null,"STEP4\n講習会費の設定",null,"STEP5\n日程情報の入力"]
[null,"ＳＴＥＰ２　詳細情報の入力"]
[]
[null,"講習会情報"]
[null,"講習会名",null,null,"C級認定審判員養成講習会"]
[]
[null,"主管",null,null,{"$f":"様式1!E14","v":0}]
[]
[null,"主催",null,null,"日本ライフセービング協会"]
[]
[null,"共催"]
[]
[null,"開催地都道府県"]
[null,null,null,null,"※ここで入力した都道府県を管轄している都道府県協会が講習会費の入金先になります。"]
[null,"準備するもの"]
[]
[]
[null,"その他"]
[]
[]
[null,"受講条件"]
[null,"年齢（入力不要）",null,null,null,null,null,null,null,"資格（入力不要）"]
[null,"その他"]
[]
[null,"問合せ先情報"]
[null,"問合せ先名（必須）",null,null,null,null,null,null,null,"郵便番号（*1）",null,null,null,"-"]
[null,"住所（*1）"]
[]
[null,"電話番号(*2)",null,null,null,null,null,null,null,"FAX番号(*2)"]
[null,"メールアドレス(*2)"]
[null,"備考"]
[]
[]
["　(*1)住所を入力する場合、郵便番号/都道府県/市区郡町村/丁目・番地は必須です\n　(*2)問合せ先電話番号/問い合わせ先FAX番号/問い合わせ先メールアドレスのいずれか1つは必ず入力してください"]

{"sheet":"STEP3","index":3,"n_rows":26,"n_cols":17,"rows_kept":26,"cut":false,"hidden":false,"merged":[[31,1,31,4],[31,5,31,6],[31,7,31,12],[31,13,31,14],[31,15,31,16],[30,1,30,4],[30,5,30,6],[30,7,30,12],[30,13,30,14],[30,15,30,16],[33,1,33,4],[33,5,33,6],[33,7,33,12],[33,13,33,14],[33,15,33,16],[32,1,32,4],[32,5,32,6],[32,7,32,12],[32,13,32,14],[32,15,32,16],[29,13,29,14],[29,15,29,16],[28,1,28,4],[28,5,28,6],[28,7,28,12],[28,13,28,14],[28,15,28,16],[27,1,27,4],[27,5,27,6],[27,7,27,12],[27,13,27,14],[27,15,27,16],[29,1,29,4],[29,5,29,6],[29,7,29,12],[19,5,19,7],[19,8,19,9],[18,15,18,16],[19,15,19,16],[21,1,21,16],[18,10,18,14],[19,10,19,14],[26,1,26,4],[26,5,26,6],[26,7,26,12],[26,13,26,14],[26,15,26,16],[25,1,25,4],[25,5,25,6],[25,7,25,12],[25,13,25,14],[25,15,25,16],[8,1,12,16],[13,1,13,3],[13,5,13,7],[13,8,13,9],[13,10,13,14],[13,15,13,16],[15,5,15,7],[15,8,15,9],[14,10,14,14],[15,10,15,14],[14,15,14,16],[15,15,15,16],[14,5,14,7],[14,8,14,9],[14,1,14,3],[15,1,15,3],[0,2,0,8],[1,1,3,16],[2,18,2,26],[4,5,4,6],[4,7,4,8],[4,9,4,10],[4,11,4,12],[5,1,5,16],[7,1,7,16],[6,2,6,4],[6,5,6,6],[6,7,6,8],[6,9,6,10],[6,11,6,15],[72,3,72,6],[72,7,72,8],[72,9,72,13],[72,14,72,16],[73,3,73,6],[73,7,73,8],[73,9,73,13],[73,14,73,16],[70,3,70,6],[70,7,70,8],[70,9,70,13],[70,14,70,16],[71,3,71,6],[71,7,71,8],[71,9,71,13],[71,14,71,16],[68,3,68,6],[68,7,68,8],[68,9,68,13],[68,14,68,16],[69,3,69,6],[69,7,69,8],[69,9,69,13],[69,14,69,16],[65,3,65,8],[66,3,66,17],[67,3,67,6],[67,7,67,8],[67,9,67,13],[67,14,67,16],[62,3,62,5],[62,6,62,7],[62,8,62,9],[62,10,62,11],[62,12,62,16],[61,3,61,5],[61,6,61,7],[61,8,61,9],[61,10,61,11],[61,12,61,16],[60,3,60,5],[60,6,60,7],[60,8,60,9],[60,10,60,11],[60,12,60,16],[59,3,59,5],[59,6,59,7],[59,8,59,9],[59,10,59,11],[59,12,59,16],[58,3,58,5],[58,6,58,7],[58,8,58,9],[58,10,58,11],[58,12,58,16],[57,3,57,5],[57,6,57,7],[57,8,57,9],[57,10,57,11],[57,12,57,16],[54,3,55,17],[56,3,56,5],[56,6,56,7],[56,8,56,9],[56,10,56,11],[56,12,56,16],[16,1,16,3],[17,1,17,3],[16,5,16,7],[16,8,16,9],[16,10,16,14],[16,15,16,16],[34,1,34,16],[51,3,51,7],[52,3,53,17],[22,1,24,16],[17,10,17,14],[17,15,17,16],[18,1,18,3],[19,1,19,3],[17,5,17,7],[17,8,17,9],[18,5,18,7],[18,8,18,9]]}
[null,"STEP3","※黄色で示している部分を入力して下さい",null,null,null,null,null,null,"申請日","西暦",{"$f":"STEP2!L1","v":0},"年",{"$f":"STEP2!N1","v":0},"月",{"$f":"STEP2!P1","v":0},"日"]
[null,"L I F E S A V E R S\n日本ライフセービング協会　登録管理システム\nhttps://life-savers.jp/login"]
[]
[]
[null,null,null,null,null,"STEP2\n詳細情報の入力",null,"STEP3\n申込情報の設定",null,"STEP4\n講習会費の設定",null,"STEP5\n日程情報の入力"]
[null,"ＳＴＥＰ３　申込情報の設定"]
[]
[null,"自由追加項目設定"]
[null,"（*1）「必須」にチェックすると申込時に必須の項目になります。\n\n（*2）入力方法にプルダウン/ラジオボタン/チェックボックスを選択をした場合、\n 　　 「選択肢設定」もしくは「独自の選択肢」を設定してください。独自の選択肢は「：」半角コロンで区切ります。\n　　　 例）A型:B型:O型:AB型など\n\n（*3）表示順には、申込画面に表示される順番を半角数字で入力します。\n　　  項目の番号に関わらず、表示順設定に入力された順番で表示されます。番号は重複がないように入力してください。\n　　  なお、すべて未入力の場合は自動的に番号が振られます。\n　　 （例）10.20.30...など"]
[]
[]
[]
[]
[null,"項目名",null,null,"必須(*1)","入力方法(*2)",null,null,"選択肢設定(*2)",null,"選択肢設定　独自の選択肢(*2)",null,null,null,null,"表示順(*3)"]
[null,null,null,null,null,"選択してください"]
[null,null,null,null,null,"選択してください"]
[null,null,null,null,null,"選択してください"]
[null,null,null,null,null,"選択してください"]
[null,null,null,null,null,"選択してください"]
[null,null,null,null,null,"選択してください"]
[]
[null,"申込ファイル設定"]
[null,"(*1) 「必須」にチェックすると、申込内容の確認・照会画面で申込時に必須なファイルとして強調表示されます。\n\n(*2) 表示順には、申込画面に表示される順番を半角数字で入力します。\n　　　項目の番号にかかわらず、表示順設定に入力された順番で表示されます。\n　　　番号は重複がないように入力してください。なお、すべて未入力の場合は自動的に番号が振られます。\n　　　例）10,20,30...など\n\n※ファイルを設定する場合はデータを別途アカデミー事務局へお送りください。"]
[]
[]
[null,"ファイル名",null,null,null,"必須(*1)",null,"ファイルについての指示文",null,null,null,null,null,"ファイル種類",null,"表示順(*2)"]

{"sheet":"STEP4","index":4,"n_rows":16,"n_cols":17,"rows_kept":16,"cut":false,"hidden":false,"merged":[[0,2,0,8],[1,1,3,16],[15,5,15,6],[15,15,15,16],[7,1,7,16],[8,1,9,2],[8,3,9,4],[8,5,9,7],[8,8,9,10],[9,11,9,12],[9,13,9,14],[9,15,9,16],[8,11,8,16],[10,5,10,7],[10,8,10,10],[2,19,2,27],[5,1,5,16],[10,11,10,12],[10,13,10,14],[10,15,10,16],[10,1,10,2],[10,3,10,4],[20,15,20,16],[12,1,14,16],[16,1,16,4],[17,1,17,4],[18,1,18,4],[19,1,19,4],[20,1,20,4],[16,5,16,6],[16,7,16,12],[16,13,16,14],[16,15,16,16],[17,5,17,6],[17,7,17,12],[17,13,17,14],[20,5,20,6],[17,15,17,16],[20,7,20,12],[20,13,20,14],[19,5,19,6],[19,7,19,12],[19,13,19,14],[19,15,19,16],[4,5,4,6],[4,7,4,8],[4,9,4,10],[4,11,4,12],[18,5,18,6],[18,7,18,12],[18,13,18,14],[11,1,11,16],[15,1,15,4],[15,7,15,12],[18,15,18,16],[15,13,15,14]]}
[null,"STEP4","※黄色で示している部分を入力して下さい",null,null,null,null,null,null,"申請日","西暦",{"$f":"STEP2!L1","v":0},"年",{"$f":"STEP2!N1","v":0},"月",{"$f":"STEP2!P1","v":0},"日"]
[null,"L I F E S A V E R S\n日本ライフセービング協会　登録管理システム\nhttps://life-savers.jp/login"]
[]
[]
[null,null,null,null,null,"STEP2\n詳細情報の入力",null,"STEP3\n申込情報の設定",null,"STEP4\n講習会費の設定",null,"STEP5\n日程情報の入力"]
[null,"ＳＴＥＰ４　講習会費の設定"]
[]
[null,"講習会費設定　（入力の必要はありません）"]
[null,"区分",null,"コース",null,"講習会名\n（一部略）",null,null,"講習会費\n（円）",null,null,"講習会費内訳"]
[null,null,null,null,null,null,null,null,null,null,null,"JLA費（円）",null,"講習会\n運営費（円）",null,"都道府県\n協会費（円）"]
[null,"審判員",null,"審判員",null,"C級審判員",null,null,6000,null,null,3500,null,1500,null,1000]
[null,"追加料金設定"]
[null,"(*1)「強制」にチェックした場合、全申込者から追加料金を徴収します。チェックしなかった場合、申込者が支払うかどうかを選択します。\n\n(*2)表示順には、申込画面に表示される順番を半角数字で入力します。項目の番号にかかわらず、\n     表示順設定に入力された順番で表示されます。\n     番号は重複がないように入力してください。なお、すべて未入力の場合は自動的に番号が振られます。\n     例）10,20,30...など"]
[]
[]
[null,"料金名",null,null,null,"強制(*1)",null,"追加料金についての説明文",null,null,null,null,null,"金額",null,"表示順(*2)"]

{"sheet":"STEP5","index":5,"n_rows":49,"n_cols":19,"rows_kept":49,"cut":false,"hidden":false,"merged":[[39,1,39,18],[40,1,40,4],[40,10,40,13],[40,15,40,17],[33,1,34,4],[47,5,47,18],[45,1,45,4],[45,5,45,18],[46,1,46,18],[41,1,41,18],[42,1,43,18],[44,1,44,4],[44,5,44,18],[20,17,20,18],[34,5,34,18],[35,1,36,4],[35,5,36,18],[37,1,37,4],[37,5,37,18],[17,1,17,6],[21,11,21,12],[22,11,22,12],[19,11,19,12],[20,11,20,12],[48,1,48,4],[48,5,48,18],[22,17,22,18],[21,17,21,18],[27,1,27,18],[28,1,31,4],[28,5,31,18],[23,1,23,18],[40,5,40,8],[33,6,33,8],[33,10,33,12],[33,13,33,18],[32,1,32,4],[32,5,32,18],[24,1,24,4],[47,1,47,4],[19,17,19,18],[18,17,18,18],[0,2,0,9],[1,1,3,18],[5,1,5,18],[17,13,17,18],[18,11,18,12],[14,1,15,4],[17,7,17,12],[14,17,14,18],[15,17,15,18],[16,17,16,18],[14,15,14,16],[15,15,15,16],[16,15,16,16],[16,1,16,4],[2,21,2,29],[8,1,13,18],[7,1,7,18],[4,8,4,9],[4,10,4,11],[4,12,4,13],[4,6,4,7],[14,12,14,13],[15,12,15,13],[16,12,16,13],[14,5,14,6],[15,5,15,6],[16,5,16,6]]}
[null,"STEP5","※黄色で示している部分を入力して下さい",null,null,null,null,null,null,null,null,"申請日","西暦",{"$f":"STEP2!L1","v":0},"年",{"$f":"STEP2!N1","v":0},"月",{"$f":"STEP2!P1","v":0},"日"]
[null,"L I F E S A V E R S\n日本ライフセービング協会　登録管理システム\nhttps://life-savers.jp/login"]
[]
[]
[null,null,null,null,null,null,"STEP2\n詳細情報の入力",null,"STEP3\n申込情報の設定",null,"STEP4\n講習会費の設定",null,"STEP5\n日程情報の入力"]
[null,"ＳＴＥＰ５　日程情報の入力"]
[]
[null,"開催の流れ"]
[null,"※各種日時の設定ルールについて\n　 各種日時の設定ルールは下記のように決まっています。大小関係に間違いがないように設定してください。\n 　申込受付（開始）　＜　キャンセル期限　≦　申込受付（終了）　≦　申込ファイル登録期限　＜　開催日　＜　認定日\n\n※開催日の入力例\n　 開催日は、以下の例にしたがって入力してください。\n\n例）講習会が以下の2つの日程で実施され、今回日程①を登録する場合\n　　【日程①】\n　　開催日：20XX/08/01, 20XX/08/02, 20XX/08/08, 20XX/08/09\n　　　　⇒　4日間に分けて開催するパターンです。下記の開催日欄に4日分すべて入力してください。\n\n　　【日程②】\n　　開催日：20XX/09/01\n　　　　⇒　今回は日程①を登録するため、日程②の開催日を入力する必要はありません。日程①を登録後、\n　　　　　　 講習会情報照会画面から日程②を追加登録してください。"]
[]
[]
[]
[]
[]
[null,"申込受付期間（必須）",null,null,null,null,null,"年",null,"月",null,"日",null,null,"時",null,null,"　 分～"]
[null,null,null,null,null,null,null,"年",null,"月",null,"日",null,null,"時",null,null,"分"]
[null,"キャンセル期限",null,null,null,null,null,"年",null,"月",null,"日",null,null,"時",null,null,"分"]
[null,"開催日（必須）",null,null,null,null,null,"開始時間（必須）",null,null,null,null,null,"終了時間（必須）"]
[null,null,"年",null,"月",null,"日",null,"時",null,"分",null,null,null,"時",null,"分"]
[null,null,"年",null,"月",null,"日",null,"時",null,"分",null,null,null,"時",null,"分"]
[null,null,"年",null,"月",null,"日",null,"時",null,"分",null,null,null,"時",null,"分"]
[null,null,"年",null,"月",null,"日",null,"時",null,"分",null,null,null,"時",null,"分"]
[null,null,"年",null,"月",null,"日",null,"時",null,"分",null,null,null,"時",null,"分"]
[null,"※認定日の設定に関する注意\n　　　出欠／合否の設定は、開催最終日から認定日までの期間で行う必要があります。\n　　　そのため、開催最終日と認定日の間には、出欠／合否の設定を行うための十分な期間を設けてください。\n　　　基本的に認定日は講習会の最終日を含めない６営業日以内に設定してください。\n　　　ただし、データパックを事務局で受領後、認定まで1～3営業日かかります。"]
[null,"認定日（必須）",null,null,null,null,"年",null,"月",null,"日"]
[]
[]
[null,"日程情報"]
[null,"スケジュール"]
[]
[]
[]
[null,"会場名（必須）"]
[null,"会場住所（必須）",null,null,null,"〒",null,null,null,"-"]
[]
[null,"会場住所詳細"]
[]
[null,"備考"]
[]
[null,"申込設定"]
[null,"定員（必須）",null,null,null,null,null,null,null,"人","最少催行人数（必須）",null,null,null,null,null,null,null,"人"]
[null,"キャンセル設定"]
[null,"※　キャンセル時の返金について\n　　　申込者がキャンセルした場合、システムでの返金処理は行いません。\n　　　返金対応をされる場合は、主管側で個別にご対応ください。\n\n※1　本人キャンセル可にした場合、キャンセルポリシーは必須入力です。\n\n※2　パスワード設定ありの場合、パスワードは必ず入力してください。\n　　　また、パスワードは半角英数字４文字～８文字以内で設定してください。"]
[]
[null,"本人キャンセル可否（必須）"]
[null,"キャンセルポリシー\n※1",null,null,null,"【キャンセルの連絡】 お申し込み後に、やむを得ない理由によりキャンセルされる場合は\n 主管者までメールにてご連絡ください。\n\n1．キャンセル料\n お申込みに際し、ご入金後のご返金はできませんので予めご了承ください。\n ただし、次に挙げる『講習会の開催中止および延期について』に該当する場合を除きます。\n \n2．講習会の開催中止および延期について\n《天候など危険な状況が予想される場合》\n ● 天候などの状況により開催の中止または延期をすることがあります。 \n ● 開催の中止または延期の場合は、開催前日の20時までにメールでご連絡いたします。\n　  中止の場合、講習会費は3,500円返金いたします。\n ● 主管者から開催の中止または延期の連絡がない限り、講習会は開催いたします。\n    講習会が開催された場合は、返金は行いません。\n\n《主管者の都合により開催を中止する場合》\n ● 原則として開催日より7日前までに主管者よりメールでご連絡いたします。\n ● 講習会費は後日全額返金いたします。\n\n3．払い戻し方法について\n ● 払戻金は、受講者様の指定口座にお振り込みいたします。\n ● 返金時の振込手数料は、受講者様のご負担とさせていただきます。"]
[null,"パスワード設定"]
[null,"パスワード設定有無（必須）"]
[null,"パスワード　※2\n半角英数字4～8文字以内"]

{"sheet":"様式2","index":6,"n_rows":27,"n_cols":18,"rows_kept":27,"cut":false,"hidden":false,"merged":[[29,11,29,16],[24,10,24,11],[25,11,25,16],[26,11,26,16],[27,11,27,16],[28,11,28,16],[22,5,22,8],[21,5,21,17],[20,11,20,12],[22,9,22,10],[20,9,20,10],[20,6,20,7],[8,1,8,6],[9,1,9,6],[20,13,20,17],[19,1,19,4],[13,1,13,4],[13,5,13,17],[15,4,15,5],[15,1,16,3],[14,1,14,4],[14,5,14,17],[18,1,18,4],[20,1,22,3],[20,4,21,4],[10,1,10,6],[17,1,17,4],[18,5,18,17],[0,2,0,8],[12,1,12,17],[7,8,7,11],[7,13,7,14],[7,16,7,17],[5,8,5,17],[10,8,10,11],[10,12,10,17],[5,1,6,7],[2,1,2,17],[6,8,6,17],[8,8,8,17],[3,1,3,17],[9,8,9,11],[9,12,9,17],[7,1,7,6],[16,4,16,5],[19,5,19,17],[17,12,17,17],[15,13,16,14],[15,15,16,16],[15,17,16,17],[26,1,29,4],[26,8,29,9],[26,5,29,7],[24,1,25,4],[24,5,25,7],[24,8,25,9],[33,1,34,2],[33,3,33,4],[34,3,34,4],[33,5,33,9],[34,5,34,9]]}
[null,"様式2","※黄色で示している部分を入力して下さい",null,null,null,null,null,null,null,"申請日","西暦",{"$f":"様式1!M1","v":0},"年",{"$f":"様式1!O1","v":0},"月",{"$f":"様式1!Q1","v":0},"日"]
[]
[null," C級認定審判員養成講習会　教材発注依頼書"]
[null,"※1「実施申請書」の入力データが反映されています。 申請後に変更となった箇所は上書きしてください。"]
[]
[null,"　日本ライフセービング協会  御中",null,null,null,null,null,null,"申請者氏名　※1"]
[null,null,null,null,null,null,null,null,{"$f":"様式1!I6","v":0}]
[null,"申請者JLA ID",null,null,null,null,null,null,"住所　※1",null,null,null,"〒",{"$f":"様式1!N7","v":0},null,"-",{"$f":"様式1!Q7","v":0}]
[null,{"$f":"様式1!B6","v":0},null,null,null,null,null,null,{"$f":"様式1!I8","v":0}]
[null,"LIFESAVERS講習会 ID",null,null,null,null,null,null,"電話番号　※1",null,null,null,"Eメール　※1"]
[null,{"$f":"様式1!B8","v":0},null,null,null,null,null,null,{"$f":"様式1!I10","v":0},null,null,null,{"$f":"様式1!M10","v":0}]
[]
[null,"下記の通り、教材発注を依頼いたします。"]
[null,"講習会名",null,null,null,{"$f":"様式1!E13","v":"C級認定審判員養成講習会"}]
[null,"主管\n団体（者）名",null,null,null,{"$f":"様式1!E14","v":0}]
[null,"開催日程",null,null,"開始日",null,"西暦",{"$f":"様式1!H17","v":0},"年",{"$f":"様式1!J17","v":0},"月",{"$f":"様式1!L17","v":0},"日","合計日数",null,{"$f":"様式1!P17","v":0},null,"日"]
[null,null,null,null,"検定日",null,"西暦",{"$f":"様式1!H18","v":0},"年",{"$f":"様式1!J18","v":0},"月",{"$f":"様式1!L18","v":0},"日"]
[null,"開催時間",null,null,null,null,"：",null,"～",null,"：",null,"※複数日ある場合、初日の時間のみ入力"]
[null,"指導員"]
[null,"開催責任者氏名",null,null,null,{"$f":"様式1!G20","v":0}]
[null,"教材発送住所",null,null,"住所","〒",{"$f":"様式1!F26","v":0},null,"-",{"$f":"様式1!H26","v":0},null,"TEL",null,{"$f":"様式1!O28","v":0}]
[null,null,null,null,null,{"$f":"様式1!I26&\" \"&様式1!E27","v":" "}]
[null,null,null,null,"宛名",{"$f":"様式1!G28","v":0},null,null,null,"必着希望日",null,"西暦",{"$f":"様式1!H29","v":0},"年",{"$f":"様式1!J29","v":0},"月",{"$f":"様式1!L29","v":0},"日"]
[]
[null,"受講人数",null,null,null,null,null,null,"名",null,"備考"]
[]
[null,"教材の発送数量\n（予備を含めた合計）",null,null,null,null,null,null,"名分"]

{"sheet":"様式4","index":7,"n_rows":157,"n_cols":14,"rows_kept":157,"cut":false,"hidden":false,"merged":[[0,2,0,4],[153,11,153,12],[154,11,154,12],[155,11,155,12],[156,11,156,12],[148,11,148,12],[149,11,149,12],[150,11,150,12],[151,11,151,12],[152,11,152,12],[143,11,143,12],[144,11,144,12],[145,11,145,12],[146,11,146,12],[147,11,147,12],[138,11,138,12],[139,11,139,12],[140,11,140,12],[141,11,141,12],[142,11,142,12],[133,11,133,12],[134,11,134,12],[135,11,135,12],[136,11,136,12],[137,11,137,12],[128,11,128,12],[129,11,129,12],[130,11,130,12],[131,11,131,12],[132,11,132,12],[123,11,123,12],[124,11,124,12],[125,11,125,12],[126,11,126,12],[127,11,127,12],[118,11,118,12],[119,11,119,12],[120,11,120,12],[121,11,121,12],[122,11,122,12],[113,11,113,12],[114,11,114,12],[115,11,115,12],[116,11,116,12],[117,11,117,12],[108,11,108,12],[109,11,109,12],[110,11,110,12],[111,11,111,12],[112,11,112,12],[103,11,103,12],[104,11,104,12],[105,11,105,12],[106,11,106,12],[107,11,107,12],[98,11,98,12],[99,11,99,12],[100,11,100,12],[101,11,101,12],[102,11,102,12],[93,11,93,12],[94,11,94,12],[95,11,95,12],[96,11,96,12],[97,11,97,12],[88,11,88,12],[89,11,89,12],[90,11,90,12],[91,11,91,12],[92,11,92,12],[83,11,83,12],[84,11,84,12],[85,11,85,12],[86,11,86,12],[87,11,87,12],[78,11,78,12],[79,11,79,12],[80,11,80,12],[81,11,81,12],[82,11,82,12],[74,11,74,12],[75,11,75,12],[76,11,76,12],[77,11,77,12],[73,11,73,12],[56,11,56,12],[57,11,57,12],[48,11,48,12],[49,11,49,12],[50,11,50,12],[51,11,51,12],[52,11,52,12],[63,11,63,12],[64,11,64,12],[68,11,68,12],[69,11,69,12],[70,11,70,12],[71,11,71,12],[72,11,72,12],[65,11,65,12],[66,11,66,12],[67,11,67,12],[58,11,58,12],[59,11,59,12],[60,11,60,12],[61,11,61,12],[62,11,62,12],[47,11,47,12],[38,11,38,12],[39,11,39,12],[40,11,40,12],[41,11,41,12],[42,11,42,12],[53,11,53,12],[54,11,54,12],[55,11,55,12],[28,11,28,12],[29,11,29,12],[30,11,30,12],[31,11,31,12],[32,11,32,12],[43,11,43,12],[44,11,44,12],[45,11,45,12],[46,11,46,12],[33,11,33,12],[34,11,34,12],[35,11,35,12],[36,11,36,12],[37,11,37,12],[11,11,11,12],[12,11,12,12],[13,11,13,12],[14,11,14,12],[15,11,15,12],[16,11,16,12],[17,11,17,12],[5,6,5,10],[3,11,3,13],[23,11,23,12],[24,11,24,12],[25,11,25,12],[26,11,26,12],[27,11,27,12],[18,11,18,12],[19,11,19,12],[20,11,20,12],[21,11,21,12],[22,11,22,12],[3,16,4,20],[5,11,5,12],[6,11,6,12],[7,11,7,12],[8,11,8,12],[9,11,9,12],[10,11,10,12],[1,1,1,13],[3,4,3,5],[2,4,2,5],[2,1,3,3],[2,11,2,13],[2,9,3,10],[3,6,3,8],[2,6,2,8]]}
[null,"様式4","※黄色で示している部分を入力して下さい"]
[null,"　C級認定審判員養成講習会　受講者名簿"]
[null,{"$f":"様式1!E13","v":"C級認定審判員養成講習会"},null,null,"開始日",null,{"$f":"様式2!H16&様式2!I16&様式2!J16&様式2!K16&様式2!L16&様式2!M16","v":"0年0月0日"},null,null,"指導員名"]
[null,null,null,null,"検定日",null,{"$f":"様式2!H17&様式2!I17&様式2!J17&様式2!K17&様式2!L17&様式2!M17","v":"0年0月0日"}]
[]
[null,"受検番号","申込番号","氏　名","フリガナ","性別","出欠\n※オレンジの欄は、STEP5の開催日の日程が反映されております。",null,null,null,null,"JLA-ID\n（省力はしないでください）",null,"職業"]
[null,"例000",null,"協会　波子","キョウカイ　ナミコ","女",{"$f":"STEP5!D19&STEP5!E19&STEP5!F19&STEP5!G19","v":"月日"},{"$f":"STEP5!D20&STEP5!E20&STEP5!F20&STEP5!G20","v":"月日"},{"$f":"STEP5!D21&STEP5!E21&STEP5!F21&STEP5!G21","v":"月日"},{"$f":"STEP5!D22&STEP5!E22&STEP5!F22&STEP5!G22","v":"月日"},{"$f":"STEP5!D23&STEP5!E23&STEP5!F23&STEP5!G23","v":"月日"},"JLA000000●●1",null,"会社員"]
[null,"001"]
[null,"002"]
[null,"003"]
[null,"004"]
[null,"005"]
[null,"006"]
[null,"007"]
[null,"008"]
[null,"009"]
[null,"010"]
[null,"011"]
[null,"012"]
[null,"013"]
[null,"014"]
[null,"015"]
[null,"016"]
[null,"017"]
[null,"018"]
[null,"019"]
[null,"020"]
[null,"021"]
[null,"022"]
[null,"023"]
[null,"024"]
[null,"025"]
[null,"026"]
[null,"027"]
[null,"028"]
[null,"029"]
[null,"030"]
[null,"031"]
[null,"032"]
[null,"033"]
[null,"034"]
[null,"035"]
[null,"036"]
[null,"037"]
[null,"038"]
[null,"039"]
[null,"040"]
[null,"041"]
[null,"042"]
[null,"043"]
[null,"044"]
[null,"045"]
[null,"046"]
[null,"047"]
[null,"048"]
[null,"049"]
[null,"050"]
[null,"051"]
[null,"052"]
[null,"053"]
[null,"054"]
[null,"055"]
[null,"056"]
[null,"057"]
[null,"058"]
[null,"059"]
[null,"060"]
[null,"061"]
[null,"062"]
[null,"063"]
[null,"064"]
[null,"065"]
[null,"066"]
[null,"067"]
[null,"068"]
[null,"069"]
[null,"070"]
[null,"071"]
[null,"072"]
[null,"073"]
[null,"074"]
[null,"075"]
[null,"076"]
[null,"077"]
[null,"078"]
[null,"079"]
[null,"080"]
[null,"081"]
[null,"082"]
[null,"083"]
[null,"084"]
[null,"085"]
[null,"086"]
[null,"087"]
[null,"088"]
[null,"089"]
[null,"090"]
[null,"091"]
[null,"092"]
[null,"093"]
[null,"094"]
[null,"095"]
[null,"096"]
[null,"097"]
[null,"098"]
[null,"099"]
[null,"100"]
[null,"101"]
[null,"102"]
[null,"103"]
[null,"104"]
[null,"105"]
[null,"106"]
[null,"107"]
[null,"108"]
[null,"109"]
[null,"110"]
[null,"111"]
[null,"112"]
[null,"113"]
[null,"114"]
[null,"115"]
[null,"116"]
[null,"117"]
[null,"118"]
[null,"119"]
[null,"120"]
[null,"121"]
[null,"122"]
[null,"123"]
[null,"124"]
[null,"125"]
[null,"126"]
[null,"127"]
[null,"128"]
[null,"129"]
[null,"130"]
[null,"131"]
[null,"132"]
[null,"133"]
[null,"134"]
[null,"135"]
[null,"136"]
[null,"137"]
[null,"138"]
[null,"139"]
[null,"140"]
[null,"141"]
[null,"142"]
[null,"143"]
[null,"144"]
[null,"145"]
[null,"146"]
[null,"147"]
[null,"148"]
[null,"149"]
[null,"150"]

{"sheet":"様式6","index":8,"n_rows":159,"n_cols":7,"rows_kept":159,"cut":false,"hidden":false,"merged":[[0,3,0,5],[6,3,7,3],[6,2,7,2],[6,1,7,1],[6,4,7,4],[6,5,7,5],[1,1,1,6],[6,6,7,6],[2,1,2,2],[3,1,4,2],[3,3,4,3],[3,4,4,4],[3,5,4,5],[3,6,4,6]]}
[null,"様式6",null,"※黄色で示している部分を入力して下さい"]
[null,"C級認定審判員養成講習会　総合結果表"]
[null,"講習会",null,"主管","会場","検定日","検定責任者"]
[null,{"$f":"様式2!F14","v":"C級認定審判員養成講習会"},null,{"$f":"様式2!F15","v":0},null,{"$f":"様式2!H17&様式2!I17&様式2!J17&様式2!K17&様式2!L17&様式2!M17","v":"0年0月0日"}]
[]
[]
[null,"受験番号","申込番号","氏　名","フリガナ","合否","検定試験\n（24点以上合格）\n※点数を入力"]
[]
[null,"例000",null,"協会　波子","キョウカイ　ナミコ","合格",30]
[null,"001",{"$f":"様式4!C8","v":0},{"$f":"様式4!D8","v":0},{"$f":"様式4!E8","v":0}]
[null,"002",{"$f":"様式4!C9","v":0},{"$f":"様式4!D9","v":0},{"$f":"様式4!E9","v":0}]
[null,"003",{"$f":"様式4!C10","v":0},{"$f":"様式4!D10","v":0},{"$f":"様式4!E10","v":0}]
[null,"004",{"$f":"様式4!C11","v":0},{"$f":"様式4!D11","v":0},{"$f":"様式4!E11","v":0}]
[null,"005",{"$f":"様式4!C12","v":0},{"$f":"様式4!D12","v":0},{"$f":"様式4!E12","v":0}]
[null,"006",{"$f":"様式4!C13","v":0},{"$f":"様式4!D13","v":0},{"$f":"様式4!E13","v":0}]
[null,"007",{"$f":"様式4!C14","v":0},{"$f":"様式4!D14","v":0},{"$f":"様式4!E14","v":0}]
[null,"008",{"$f":"様式4!C15","v":0},{"$f":"様式4!D15","v":0},{"$f":"様式4!E15","v":0}]
[null,"009",{"$f":"様式4!C16","v":0},{"$f":"様式4!D16","v":0},{"$f":"様式4!E16","v":0}]
[null,"010",{"$f":"様式4!C17","v":0},{"$f":"様式4!D17","v":0},{"$f":"様式4!E17","v":0}]
[null,"011",{"$f":"様式4!C18","v":0},{"$f":"様式4!D18","v":0},{"$f":"様式4!E18","v":0}]
[null,"012",{"$f":"様式4!C19","v":0},{"$f":"様式4!D19","v":0},{"$f":"様式4!E19","v":0}]
[null,"013",{"$f":"様式4!C20","v":0},{"$f":"様式4!D20","v":0},{"$f":"様式4!E20","v":0}]
[null,"014",{"$f":"様式4!C21","v":0},{"$f":"様式4!D21","v":0},{"$f":"様式4!E21","v":0}]
[null,"015",{"$f":"様式4!C22","v":0},{"$f":"様式4!D22","v":0},{"$f":"様式4!E22","v":0}]
[null,"016",{"$f":"様式4!C23","v":0},{"$f":"様式4!D23","v":0},{"$f":"様式4!E23","v":0}]
[null,"017",{"$f":"様式4!C24","v":0},{"$f":"様式4!D24","v":0},{"$f":"様式4!E24","v":0}]
[null,"018",{"$f":"様式4!C25","v":0},{"$f":"様式4!D25","v":0},{"$f":"様式4!E25","v":0}]
[null,"019",{"$f":"様式4!C26","v":0},{"$f":"様式4!D26","v":0},{"$f":"様式4!E26","v":0}]
[null,"020",{"$f":"様式4!C27","v":0},{"$f":"様式4!D27","v":0},{"$f":"様式4!E27","v":0}]
[null,"021",{"$f":"様式4!C28","v":0},{"$f":"様式4!D28","v":0},{"$f":"様式4!E28","v":0}]
[null,"022",{"$f":"様式4!C29","v":0},{"$f":"様式4!D29","v":0},{"$f":"様式4!E29","v":0}]
[null,"023",{"$f":"様式4!C30","v":0},{"$f":"様式4!D30","v":0},{"$f":"様式4!E30","v":0}]
[null,"024",{"$f":"様式4!C31","v":0},{"$f":"様式4!D31","v":0},{"$f":"様式4!E31","v":0}]
[null,"025",{"$f":"様式4!C32","v":0},{"$f":"様式4!D32","v":0},{"$f":"様式4!E32","v":0}]
[null,"026",{"$f":"様式4!C33","v":0},{"$f":"様式4!D33","v":0},{"$f":"様式4!E33","v":0}]
[null,"027",{"$f":"様式4!C34","v":0},{"$f":"様式4!D34","v":0},{"$f":"様式4!E34","v":0}]
[null,"028",{"$f":"様式4!C35","v":0},{"$f":"様式4!D35","v":0},{"$f":"様式4!E35","v":0}]
[null,"029",{"$f":"様式4!C36","v":0},{"$f":"様式4!D36","v":0},{"$f":"様式4!E36","v":0}]
[null,"030",{"$f":"様式4!C37","v":0},{"$f":"様式4!D37","v":0},{"$f":"様式4!E37","v":0}]
[null,"031",{"$f":"様式4!C38","v":0},{"$f":"様式4!D38","v":0},{"$f":"様式4!E38","v":0}]
[null,"032",{"$f":"様式4!C39","v":0},{"$f":"様式4!D39","v":0},{"$f":"様式4!E39","v":0}]
[null,"033",{"$f":"様式4!C40","v":0},{"$f":"様式4!D40","v":0},{"$f":"様式4!E40","v":0}]
[null,"034",{"$f":"様式4!C41","v":0},{"$f":"様式4!D41","v":0},{"$f":"様式4!E41","v":0}]
[null,"035",{"$f":"様式4!C42","v":0},{"$f":"様式4!D42","v":0},{"$f":"様式4!E42","v":0}]
[null,"036",{"$f":"様式4!C43","v":0},{"$f":"様式4!D43","v":0},{"$f":"様式4!E43","v":0}]
[null,"037",{"$f":"様式4!C44","v":0},{"$f":"様式4!D44","v":0},{"$f":"様式4!E44","v":0}]
[null,"038",{"$f":"様式4!C45","v":0},{"$f":"様式4!D45","v":0},{"$f":"様式4!E45","v":0}]
[null,"039",{"$f":"様式4!C46","v":0},{"$f":"様式4!D46","v":0},{"$f":"様式4!E46","v":0}]
[null,"040",{"$f":"様式4!C47","v":0},{"$f":"様式4!D47","v":0},{"$f":"様式4!E47","v":0}]
[null,"041",{"$f":"様式4!C48","v":0},{"$f":"様式4!D48","v":0},{"$f":"様式4!E48","v":0}]
[null,"042",{"$f":"様式4!C49","v":0},{"$f":"様式4!D49","v":0},{"$f":"様式4!E49","v":0}]
[null,"043",{"$f":"様式4!C50","v":0},{"$f":"様式4!D50","v":0},{"$f":"様式4!E50","v":0}]
[null,"044",{"$f":"様式4!C51","v":0},{"$f":"様式4!D51","v":0},{"$f":"様式4!E51","v":0}]
[null,"045",{"$f":"様式4!C52","v":0},{"$f":"様式4!D52","v":0},{"$f":"様式4!E52","v":0}]
[null,"046",{"$f":"様式4!C53","v":0},{"$f":"様式4!D53","v":0},{"$f":"様式4!E53","v":0}]
[null,"047",{"$f":"様式4!C54","v":0},{"$f":"様式4!D54","v":0},{"$f":"様式4!E54","v":0}]
[null,"048",{"$f":"様式4!C55","v":0},{"$f":"様式4!D55","v":0},{"$f":"様式4!E55","v":0}]
[null,"049",{"$f":"様式4!C56","v":0},{"$f":"様式4!D56","v":0},{"$f":"様式4!E56","v":0}]
[null,"050",{"$f":"様式4!C57","v":0},{"$f":"様式4!D57","v":0},{"$f":"様式4!E57","v":0}]
[null,"051",{"$f":"様式4!C58","v":0},{"$f":"様式4!D58","v":0},{"$f":"様式4!E58","v":0}]
[null,"052",{"$f":"様式4!C59","v":0},{"$f":"様式4!D59","v":0},{"$f":"様式4!E59","v":0}]
[null,"053",{"$f":"様式4!C60","v":0},{"$f":"様式4!D60","v":0},{"$f":"様式4!E60","v":0}]
[null,"054",{"$f":"様式4!C61","v":0},{"$f":"様式4!D61","v":0},{"$f":"様式4!E61","v":0}]
[null,"055",{"$f":"様式4!C62","v":0},{"$f":"様式4!D62","v":0},{"$f":"様式4!E62","v":0}]
[null,"056",{"$f":"様式4!C63","v":0},{"$f":"様式4!D63","v":0},{"$f":"様式4!E63","v":0}]
[null,"057",{"$f":"様式4!C64","v":0},{"$f":"様式4!D64","v":0},{"$f":"様式4!E64","v":0}]
[null,"058",{"$f":"様式4!C65","v":0},{"$f":"様式4!D65","v":0},{"$f":"様式4!E65","v":0}]
[null,"059",{"$f":"様式4!C66","v":0},{"$f":"様式4!D66","v":0},{"$f":"様式4!E66","v":0}]
[null,"060",{"$f":"様式4!C67","v":0},{"$f":"様式4!D67","v":0},{"$f":"様式4!E67","v":0}]
[null,"061",{"$f":"様式4!C68","v":0},{"$f":"様式4!D68","v":0},{"$f":"様式4!E68","v":0}]
[null,"062",{"$f":"様式4!C69","v":0},{"$f":"様式4!D69","v":0},{"$f":"様式4!E69","v":0}]
[null,"063",{"$f":"様式4!C70","v":0},{"$f":"様式4!D70","v":0},{"$f":"様式4!E70","v":0}]
[null,"064",{"$f":"様式4!C71","v":0},{"$f":"様式4!D71","v":0},{"$f":"様式4!E71","v":0}]
[null,"065",{"$f":"様式4!C72","v":0},{"$f":"様式4!D72","v":0},{"$f":"様式4!E72","v":0}]
[null,"066",{"$f":"様式4!C73","v":0},{"$f":"様式4!D73","v":0},{"$f":"様式4!E73","v":0}]
[null,"067",{"$f":"様式4!C74","v":0},{"$f":"様式4!D74","v":0},{"$f":"様式4!E74","v":0}]
[null,"068",{"$f":"様式4!C75","v":0},{"$f":"様式4!D75","v":0},{"$f":"様式4!E75","v":0}]
[null,"069",{"$f":"様式4!C76","v":0},{"$f":"様式4!D76","v":0},{"$f":"様式4!E76","v":0}]
[null,"070",{"$f":"様式4!C77","v":0},{"$f":"様式4!D77","v":0},{"$f":"様式4!E77","v":0}]
[null,"071",{"$f":"様式4!C78","v":0},{"$f":"様式4!D78","v":0},{"$f":"様式4!E78","v":0}]
[null,"072",{"$f":"様式4!C79","v":0},{"$f":"様式4!D79","v":0},{"$f":"様式4!E79","v":0}]
[null,"073",{"$f":"様式4!C80","v":0},{"$f":"様式4!D80","v":0},{"$f":"様式4!E80","v":0}]
[null,"074",{"$f":"様式4!C81","v":0},{"$f":"様式4!D81","v":0},{"$f":"様式4!E81","v":0}]
[null,"075",{"$f":"様式4!C82","v":0},{"$f":"様式4!D82","v":0},{"$f":"様式4!E82","v":0}]
[null,"076",{"$f":"様式4!C83","v":0},{"$f":"様式4!D83","v":0},{"$f":"様式4!E83","v":0}]
[null,"077",{"$f":"様式4!C84","v":0},{"$f":"様式4!D84","v":0},{"$f":"様式4!E84","v":0}]
[null,"078",{"$f":"様式4!C85","v":0},{"$f":"様式4!D85","v":0},{"$f":"様式4!E85","v":0}]
[null,"079",{"$f":"様式4!C86","v":0},{"$f":"様式4!D86","v":0},{"$f":"様式4!E86","v":0}]
[null,"080",{"$f":"様式4!C87","v":0},{"$f":"様式4!D87","v":0},{"$f":"様式4!E87","v":0}]
[null,"081",{"$f":"様式4!C88","v":0},{"$f":"様式4!D88","v":0},{"$f":"様式4!E88","v":0}]
[null,"082",{"$f":"様式4!C89","v":0},{"$f":"様式4!D89","v":0},{"$f":"様式4!E89","v":0}]
[null,"083",{"$f":"様式4!C90","v":0},{"$f":"様式4!D90","v":0},{"$f":"様式4!E90","v":0}]
[null,"084",{"$f":"様式4!C91","v":0},{"$f":"様式4!D91","v":0},{"$f":"様式4!E91","v":0}]
[null,"085",{"$f":"様式4!C92","v":0},{"$f":"様式4!D92","v":0},{"$f":"様式4!E92","v":0}]
[null,"086",{"$f":"様式4!C93","v":0},{"$f":"様式4!D93","v":0},{"$f":"様式4!E93","v":0}]
[null,"087",{"$f":"様式4!C94","v":0},{"$f":"様式4!D94","v":0},{"$f":"様式4!E94","v":0}]
[null,"088",{"$f":"様式4!C95","v":0},{"$f":"様式4!D95","v":0},{"$f":"様式4!E95","v":0}]
[null,"089",{"$f":"様式4!C96","v":0},{"$f":"様式4!D96","v":0},{"$f":"様式4!E96","v":0}]
[null,"090",{"$f":"様式4!C97","v":0},{"$f":"様式4!D97","v":0},{"$f":"様式4!E97","v":0}]
[null,"091",{"$f":"様式4!C98","v":0},{"$f":"様式4!D98","v":0},{"$f":"様式4!E98","v":0}]
[null,"092",{"$f":"様式4!C99","v":0},{"$f":"様式4!D99","v":0},{"$f":"様式4!E99","v":0}]
[null,"093",{"$f":"様式4!C100","v":0},{"$f":"様式4!D100","v":0},{"$f":"様式4!E100","v":0}]
[null,"094",{"$f":"様式4!C101","v":0},{"$f":"様式4!D101","v":0},{"$f":"様式4!E101","v":0}]
[null,"095",{"$f":"様式4!C102","v":0},{"$f":"様式4!D102","v":0},{"$f":"様式4!E102","v":0}]
[null,"096",{"$f":"様式4!C103","v":0},{"$f":"様式4!D103","v":0},{"$f":"様式4!E103","v":0}]
[null,"097",{"$f":"様式4!C104","v":0},{"$f":"様式4!D104","v":0},{"$f":"様式4!E104","v":0}]
[null,"098",{"$f":"様式4!C105","v":0},{"$f":"様式4!D105","v":0},{"$f":"様式4!E105","v":0}]
[null,"099",{"$f":"様式4!C106","v":0},{"$f":"様式4!D106","v":0},{"$f":"様式4!E106","v":0}]
[null,"100",{"$f":"様式4!C107","v":0},{"$f":"様式4!D107","v":0},{"$f":"様式4!E107","v":0}]
[null,"101",{"$f":"様式4!C108","v":0},{"$f":"様式4!D108","v":0},{"$f":"様式4!E108","v":0}]
[null,"102",{"$f":"様式4!C109","v":0},{"$f":"様式4!D109","v":0},{"$f":"様式4!E109","v":0}]
[null,"103",{"$f":"様式4!C110","v":0},{"$f":"様式4!D110","v":0},{"$f":"様式4!E110","v":0}]
[null,"104",{"$f":"様式4!C111","v":0},{"$f":"様式4!D111","v":0},{"$f":"様式4!E111","v":0}]
[null,"105",{"$f":"様式4!C112","v":0},{"$f":"様式4!D112","v":0},{"$f":"様式4!E112","v":0}]
[null,"106",{"$f":"様式4!C113","v":0},{"$f":"様式4!D113","v":0},{"$f":"様式4!E113","v":0}]
[null,"107",{"$f":"様式4!C114","v":0},{"$f":"様式4!D114","v":0},{"$f":"様式4!E114","v":0}]
[null,"108",{"$f":"様式4!C115","v":0},{"$f":"様式4!D115","v":0},{"$f":"様式4!E115","v":0}]
[null,"109",{"$f":"様式4!C116","v":0},{"$f":"様式4!D116","v":0},{"$f":"様式4!E116","v":0}]
[null,"110",{"$f":"様式4!C117","v":0},{"$f":"様式4!D117","v":0},{"$f":"様式4!E117","v":0}]
[null,"111",{"$f":"様式4!C118","v":0},{"$f":"様式4!D118","v":0},{"$f":"様式4!E118","v":0}]
[null,"112",{"$f":"様式4!C119","v":0},{"$f":"様式4!D119","v":0},{"$f":"様式4!E119","v":0}]
[null,"113",{"$f":"様式4!C120","v":0},{"$f":"様式4!D120","v":0},{"$f":"様式4!E120","v":0}]
[null,"114",{"$f":"様式4!C121","v":0},{"$f":"様式4!D121","v":0},{"$f":"様式4!E121","v":0}]
[null,"115",{"$f":"様式4!C122","v":0},{"$f":"様式4!D122","v":0},{"$f":"様式4!E122","v":0}]
[null,"116",{"$f":"様式4!C123","v":0},{"$f":"様式4!D123","v":0},{"$f":"様式4!E123","v":0}]
[null,"117",{"$f":"様式4!C124","v":0},{"$f":"様式4!D124","v":0},{"$f":"様式4!E124","v":0}]
[null,"118",{"$f":"様式4!C125","v":0},{"$f":"様式4!D125","v":0},{"$f":"様式4!E125","v":0}]
[null,"119",{"$f":"様式4!C126","v":0},{"$f":"様式4!D126","v":0},{"$f":"様式4!E126","v":0}]
[null,"120",{"$f":"様式4!C127","v":0},{"$f":"様式4!D127","v":0},{"$f":"様式4!E127","v":0}]
[null,"121",{"$f":"様式4!C128","v":0},{"$f":"様式4!D128","v":0},{"$f":"様式4!E128","v":0}]
[null,"122",{"$f":"様式4!C129","v":0},{"$f":"様式4!D129","v":0},{"$f":"様式4!E129","v":0}]
[null,"123",{"$f":"様式4!C130","v":0},{"$f":"様式4!D130","v":0},{"$f":"様式4!E130","v":0}]
[null,"124",{"$f":"様式4!C131","v":0},{"$f":"様式4!D131","v":0},{"$f":"様式4!E131","v":0}]
[null,"125",{"$f":"様式4!C132","v":0},{"$f":"様式4!D132","v":0},{"$f":"様式4!E132","v":0}]
[null,"126",{"$f":"様式4!C133","v":0},{"$f":"様式4!D133","v":0},{"$f":"様式4!E133","v":0}]
[null,"127",{"$f":"様式4!C134","v":0},{"$f":"様式4!D134","v":0},{"$f":"様式4!E134","v":0}]
[null,"128",{"$f":"様式4!C135","v":0},{"$f":"様式4!D135","v":0},{"$f":"様式4!E135","v":0}]
[null,"129",{"$f":"様式4!C136","v":0},{"$f":"様式4!D136","v":0},{"$f":"様式4!E136","v":0}]
[null,"130",{"$f":"様式4!C137","v":0},{"$f":"様式4!D137","v":0},{"$f":"様式4!E137","v":0}]
[null,"131",{"$f":"様式4!C138","v":0},{"$f":"様式4!D138","v":0},{"$f":"様式4!E138","v":0}]
[null,"132",{"$f":"様式4!C139","v":0},{"$f":"様式4!D139","v":0},{"$f":"様式4!E139","v":0}]
[null,"133",{"$f":"様式4!C140","v":0},{"$f":"様式4!D140","v":0},{"$f":"様式4!E140","v":0}]
[null,"134",{"$f":"様式4!C141","v":0},{"$f":"様式4!D141","v":0},{"$f":"様式4!E141","v":0}]
[null,"135",{"$f":"様式4!C142","v":0},{"$f":"様式4!D142","v":0},{"$f":"様式4!E142","v":0}]
[null,"136",{"$f":"様式4!C143","v":0},{"$f":"様式4!D143","v":0},{"$f":"様式4!E143","v":0}]
[null,"137",{"$f":"様式4!C144","v":0},{"$f":"様式4!D144","v":0},{"$f":"様式4!E144","v":0}]
[null,"138",{"$f":"様式4!C145","v":0},{"$f":"様式4!D145","v":0},{"$f":"様式4!E145","v":0}]
[null,"139",{"$f":"様式4!C146","v":0},{"$f":"様式4!D146","v":0},{"$f":"様式4!E146","v":0}]
[null,"140",{"$f":"様式4!C147","v":0},{"$f":"様式4!D147","v":0},{"$f":"様式4!E147","v":0}]
[null,"141",{"$f":"様式4!C148","v":0},{"$f":"様式4!D148","v":0},{"$f":"様式4!E148","v":0}]
[null,"142",{"$f":"様式4!C149","v":0},{"$f":"様式4!D149","v":0},{"$f":"様式4!E149","v":0}]
[null,"143",{"$f":"様式4!C150","v":0},{"$f":"様式4!D150","v":0},{"$f":"様式4!E150","v":0}]
[null,"144",{"$f":"様式4!C151","v":0},{"$f":"様式4!D151","v":0},{"$f":"様式4!E151","v":0}]
[null,"145",{"$f":"様式4!C152","v":0},{"$f":"様式4!D152","v":0},{"$f":"様式4!E152","v":0}]
[null,"146",{"$f":"様式4!C153","v":0},{"$f":"様式4!D153","v":0},{"$f":"様式4!E153","v":0}]
[null,"147",{"$f":"様式4!C154","v":0},{"$f":"様式4!D154","v":0},{"$f":"様式4!E154","v":0}]
[null,"148",{"$f":"様式4!C155","v":0},{"$f":"様式4!D155","v":0},{"$f":"様式4!E155","v":0}]
[null,"149",{"$f":"様式4!C156","v":0},{"$f":"様式4!D156","v":0},{"$f":"様式4!E156","v":0}]
[null,"150",{"$f":"様式4!C157","v":0},{"$f":"様式4!D157","v":0},{"$f":"様式4!E157","v":0}]

{"sheet":"様式7","index":9,"n_rows":31,"n_cols":22,"rows_kept":31,"cut":false,"hidden":false,"merged":[[21,12,21,18],[22,4,22,11],[22,12,22,18],[23,4,23,11],[23,12,23,18],[24,4,24,11],[24,12,24,18],[25,4,25,11],[25,12,25,18],[33,2,33,18],[29,4,29,11],[29,12,29,18],[30,4,30,11],[30,12,30,18],[34,2,34,18],[25,1,25,3],[24,1,24,3],[23,1,23,3],[32,2,32,18],[29,1,29,3],[28,1,28,3],[30,1,30,3],[27,1,27,3],[26,1,26,3],[26,4,26,11],[26,12,26,18],[27,4,27,11],[27,12,27,18],[28,4,28,11],[28,12,28,18],[17,1,17,3],[20,1,20,3],[19,1,19,3],[18,1,18,3],[22,1,22,3],[21,1,21,3],[17,4,17,11],[17,12,17,18],[18,4,18,11],[18,12,18,18],[19,4,19,11],[19,12,19,18],[20,4,20,11],[20,12,20,18],[21,4,21,11],[0,2,0,8],[2,1,2,17],[4,1,6,7],[5,8,5,18],[4,8,4,18],[6,8,6,12],[6,17,6,18],[6,14,6,15],[7,8,7,18],[3,1,3,18],[8,8,8,12],[9,8,9,12],[10,1,10,17],[8,13,8,18],[9,13,9,18],[14,4,14,5],[15,1,15,3],[11,4,11,18],[12,4,12,18],[13,13,14,15],[13,16,14,17],[13,18,14,18],[11,1,11,3],[12,1,12,3],[13,1,14,3],[13,4,13,5],[15,4,15,18]]}
[null,"様式7","※黄色で示している部分を入力して下さい",null,null,null,null,null,null,null,null,"記入日","西暦",null,"年",null,"月",null,"日"]
[]
[null,"C級認定審判員養成講習会　講習会　実施報告書"]
[null,"※1,※2　「教材発注依頼書」の入力データが反映されています。 変更箇所がある場合は上書きしてください。"]
[null," 日本ライフセービング協会\n 理事長　　殿",null,null,null,null,null,null,"指導員氏名 ※1"]
[null,null,null,null,null,null,null,null,{"$f":"様式1!I6","v":0}]
[null,null,null,null,null,null,null,null,"住所 ※1",null,null,null,null,"〒",{"$f":"様式1!N7","v":0},null,"-",{"$f":"様式1!Q7","v":0}]
[null,null,null,null,null,null,null,null,{"$f":"様式1!I8","v":0}]
[null,null,null,null,null,null,null,null,"電話番号 ※1",null,null,null,null,"Eメール ※1"]
[null,null,null,null,null,null,null,null,{"$f":"様式1!I10","v":0},null,null,null,null,{"$f":"様式1!M10","v":0}]
[null,"下記の通り、日本ライフセービング協会  C級認定審判員養成講習会が終了したことを報告いたします。"]
[null,"講習会名",null,null,{"$f":"様式1!E13","v":"C級認定審判員養成講習会"}]
[null,"主管\n団体（者）名",null,null,{"$f":"様式1!E14","v":0}]
[null,"開催日程",null,null,"開始日 ※2",null,"西暦",{"$f":"様式1!H17","v":0},"年",{"$f":"様式1!J17","v":0},"月",{"$f":"様式1!L17","v":0},"日","合計日数 ※2",null,null,{"$f":"様式1!P17","v":0},null,"日"]
[null,null,null,null,"検定日 ※2",null,"西暦",{"$f":"様式1!H18","v":0},"年",{"$f":"様式1!J18","v":0},"月",{"$f":"様式1!L18","v":0},"日"]
[null,"開催場所"]
[]
[null,"指導員氏名",null,null,"指導日",null,null,null,null,null,null,null,"今年度\n審判員資格登録費納入"]
[null,"（例）協会　太郎",null,null,"10/15,20",null,null,null,null,null,null,null,"○入金済"]
[]
[]
[]
[]
[]
[]
[]
[]
[]
[]
[]
[null,null,null,null,null,null,null,null,null,null,null,null,null,null,null,null,null,null,null,null,null," 　\n　"]

{"sheet":"様式8","index":10,"n_rows":33,"n_cols":18,"rows_kept":33,"cut":false,"hidden":false,"merged":[[32,1,32,17],[33,1,42,17],[22,1,31,17],[21,1,21,17],[11,1,20,17],[10,1,10,17],[8,1,8,3],[8,4,8,9],[8,10,8,12],[8,13,8,16],[6,1,6,3],[6,4,6,9],[6,10,6,13],[6,14,6,17],[7,1,7,3],[7,4,7,17],[0,2,0,12],[2,1,2,17],[4,1,4,3],[4,4,4,17],[5,1,5,3],[5,4,5,17]]}
[null,"様式8","※黄色で示している部分を入力して下さい（指導員全員が提出します）"]
[]
[null,"C級認定審判員養成講習会　指導員報告書"]
[]
[null,"講習会名",null,null,{"$f":"様式1!E13","v":"C級認定審判員養成講習会"}]
[null,"主管/共催\n団体（者）名",null,null,{"$f":"様式1!E14","v":0}]
[null,"開催場所",null,null,{"$f":"様式1!E30","v":0},null,null,null,null,null,"所在地\n（都道府県市区町村まで）",null,null,null,{"$f":"様式1!O30","v":0}]
[null,"氏　　名"]
[null,"参加日",null,null,null,null,null,null,null,null,"参加日数 合計",null,null,null,null,null,null,"日"]
[]
[null,"受講者からの質問内容について"]
[]
[]
[]
[]
[]
[]
[]
[]
[]
[]
[null,"今回の講習会の問題点／改善が必要と思われる点／特殊な事例報告など"]
[]
[]
[]
[]
[]
[]
[]
[]
[]
[]
[null,"競技審判委員会への要望他（該当する事柄がない場合は記入不要）"]

{"sheet":"管理","index":11,"n_rows":5,"n_cols":11,"rows_kept":5,"cut":false,"hidden":true,"merged":[[2,1,2,10],[11,35,11,36],[14,8,14,9],[11,8,11,9],[14,6,14,7],[11,6,11,7]]}
[null,"管理"]
[]
[null,"指導員管理"]
[null,"講習会種別","主管/共催\n団体（者）名","開催場所","所在地 ","氏名","参加日","参加日数\n合計（日）","受講者からの\n質問内容","今回の講習会の問題点　ほか","競技運営・審判委員会への要望　ほか"]
[null,{"$f":"様式8!E5","v":"C級認定審判員養成講習会"},{"$f":"様式8!E6","v":0},{"$f":"様式8!E7","v":0},{"$f":"様式8!O7","v":0},{"$f":"様式8!E8","v":0},{"$f":"様式8!E9","v":"00:00:00"},{"$f":"様式8!N9","v":0},{"$f":"様式8!B12&様式8!B18&様式8!B19&様式8!B20&様式8!B21","v":""},{"$f":"様式8!B23&様式8!B29&様式8!B30&様式8!B31&様式8!B32","v":""},{"$f":"様式8!B34&様式8!B40&様式8!B41&様式8!B42&様式8!B43","v":""}]

{"sheet":"マスタ","index":12,"n_rows":167,"n_cols":14,"rows_kept":167,"cut":false,"hidden":true,"merged":[[95,2,96,2],[95,3,96,3],[95,0,104,0],[101,2,102,2],[99,2,100,2],[97,2,98,2],[97,1,103,1],[58,1,93,1],[52,0,93,0],[95,1,96,1],[85,3,87,3],[82,3,84,3],[82,2,87,2],[91,3,93,3],[88,3,90,3],[88,2,93,2],[70,3,72,3],[73,3,75,3],[70,2,75,2],[79,3,81,3],[76,3,78,3],[76,2,81,2],[58,3,60,3],[61,3,63,3],[58,2,63,2],[67,3,69,3],[64,3,66,3],[64,2,69,2],[22,0,50,0],[52,1,57,1],[56,2,57,2],[54,2,55,2],[52,2,53,2],[43,1,50,1],[43,2,50,2],[33,2,34,2],[31,2,32,2],[49,3,50,3],[47,3,48,3],[45,3,46,3],[43,3,44,3],[22,1,23,1],[22,2,23,2],[22,3,23,3],[24,1,30,1],[31,1,42,1],[24,2,25,2],[26,2,27,2],[28,2,29,2],[41,2,42,2],[39,2,40,2],[37,2,38,2],[35,2,36,2],[1,0,2,0],[4,3,5,3],[4,0,20,0],[6,2,7,2],[6,3,7,3],[12,2,13,2],[10,2,11,2],[8,2,9,2],[8,1,14,1],[6,1,7,1],[4,1,5,1],[15,1,19,1],[4,2,5,2]]}
[null,"資格種類","資格区分","対象資格","講習会名"]
["サポーター講習会","選択不要（講習会名を設定してください）","なし","なし","WSサポーター","選択してください","選択不要",null,"選択してください","サポーター講習会","初回講習会","更新講習会","失効講習会","再検定講習会"]
[null,"選択不要（講習会名を設定してください）","なし","なし","BLSサポーター","選択してください","WSサポーター","BLSサポーター"]
[]
["初回講習会","初回ウォーターセーフティ","ウォーターセーフティ","ウォーターセーフティ","WS(教育特割）","選択してください","初回ウォーターセーフティ","初回BLS","初回認定ライフセーバー","初回指導員","初回審判員"]
[null,null,null,null,"WS","選択してください","選択してください","選択してください","選択してください","選択してください",null,"選択してください","選択してください"]
[null,"BLS","BLS","BLS","BLS(教育特割)","WS(教育特割）","BLS(教育特割)","ベーシックサーフLS","指導員(WS)","C級審判員",null,"BLS","検定試験合格年度を除く2年間"]
[null,null,null,null,"BLS","WS","BLS","アドバンスサーフLS","指導員(BLS)",null,null,"WS","検定試験合格年度を除く5年間"]
[null,"認定ライフセーバー","サーフライフセーバー","ベーシックサーフライフセーバー","ベーシックサーフLS","BLS(教育特割)",null,"プールLG","指導員(サーフ)",null,null,"ベーシック・サーフライフセーバー","検定試験合格年度を除く3年間"]
[null,null,null,"アドバンスライフセーバー","アドバンスサーフLS","BLS",null,"アドバンスプールLG","指導員（プール)",null,null,"アドバンス・サーフライフセーバー","検定試験合格年度を除く3年間"]
[null,null,"プールライフガード","プールライフガード","プールLG","BLS更新（教育特割）",null,"IRBクルー","指導員（ジュニア）",null,null,"IRB・クルー","検定試験合格年度を除く3年間"]
[null,null,null,"アドバンスプールライフガード","アドバンスプールLG","BLS更新",null,"IRBドライバー",null,null,null,"IRB・ドライバー","検定試験合格年度を除く3年間"]
[null,null,"IRB","IRBクルー","IRBクルー","指導員更新",null,"リーダー",null,null,null,"プールライフガード","検定試験合格年度を除く3年間"]
[null,null,null,"IRBドライバー","IRBドライバー","指導員失効（1資格目）",null,null,null,null,null,"アドバンス・プールライフガード","検定試験合格年度を除く3年間"]
[null,null,"ジュニア","リーダー","リーダー","指導員失効（2資格目）",null,null,null,null,null,"リーダー","検定試験合格年度を除く3年間"]
[null,"指導員","ウォーターセーフティ","ウォーターセーフティアシスタント指導員","指導員(WS)","指導員失効（3資格目以降）",null,null,null,null,null,"ウォーターセーフティアシスタント指導員","検定試験合格年度を除く2年間"]
[null,null,"BLS","BLSアシスタント指導員","指導員(BLS)","BLS再試験（教育特割）",null,null,null,null,null,"ウォーターセーフティ指導員","検定試験合格年度を除く2年間"]
[null,null,"サーフライフセーバー","サーフライフセーバーアシスタント指導員","指導員(サーフ)","BLS再試験",null,null,null,null,null,"BLSアシスタント指導員","検定試験合格年度を除く2年間"]
[null,null,"プールライフガード","プールライフガードアシスタント指導員","指導員（プール)",null,null,null,null,null,null,"BLS指導員","検定試験合格年度を除く2年間"]
[null,null,"ジュニア","ジュニアライフセービングアシスタント指導員","指導員（ジュニア）",null,null,null,null,null,null,"サーフライフセーバーアシスタント指導員","検定試験合格年度を除く2年間"]
[null,"審判員","審判員","C級認定審判員","C級審判員",null,null,null,null,null,null,"サーフライフガード指導員","検定試験合格年度を除く2年間"]
[null,null,null,null,null,null,null,null,null,null,null,"プールライフガーディングアシスタント指導員","検定試験合格年度を除く2年間"]
["更新講習会","BLS","BLS","BLS","BLS更新（教育特割）","選択してください","更新BLS","更新認定ライフセーバー","更新指導員","更新審判員",null,"プールライフガーディング指導員","検定試験合格年度を除く2年間"]
[null,null,null,null,"BLS更新","選択してください","選択してください","選択してください","選択してください",null,null,"IRBアシスタント指導員","検定試験合格年度を除く2年間"]
[null,"認定ライフセーバー","サーフライフセーバー","ベーシックサーフライフセーバー","認定LS更新","BLS更新（教育特割）","認定LS更新","指導員更新","審判員更新（レポート提出）",null,null,"IRB指導員","検定試験合格年度を除く2年間"]
[null,null,null,"アドバンスサーフライフセーバー","認定LS更新","BLS更新",null,null,"審判員更新（講習会）",null,null,"ジュニアライフセービングアシスタント指導員","検定試験合格年度を除く2年間"]
[null,null,"プールライフガード","プールライフガード","認定LS更新",null,null,null,null,null,null,"ジュニアライフセービング指導員","検定試験合格年度を除く2年間"]
[null,null,null,"アドバンスプールライフガード","認定LS更新",null,null,null,null,null,null,"C級審判員","検定試験合格年度を除く2年間"]
[null,null,"IRB","IRBクルー","認定LS更新",null,"5年間（検定試験合格年度を除く）","5年間（検定試験合格年度を除く）",null,null,null,"B級審判員","検定試験合格年度を除く2年間"]
[null,null,null,"IRBドライバー","認定LS更新",null,null,null,null,null,null,"A級審判員","検定試験合格年度を除く2年間"]
[null,null,"ジュニア","リーダー","認定LS更新",null,"2年間（検定試験合格年度を除く）",null,null,null,null,"S級審判員","検定試験合格年度を除く2年間"]
[null,"指導員","ウォーターセーフティ","ウォーターセーフティアシスタント指導員","指導員更新"]
[null,null,null,"ウォーターセーフティ指導員","指導員更新"]
[null,null,"BLS","BLSアシスタント指導員","指導員更新",null,null,null,null,null,"選択してください"]
[null,null,null,"BLS指導員","指導員更新",null,null,null,null,null,"BLS講習会"]
[null,null,"サーフライフセーバー","サーフライフセーバーアシスタント指導員","指導員更新",null,null,null,null,null,"ウォーターセーフティ講習会","新規BLS"]
[null,null,null,"サーフライフガード指導員","指導員更新",null,null,null,null,null,null,"更新BLS"]
[null,null,"プールライフガード","プールライフガーディングアシスタント指導員","指導員更新",null,null,null,null,null,null,"更新認定LS"]
[null,null,null,"プールライフガーディング指導員","指導員更新"]
[null,null,"IRB","IRBアシスタント指導員","指導員更新",null,null,null,null,null,null,"新規WS"]
[null,null,null,"IRB指導員","指導員更新",null,null,null,null,null,null,"更新WS"]
[null,null,"ジュニア","ジュニアライフセービングアシスタント指導員","指導員更新"]
[null,null,null,"ジュニアライフセービング指導員","指導員更新"]
[null,"審判員","審判員","C級審判員","審判員更新（レポート提出）"]
[null,null,null,null,"審判員更新（講習会）"]
[null,null,null,"B級審判員","審判員更新（レポート提出）"]
[null,null,null,null,"審判員更新（講習会）"]
[null,null,null,"A級審判員","審判員更新（レポート提出）"]
[null,null,null,null,"審判員更新（講習会）"]
[null,null,null,"S級審判員","審判員更新（レポート提出）"]
[null,null,null,null,"審判員更新（講習会）"]
[]
["失効講習会","認定ライフセーバー","サーフライフセーバー","ベーシックサーフライフセーバー","ベーシックサーフLS失効","選択してください","失効認定ライフセーバー","失効指導員"]
[null,null,null,"アドバンスサーフライフセーバー","アドバンスサーフLS失効","選択してください","選択してください"]
[null,null,"プールライフガード","プールライフガード","プールLG失効","ベーシックサーフLS失効","指導員失効（1資格目）"]
[null,null,null,"アドバンスプールライフガード","アドバンスプールLG失効","アドバンスサーフLS失効","指導員失効（2資格目）"]
[null,null,"IRB","IRBクルー","IRBクルー失効","プールLG失効","指導員失効（3資格目以降）"]
[null,null,null,"IRBドライバー","IRBドライバー失効","アドバンスプールLG失効"]
[null,"指導員","ウォーターセーフティ","ウォーターセーフティアシスタント指導員","指導員失効（1資格目）","IRBクルー失効"]
[null,null,null,null,"指導員失効（2資格目）","IRBドライバー失効"]
[null,null,null,null,"指導員失効（3資格目以降）"]
[null,null,null,"ウォーターセーフティ指導員","指導員失効（1資格目）"]
[null,null,null,null,"指導員失効（2資格目）"]
[null,null,null,null,"指導員失効（3資格目以降）"]
[null,null,"BLS","BLSアシスタント指導員","指導員失効（1資格目）"]
[null,null,null,null,"指導員失効（2資格目）"]
[null,null,null,null,"指導員失効（3資格目以降）"]
[null,null,null,"BLS指導員","指導員失効（1資格目）"]
[null,null,null,null,"指導員失効（2資格目）"]
[null,null,null,null,"指導員失効（3資格目以降）"]
[null,null,"サーフライフセーバー","サーフライフセービングアシスタント指導員","指導員失効（1資格目）"]
[null,null,null,null,"指導員失効（2資格目）"]
[null,null,null,null,"指導員失効（3資格目以降）"]
[null,null,null,"サーフライフセービング指導員","指導員失効（1資格目）"]
[null,null,null,null,"指導員失効（2資格目）"]
[null,null,null,null,"指導員失効（3資格目以降）"]
[null,null,"プールライフガード","プールライフガーディングアシスタント指導員","指導員失効（1資格目）"]
[null,null,null,null,"指導員失効（2資格目）"]
[null,null,null,null,"指導員失効（3資格目以降）"]
[null,null,null,"プールライフガーディング指導員","指導員失効（1資格目）"]
[null,null,null,null,"指導員失効（2資格目）"]
[null,null,null,null,"指導員失効（3資格目以降）"]
[null,null,"IRB","IRBアシスタント指導員","指導員失効（1資格目）"]
[null,null,null,null,"指導員失効（2資格目）"]
[null,null,null,null,"指導員失効（3資格目以降）"]
[null,null,null,"IRB指導員","指導員失効（1資格目）"]
[null,null,null,null,"指導員失効（2資格目）"]
[null,null,null,null,"指導員失効（3資格目以降）"]
[null,null,"ジュニア","ジュニアライフセービングアシスタント指導員","指導員失効（1資格目）"]
[null,null,null,null,"指導員失効（2資格目）"]
[null,null,null,null,"指導員失効（3資格目以降）"]
[null,null,null,"ジュニアライフセービング指導員","指導員失効（1資格目）"]
[null,null,null,null,"指導員失効（2資格目）"]
[null,null,null,null,"指導員失効（3資格目以降）"]
[]
["再検定講習会","BLS","BLS","BLS","BLS再試験（教育特割）","選択してください","再検定BLS","再検定認定ライフセーバー","再検定審判員"]
[null,null,null,null,"BLS再試験","選択してください","選択してください","選択してください"]
[null,"認定ライフセーバー","サーフライフセーバー","ベーシックサーフライフセーバー","ベーシックサーフLS再試験","BLS再試験（教育特割）","ベーシックサーフLS再試験","C級審判員再試験"]
[null,null,null,"アドバンスサーフライフセーバー","アドバンスサーフLS再試験","BLS再試験","アドバンスサーフLS再試験"]
[null,null,"プールライフセーバー","プールライフガード","プールLG再試験",null,"プールLG再試験"]
[null,null,null,"アドバンスプールライフガード","アドバンスプールLG再試験",null,"アドバンスプールLG再試験"]
[null,null,"IRB","IRBクルー","IRBクルー再試験",null,"IRBクルー再試験"]
[null,null,null,"IRBドライバー","IRBドライバー再試験",null,"IRBドライバー再試験"]
[null,null,"ジュニア","リーダー","リーダー再試験",null,"リーダー再試験"]
[null,"審判員","審判員","C級認定審判員","C級審判員再試験"]
[]
[]
["北海道","選択してください",null,"指導員資格種類","BLS・アシスタントインストラクター"]
["青森県","テキスト",null,"選択してください","BLS・インストラクター"]
["岩手県","プルダウン",null,"BLS I","ウォーターセーフティ・アシスタントインストラクター"]
["宮城県","ラジオボタン",null,"BLS A","ウォーターセーフティ・インストラクター"]
["秋田県","チェックボックス",null,"WS I"]
["山形県","テキストエリア",null,"WS A"]
["福島県",null,null,"S I"]
["茨城県","（独自設定）",null,"S A"]
["栃木県","都道府県",null,"PL I"]
["群馬県","血液型",null,"PL A"]
["埼玉県","都道府県協会",null,"IRB I"]
["千葉県",null,null,"IRB A"]
["東京都",null,null,"Jr.L I"]
["神奈川県","doc(docx)",null,"Jr.L A"]
["新潟県","xls(xlsx)"]
["富山県","ppt(pptx)",1,1]
["石川県","pdf",2,2]
["福井県","txt",3,3]
["山梨県","bmp",4,4]
["長野県","jpg",5,5]
["岐阜県","gif",6,6]
["静岡県","png",7,7]
["愛知県",null,8,8]
["三重県","00",9,9]
["滋賀県","05",10,10]
["京都府","10",11,11]
["大阪府","15",12,12]
["兵庫県","20",null,13]
["奈良県","25",null,14]
["和歌山県","30",null,15]
["鳥取県","35",null,16]
["島根県","40",null,17]
["岡山県","45",null,18]
["広島県","50",null,19]
["山口県","55",null,20]
["徳島県",null,null,21]
["香川県","0",null,22]
["愛媛県","1",null,23]
["高知県","2",null,24]
["福岡県","3",null,25]
["佐賀県","4",null,26]
["長崎県","5",null,27]
["熊本県","6",null,28]
["大分県","7",null,29]
["宮崎県","8",null,30]
["鹿児島県","9",null,31]
["沖縄県","10"]
[null,"11"]
[null,"12"]
[null,"13"]
[null,"14"]
[null,"15"]
[null,"16"]
[null,"17"]
[null,"18"]
[null,"19"]
[null,"20"]
[null,"21"]
[null,"22"]
[null,"23"]