{"text_format":"1","workbook":"xlsx","n_sheets":8,"sheets":["※C級認定審判員養成講習会の流れ ","様式2","様式4","様式6","様式7","様式8","管理","マスタ"],"not_rendered":{"charts":0,"images":0,"macros":1,"external_links":0,"defined_names":88,"comments":4,"pivot_tables":0},"unopened":[],"bounds":{"document_bytes":16777216,"sheet_cells":100000,"rows_first":2000,"rows_last":500,"rows_between":2000,"halvings":0,"cell_chars":16384,"cell_head_chars":4096},"cells_cut":0,"cells_raw":0,"read":"whole","date_system":"1900"}

{"sheet":"※C級認定審判員養成講習会の流れ ","index":0,"n_rows":30,"n_cols":5,"rows_kept":30,"cut":false,"hidden":false,"merged":[[10,1,13,1],[14,1,18,1],[19,1,24,1],[19,3,24,3],[4,1,8,1]]}
[]
[null,"C級認定審判員養成講習会の流れ（主管：都道府県協会および第1種クラブの場合）",null,null,"2023.4.1"]
[null,"時期","内容","詳細","JLAへの提出書類・データ等"]
[null,"年度始め","講習会実施計画","主管クラブで講習会の計画を立てる\n①講習種類　②日程　③会場　④定員　⑤責任者　⑥予算　等"]
[null,"30日以上前まで","LIFESAVERSへ登録\n・ページ作成⇒承認⇒掲載","都道府県協会主管講習会⇒ページ作成後、掲載\n第1種クラブ主管講習会⇒ページ作成後、都道府県協会承認。その後掲載。"]
[null,null,"受講者の募集開始","LIFESAVERS上で募集開始。"]
[null,null,"受講者の受付"]
[null,null,"受講者への連絡","変更や情報の追加が発生した場合は必要に応じて主管者から連絡する"]
[null,null,"指導員、スタッフ選出","担当する指導員、スタッフを決め、打ち合わせをする。スタッフの選出にあたり、各自のライセンス、経験、体力、意識等の能力を充分鹹味すること。"]
[null,"開催の5日前まで\n（土日祝を含めない）","教材発注依頼の提出\n・受講人数\n・指導員","・教材発注書をメールにてデータ送信≪academy@jla.gr.jp≫し、受講人数を報告することで 教材、検定書類の発注をする。\n・決定している指導員を報告する。","【本データ】様式2"]
[null,"前日まで","事前打ち合わせ","指導員とスタッフで事前に打ち合わせ、リハーサルを行う事が望ましい。\n期間中の気象海象予報を確認しプログラムの２次案、３次案を想定。"]
[null,null,"事前準備","講習に必要な準備を行う\n①講習セット（教本、指導要領等）　\n②器具、機材、教材の確認と運搬\n③講習実施に必要な各資料\n④検定セット・・その他"]
[null,null,"教材、検定書類等受け取る","JLAから教材、検定書類が届く"]
[null,null,"関係各所に連絡","必要な関係各所（保安庁、警察、自治体、漁協、病院、浜関係者等）に\n簡略書式等にて事前に周知しておく事が望ましい。"]
[null,"講習中","開講式","①名簿・出欠表　②予定表（タイムテーブル）　③その他　→配布式次第（例）\n　　１.開講宣言\n　　２.主管者挨拶\n　　３.指導員・スタッフ紹介\n　　４.諸注意、事務連絡"]
[null,null,"実施上の注意","円滑で効果的な講習会を目指すも、全てに安全が優先することを忘れない。\n→法的責任問題回避のためにも下記に留意する。\n①1日の気象海象予測とプログラムの再確認（講習の種別による）。\n②事前の健康確認。\n③特に祝祭日の救急医療機関の確認。\n④その他の危機管理全般確認"]
[null,null,"検定","①検定　②アンケート　　→回収"]
[null,null,"閉講式","合否連絡等、事務連絡詳細　式次第（例）\n　　１.指導員総評\n　　２.主管者挨拶\n　　３.事務連絡（合格していれば認定日に資格が付与される）"]
[null,null,"事務処理（終了直後）","出来れば以下を即行うことが望ましい\n①採点　②合否判定\n③その他、各記録、報告書、反省会のとりまとめ\n④スタッフに対する精算（領収書作成）\n⑤地元関係各所への報告及び挨拶"]
[null,"7日後まで","受講者名簿※1","講習会終了後必ず7日以内にアカデミー事務局へ郵送\n\n〒220-6218\n　横浜市西区みなとみらい2-3-5　クイーンズタワーC　18階\n　(株)オフサイド気付\n　JLAアカデミー事務局\n　TEL 045-661-0622\n※1についてはメールにてデータ送信とする","【データ】様式4"]
[null,null,"総合結果表※1",null,"【データ】様式6"]
[null,null,"講習会実施報告書※1",null,"【データ】様式7"]
[null,null,"指導員報告書※1",null,"【データ】様式8"]
[null,null,"記入済試験用紙、解答",null,"【書類】記入済試験用紙、解答"]
[null,null,"記入済アンケート用紙",null,"【書類】記入済アンケート用紙"]
[null,"データ受信後\n3営業日以内","資格認定（資格付与）","受信した総合結果表を基に、JLAアカデミー事務局が合否結果を入力。\n主管者側が設定した認定日に、受講者のマイページへ資格が付与される。"]
[]
[]
[]
["　\n　　　"]

{"sheet":"様式2","index":1,"n_rows":27,"n_cols":18,"rows_kept":27,"cut":false,"hidden":false,"merged":[[9,1,9,6],[16,4,16,5],[26,1,29,4],[26,5,29,7],[26,8,29,9],[19,5,19,17],[17,12,17,17],[15,13,16,14],[19,1,19,4],[24,8,25,9],[24,10,24,11],[25,11,25,16],[15,1,16,3],[14,1,14,4],[18,1,18,4],[24,1,25,4],[14,5,14,17],[15,15,16,16],[15,17,16,17],[32,1,33,2],[32,3,32,4],[33,3,33,4],[32,5,32,9],[33,5,33,9],[28,11,28,16],[29,11,29,16],[24,5,25,7],[26,11,26,16],[27,11,27,16],[0,2,0,8],[12,1,12,17],[7,8,7,11],[7,13,7,14],[7,16,7,17],[5,8,5,17],[10,8,10,11],[10,12,10,17],[2,1,2,17],[6,8,6,17],[8,8,8,17],[9,8,9,11],[9,12,9,17],[7,1,7,6],[8,1,8,6],[3,1,5,6],[10,1,10,6],[17,1,17,4],[11,1,11,6],[20,1,22,3],[20,4,21,4],[18,5,18,17],[20,13,20,17],[22,5,22,8],[21,5,21,17],[20,11,20,12],[22,9,22,10],[20,9,20,10],[20,6,20,7],[13,1,13,4],[13,5,13,17],[15,4,15,5]]}
[null,"様式2","※黄色で示している部分を入力して下さい",null,null,null,null,null,null,null,"申請日","西暦",null,"年",null,"月",null,"日"]
[]
[null," C級認定審判員養成講習会　教材発注依頼書"]
[null,"　日本ライフセービング協会  御中"]
[]
[null,null,null,null,null,null,null,null,"申請者氏名　"]
[]
[null,"申請者JLA ID",null,null,null,null,null,null,"住所　",null,null,null,"〒",null,null,"-"]
[]
[null,"LIFESAVERS講習会 ID",null,null,null,null,null,null,"電話番号　",null,null,null,"Eメール　"]
[]
[]
[null,"下記の通り、教材発注を依頼いたします。"]
[null,"講習会名",null,null,null,"C級認定審判員養成講習会"]
[null,"主管\n団体（者）名"]
[null,"開催日程",null,null,"開始日",null,"西暦",null,"年",null,"月",null,"日","合計日数",null,null,null,"日"]
[null,null,null,null,"検定日",null,"西暦",null,"年",null,"月",null,"日"]
[null,"開催時間",null,null,null,null,"：",null,"～",null,"：",null,"※複数日ある場合、初日の時間のみ入力"]
[null,"指導員"]
[null,"開催責任者氏名"]
[null,"教材発送住所",null,null,"住所","〒",null,null,"-",null,null,"電話番号"]
[]
[null,null,null,null,"宛名",null,null,null,null,"必着希望日",null,"西暦",null,"年",null,"月",null,"日"]
[]
[null,"受講人数",null,null,null,null,null,null,"名",null,"備考"]
[]
[null,"教材の発送数量\n（予備を含めた合計）",null,null,null,null,null,null,"名分"]

{"sheet":"様式4","index":2,"n_rows":157,"n_cols":14,"rows_kept":157,"cut":false,"hidden":false,"merged":[[0,2,0,4],[3,16,4,20],[5,11,5,12],[6,11,6,12],[7,11,7,12],[8,11,8,12],[9,11,9,12],[10,11,10,12],[1,1,1,13],[3,4,3,5],[2,4,2,5],[2,1,3,3],[2,6,2,8],[3,6,3,8],[2,9,3,10],[2,11,2,13],[23,11,23,12],[24,11,24,12],[25,11,25,12],[26,11,26,12],[27,11,27,12],[18,11,18,12],[19,11,19,12],[20,11,20,12],[21,11,21,12],[22,11,22,12],[11,11,11,12],[12,11,12,12],[13,11,13,12],[14,11,14,12],[15,11,15,12],[16,11,16,12],[17,11,17,12],[5,6,5,10],[3,11,3,13],[28,11,28,12],[29,11,29,12],[30,11,30,12],[31,11,31,12],[32,11,32,12],[43,11,43,12],[44,11,44,12],[45,11,45,12],[46,11,46,12],[33,11,33,12],[34,11,34,12],[35,11,35,12],[36,11,36,12],[37,11,37,12],[47,11,47,12],[38,11,38,12],[39,11,39,12],[40,11,40,12],[41,11,41,12],[42,11,42,12],[53,11,53,12],[54,11,54,12],[55,11,55,12],[56,11,56,12],[57,11,57,12],[48,11,48,12],[49,11,49,12],[50,11,50,12],[51,11,51,12],[52,11,52,12],[63,11,63,12],[64,11,64,12],[65,11,65,12],[66,11,66,12],[67,11,67,12],[58,11,58,12],[59,11,59,12],[60,11,60,12],[61,11,61,12],[62,11,62,12],[73,11,73,12],[74,11,74,12],[75,11,75,12],[76,11,76,12],[77,11,77,12],[68,11,68,12],[69,11,69,12],[70,11,70,12],[71,11,71,12],[72,11,72,12],[83,11,83,12],[84,11,84,12],[85,11,85,12],[86,11,86,12],[87,11,87,12],[78,11,78,12],[79,11,79,12],[80,11,80,12],[81,11,81,12],[82,11,82,12],[93,11,93,12],[94,11,94,12],[95,11,95,12],[96,11,96,12],[97,11,97,12],[88,11,88,12],[89,11,89,12],[90,11,90,12],[91,11,91,12],[92,11,92,12],[103,11,103,12],[104,11,104,12],[105,11,105,12],[106,11,106,12],[107,11,107,12],[98,11,98,12],[99,11,99,12],[100,11,100,12],[101,11,101,12],[102,11,102,12],[113,11,113,12],[114,11,114,12],[115,11,115,12],[116,11,116,12],[117,11,117,12],[108,11,108,12],[109,11,109,12],[110,11,110,12],[111,11,111,12],[112,11,112,12],[123,11,123,12],[124,11,124,12],[125,11,125,12],[126,11,126,12],[127,11,127,12],[118,11,118,12],[119,11,119,12],[120,11,120,12],[121,11,121,12],[122,11,122,12],[133,11,133,12],[134,11,134,12],[135,11,135,12],[136,11,136,12],[137,11,137,12],[128,11,128,12],[129,11,129,12],[130,11,130,12],[131,11,131,12],[132,11,132,12],[143,11,143,12],[144,11,144,12],[145,11,145,12],[146,11,146,12],[147,11,147,12],[138,11,138,12],[139,11,139,12],[140,11,140,12],[141,11,141,12],[142,11,142,12],[153,11,153,12],[154,11,154,12],[155,11,155,12],[156,11,156,12],[148,11,148,12],[149,11,149,12],[150,11,150,12],[151,11,151,12],[152,11,152,12]]}
[null,"様式4","※黄色で示している部分を入力して下さい"]
[null,"　C級認定審判員養成講習会　受講者名簿"]
[null,{"$f":"様式2!F14","v":"C級認定審判員養成講習会"},null,null,"開始日",null,{"$f":"様式2!H16&様式2!I16&様式2!J16&様式2!K16&様式2!L16&様式2!M16","v":"年月日"},null,null,"指導員名"]
[null,null,null,null,"検定日",null,{"$f":"様式2!H17&様式2!I17&様式2!J17&様式2!K17&様式2!L17&様式2!M17","v":"年月日"}]
[]
[null,"受検番号","申込番号","氏　名","フリガナ","性別","出欠\n（下段のオレンジセルの欄に開催日を入力してください）",null,null,null,null,"所属クラブ\n（JLA公認クラブに限る）",null,"職業"]
[null,"例000",null,"協会　波子","キョウカイ　ナミコ","女",null,null,null,null,null,"●●ライフセービングクラブ",null,"会社員"]
[null,"001"]
[null,"002"]
[null,"003"]
[null,"004"]
[null,"005"]
[null,"006"]
[null,"007"]
[null,"008"]
[null,"009"]
[null,"010"]
[null,"011"]
[null,"012"]
[null,"013"]
[null,"014"]
[null,"015"]
[null,"016"]
[null,"017"]
[null,"018"]
[null,"019"]
[null,"020"]
[null,"021"]
[null,"022"]
[null,"023"]
[null,"024"]
[null,"025"]
[null,"026"]
[null,"027"]
[null,"028"]
[null,"029"]
[null,"030"]
[null,"031"]
[null,"032"]
[null,"033"]
[null,"034"]
[null,"035"]
[null,"036"]
[null,"037"]
[null,"038"]
[null,"039"]
[null,"040"]
[null,"041"]
[null,"042"]
[null,"043"]
[null,"044"]
[null,"045"]
[null,"046"]
[null,"047"]
[null,"048"]
[null,"049"]
[null,"050"]
[null,"051"]
[null,"052"]
[null,"053"]
[null,"054"]
[null,"055"]
[null,"056"]
[null,"057"]
[null,"058"]
[null,"059"]
[null,"060"]
[null,"061"]
[null,"062"]
[null,"063"]
[null,"064"]
[null,"065"]
[null,"066"]
[null,"067"]
[null,"068"]
[null,"069"]
[null,"070"]
[null,"071"]
[null,"072"]
[null,"073"]
[null,"074"]
[null,"075"]
[null,"076"]
[null,"077"]
[null,"078"]
[null,"079"]
[null,"080"]
[null,"081"]
[null,"082"]
[null,"083"]
[null,"084"]
[null,"085"]
[null,"086"]
[null,"087"]
[null,"088"]
[null,"089"]
[null,"090"]
[null,"091"]
[null,"092"]
[null,"093"]
[null,"094"]
[null,"095"]
[null,"096"]
[null,"097"]
[null,"098"]
[null,"099"]
[null,"100"]
[null,"101"]
[null,"102"]
[null,"103"]
[null,"104"]
[null,"105"]
[null,"106"]
[null,"107"]
[null,"108"]
[null,"109"]
[null,"110"]
[null,"111"]
[null,"112"]
[null,"113"]
[null,"114"]
[null,"115"]
[null,"116"]
[null,"117"]
[null,"118"]
[null,"119"]
[null,"120"]
[null,"121"]
[null,"122"]
[null,"123"]
[null,"124"]
[null,"125"]
[null,"126"]
[null,"127"]
[null,"128"]
[null,"129"]
[null,"130"]
[null,"131"]
[null,"132"]
[null,"133"]
[null,"134"]
[null,"135"]
[null,"136"]
[null,"137"]
[null,"138"]
[null,"139"]
[null,"140"]
[null,"141"]
[null,"142"]
[null,"143"]
[null,"144"]
[null,"145"]
[null,"146"]
[null,"147"]
[null,"148"]
[null,"149"]
[null,"150"]

{"sheet":"様式6","index":3,"n_rows":159,"n_cols":7,"rows_kept":159,"cut":false,"hidden":false,"merged":[[6,6,7,6],[1,1,1,6],[3,4,4,4],[3,5,4,5],[3,6,4,6],[3,1,4,2],[2,1,2,2],[3,3,4,3],[0,3,0,5],[6,1,7,1],[6,2,7,2],[6,3,7,3],[6,4,7,4],[6,5,7,5]]}
[null,"様式6",null,"※黄色で示している部分を入力して下さい"]
[null,"C級認定審判員養成講習会　総合結果表"]
[null,"講習会",null,"主管","会場","検定日","検定責任者"]
[null,{"$f":"様式2!F14","v":"C級認定審判員養成講習会"},null,{"$f":"様式2!F15","v":0},null,{"$f":"様式2!H17&様式2!I17&様式2!J17&様式2!K17&様式2!L17&様式2!M17","v":"年月日"}]
[]
[]
[null,"受験番号","申込番号","氏　名","フリガナ","合否","検定試験\n（24点以上合格）\n※点数を入力"]
[]
[null,"例000",null,"協会　波子","キョウカイ　ナミコ","合格",30]
[null,"001",{"$f":"様式4!C8","v":0},{"$f":"様式4!D8","v":0},{"$f":"様式4!E8","v":0}]
[null,"002",{"$f":"様式4!C9","v":0},{"$f":"様式4!D9","v":0},{"$f":"様式4!E9","v":0}]
[null,"003",{"$f":"様式4!C10","v":0},{"$f":"様式4!D10","v":0},{"$f":"様式4!E10","v":0}]
[null,"004",{"$f":"様式4!C11","v":0},{"$f":"様式4!D11","v":0},{"$f":"様式4!E11","v":0}]
[null,"005",{"$f":"様式4!C12","v":0},{"$f":"様式4!D12","v":0},{"$f":"様式4!E12","v":0}]
[null,"006",{"$f":"様式4!C13","v":0},{"$f":"様式4!D13","v":0},{"$f":"様式4!E13","v":0}]
[null,"007",{"$f":"様式4!C14","v":0},{"$f":"様式4!D14","v":0},{"$f":"様式4!E14","v":0}]
[null,"008",{"$f":"様式4!C15","v":0},{"$f":"様式4!D15","v":0},{"$f":"様式4!E15","v":0}]
[null,"009",{"$f":"様式4!C16","v":0},{"$f":"様式4!D16","v":0},{"$f":"様式4!E16","v":0}]
[null,"010",{"$f":"様式4!C17","v":0},{"$f":"様式4!D17","v":0},{"$f":"様式4!E17","v":0}]
[null,"011",{"$f":"様式4!C18","v":0},{"$f":"様式4!D18","v":0},{"$f":"様式4!E18","v":0}]
[null,"012",{"$f":"様式4!C19","v":0},{"$f":"様式4!D19","v":0},{"$f":"様式4!E19","v":0}]
[null,"013",{"$f":"様式4!C20","v":0},{"$f":"様式4!D20","v":0},{"$f":"様式4!E20","v":0}]
[null,"014",{"$f":"様式4!C21","v":0},{"$f":"様式4!D21","v":0},{"$f":"様式4!E21","v":0}]
[null,"015",{"$f":"様式4!C22","v":0},{"$f":"様式4!D22","v":0},{"$f":"様式4!E22","v":0}]
[null,"016",{"$f":"様式4!C23","v":0},{"$f":"様式4!D23","v":0},{"$f":"様式4!E23","v":0}]
[null,"017",{"$f":"様式4!C24","v":0},{"$f":"様式4!D24","v":0},{"$f":"様式4!E24","v":0}]
[null,"018",{"$f":"様式4!C25","v":0},{"$f":"様式4!D25","v":0},{"$f":"様式4!E25","v":0}]
[null,"019",{"$f":"様式4!C26","v":0},{"$f":"様式4!D26","v":0},{"$f":"様式4!E26","v":0}]
[null,"020",{"$f":"様式4!C27","v":0},{"$f":"様式4!D27","v":0},{"$f":"様式4!E27","v":0}]
[null,"021",{"$f":"様式4!C28","v":0},{"$f":"様式4!D28","v":0},{"$f":"様式4!E28","v":0}]
[null,"022",{"$f":"様式4!C29","v":0},{"$f":"様式4!D29","v":0},{"$f":"様式4!E29","v":0}]
[null,"023",{"$f":"様式4!C30","v":0},{"$f":"様式4!D30","v":0},{"$f":"様式4!E30","v":0}]
[null,"024",{"$f":"様式4!C31","v":0},{"$f":"様式4!D31","v":0},{"$f":"様式4!E31","v":0}]
[null,"025",{"$f":"様式4!C32","v":0},{"$f":"様式4!D32","v":0},{"$f":"様式4!E32","v":0}]
[null,"026",{"$f":"様式4!C33","v":0},{"$f":"様式4!D33","v":0},{"$f":"様式4!E33","v":0}]
[null,"027",{"$f":"様式4!C34","v":0},{"$f":"様式4!D34","v":0},{"$f":"様式4!E34","v":0}]
[null,"028",{"$f":"様式4!C35","v":0},{"$f":"様式4!D35","v":0},{"$f":"様式4!E35","v":0}]
[null,"029",{"$f":"様式4!C36","v":0},{"$f":"様式4!D36","v":0},{"$f":"様式4!E36","v":0}]
[null,"030",{"$f":"様式4!C37","v":0},{"$f":"様式4!D37","v":0},{"$f":"様式4!E37","v":0}]
[null,"031",{"$f":"様式4!C38","v":0},{"$f":"様式4!D38","v":0},{"$f":"様式4!E38","v":0}]
[null,"032",{"$f":"様式4!C39","v":0},{"$f":"様式4!D39","v":0},{"$f":"様式4!E39","v":0}]
[null,"033",{"$f":"様式4!C40","v":0},{"$f":"様式4!D40","v":0},{"$f":"様式4!E40","v":0}]
[null,"034",{"$f":"様式4!C41","v":0},{"$f":"様式4!D41","v":0},{"$f":"様式4!E41","v":0}]
[null,"035",{"$f":"様式4!C42","v":0},{"$f":"様式4!D42","v":0},{"$f":"様式4!E42","v":0}]
[null,"036",{"$f":"様式4!C43","v":0},{"$f":"様式4!D43","v":0},{"$f":"様式4!E43","v":0}]
[null,"037",{"$f":"様式4!C44","v":0},{"$f":"様式4!D44","v":0},{"$f":"様式4!E44","v":0}]
[null,"038",{"$f":"様式4!C45","v":0},{"$f":"様式4!D45","v":0},{"$f":"様式4!E45","v":0}]
[null,"039",{"$f":"様式4!C46","v":0},{"$f":"様式4!D46","v":0},{"$f":"様式4!E46","v":0}]
[null,"040",{"$f":"様式4!C47","v":0},{"$f":"様式4!D47","v":0},{"$f":"様式4!E47","v":0}]
[null,"041",{"$f":"様式4!C48","v":0},{"$f":"様式4!D48","v":0},{"$f":"様式4!E48","v":0}]
[null,"042",{"$f":"様式4!C49","v":0},{"$f":"様式4!D49","v":0},{"$f":"様式4!E49","v":0}]
[null,"043",{"$f":"様式4!C50","v":0},{"$f":"様式4!D50","v":0},{"$f":"様式4!E50","v":0}]
[null,"044",{"$f":"様式4!C51","v":0},{"$f":"様式4!D51","v":0},{"$f":"様式4!E51","v":0}]
[null,"045",{"$f":"様式4!C52","v":0},{"$f":"様式4!D52","v":0},{"$f":"様式4!E52","v":0}]
[null,"046",{"$f":"様式4!C53","v":0},{"$f":"様式4!D53","v":0},{"$f":"様式4!E53","v":0}]
[null,"047",{"$f":"様式4!C54","v":0},{"$f":"様式4!D54","v":0},{"$f":"様式4!E54","v":0}]
[null,"048",{"$f":"様式4!C55","v":0},{"$f":"様式4!D55","v":0},{"$f":"様式4!E55","v":0}]
[null,"049",{"$f":"様式4!C56","v":0},{"$f":"様式4!D56","v":0},{"$f":"様式4!E56","v":0}]
[null,"050",{"$f":"様式4!C57","v":0},{"$f":"様式4!D57","v":0},{"$f":"様式4!E57","v":0}]
[null,"051",{"$f":"様式4!C58","v":0},{"$f":"様式4!D58","v":0},{"$f":"様式4!E58","v":0}]
[null,"052",{"$f":"様式4!C59","v":0},{"$f":"様式4!D59","v":0},{"$f":"様式4!E59","v":0}]
[null,"053",{"$f":"様式4!C60","v":0},{"$f":"様式4!D60","v":0},{"$f":"様式4!E60","v":0}]
[null,"054",{"$f":"様式4!C61","v":0},{"$f":"様式4!D61","v":0},{"$f":"様式4!E61","v":0}]
[null,"055",{"$f":"様式4!C62","v":0},{"$f":"様式4!D62","v":0},{"$f":"様式4!E62","v":0}]
[null,"056",{"$f":"様式4!C63","v":0},{"$f":"様式4!D63","v":0},{"$f":"様式4!E63","v":0}]
[null,"057",{"$f":"様式4!C64","v":0},{"$f":"様式4!D64","v":0},{"$f":"様式4!E64","v":0}]
[null,"058",{"$f":"様式4!C65","v":0},{"$f":"様式4!D65","v":0},{"$f":"様式4!E65","v":0}]
[null,"059",{"$f":"様式4!C66","v":0},{"$f":"様式4!D66","v":0},{"$f":"様式4!E66","v":0}]
[null,"060",{"$f":"様式4!C67","v":0},{"$f":"様式4!D67","v":0},{"$f":"様式4!E67","v":0}]
[null,"061",{"$f":"様式4!C68","v":0},{"$f":"様式4!D68","v":0},{"$f":"様式4!E68","v":0}]
[null,"062",{"$f":"様式4!C69","v":0},{"$f":"様式4!D69","v":0},{"$f":"様式4!E69","v":0}]
[null,"063",{"$f":"様式4!C70","v":0},{"$f":"様式4!D70","v":0},{"$f":"様式4!E70","v":0}]
[null,"064",{"$f":"様式4!C71","v":0},{"$f":"様式4!D71","v":0},{"$f":"様式4!E71","v":0}]
[null,"065",{"$f":"様式4!C72","v":0},{"$f":"様式4!D72","v":0},{"$f":"様式4!E72","v":0}]
[null,"066",{"$f":"様式4!C73","v":0},{"$f":"様式4!D73","v":0},{"$f":"様式4!E73","v":0}]
[null,"067",{"$f":"様式4!C74","v":0},{"$f":"様式4!D74","v":0},{"$f":"様式4!E74","v":0}]
[null,"068",{"$f":"様式4!C75","v":0},{"$f":"様式4!D75","v":0},{"$f":"様式4!E75","v":0}]
[null,"069",{"$f":"様式4!C76","v":0},{"$f":"様式4!D76","v":0},{"$f":"様式4!E76","v":0}]
[null,"070",{"$f":"様式4!C77","v":0},{"$f":"様式4!D77","v":0},{"$f":"様式4!E77","v":0}]
[null,"071",{"$f":"様式4!C78","v":0},{"$f":"様式4!D78","v":0},{"$f":"様式4!E78","v":0}]
[null,"072",{"$f":"様式4!C79","v":0},{"$f":"様式4!D79","v":0},{"$f":"様式4!E79","v":0}]
[null,"073",{"$f":"様式4!C80","v":0},{"$f":"様式4!D80","v":0},{"$f":"様式4!E80","v":0}]
[null,"074",{"$f":"様式4!C81","v":0},{"$f":"様式4!D81","v":0},{"$f":"様式4!E81","v":0}]
[null,"075",{"$f":"様式4!C82","v":0},{"$f":"様式4!D82","v":0},{"$f":"様式4!E82","v":0}]
[null,"076",{"$f":"様式4!C83","v":0},{"$f":"様式4!D83","v":0},{"$f":"様式4!E83","v":0}]
[null,"077",{"$f":"様式4!C84","v":0},{"$f":"様式4!D84","v":0},{"$f":"様式4!E84","v":0}]
[null,"078",{"$f":"様式4!C85","v":0},{"$f":"様式4!D85","v":0},{"$f":"様式4!E85","v":0}]
[null,"079",{"$f":"様式4!C86","v":0},{"$f":"様式4!D86","v":0},{"$f":"様式4!E86","v":0}]
[null,"080",{"$f":"様式4!C87","v":0},{"$f":"様式4!D87","v":0},{"$f":"様式4!E87","v":0}]
[null,"081",{"$f":"様式4!C88","v":0},{"$f":"様式4!D88","v":0},{"$f":"様式4!E88","v":0}]
[null,"082",{"$f":"様式4!C89","v":0},{"$f":"様式4!D89","v":0},{"$f":"様式4!E89","v":0}]
[null,"083",{"$f":"様式4!C90","v":0},{"$f":"様式4!D90","v":0},{"$f":"様式4!E90","v":0}]
[null,"084",{"$f":"様式4!C91","v":0},{"$f":"様式4!D91","v":0},{"$f":"様式4!E91","v":0}]
[null,"085",{"$f":"様式4!C92","v":0},{"$f":"様式4!D92","v":0},{"$f":"様式4!E92","v":0}]
[null,"086",{"$f":"様式4!C93","v":0},{"$f":"様式4!D93","v":0},{"$f":"様式4!E93","v":0}]
[null,"087",{"$f":"様式4!C94","v":0},{"$f":"様式4!D94","v":0},{"$f":"様式4!E94","v":0}]
[null,"088",{"$f":"様式4!C95","v":0},{"$f":"様式4!D95","v":0},{"$f":"様式4!E95","v":0}]
[null,"089",{"$f":"様式4!C96","v":0},{"$f":"様式4!D96","v":0},{"$f":"様式4!E96","v":0}]
[null,"090",{"$f":"様式4!C97","v":0},{"$f":"様式4!D97","v":0},{"$f":"様式4!E97","v":0}]
[null,"091",{"$f":"様式4!C98","v":0},{"$f":"様式4!D98","v":0},{"$f":"様式4!E98","v":0}]
[null,"092",{"$f":"様式4!C99","v":0},{"$f":"様式4!D99","v":0},{"$f":"様式4!E99","v":0}]
[null,"093",{"$f":"様式4!C100","v":0},{"$f":"様式4!D100","v":0},{"$f":"様式4!E100","v":0}]
[null,"094",{"$f":"様式4!C101","v":0},{"$f":"様式4!D101","v":0},{"$f":"様式4!E101","v":0}]
[null,"095",{"$f":"様式4!C102","v":0},{"$f":"様式4!D102","v":0},{"$f":"様式4!E102","v":0}]
[null,"096",{"$f":"様式4!C103","v":0},{"$f":"様式4!D103","v":0},{"$f":"様式4!E103","v":0}]
[null,"097",{"$f":"様式4!C104","v":0},{"$f":"様式4!D104","v":0},{"$f":"様式4!E104","v":0}]
[null,"098",{"$f":"様式4!C105","v":0},{"$f":"様式4!D105","v":0},{"$f":"様式4!E105","v":0}]
[null,"099",{"$f":"様式4!C106","v":0},{"$f":"様式4!D106","v":0},{"$f":"様式4!E106","v":0}]
[null,"100",{"$f":"様式4!C107","v":0},{"$f":"様式4!D107","v":0},{"$f":"様式4!E107","v":0}]
[null,"101",{"$f":"様式4!C108","v":0},{"$f":"様式4!D108","v":0},{"$f":"様式4!E108","v":0}]
[null,"102",{"$f":"様式4!C109","v":0},{"$f":"様式4!D109","v":0},{"$f":"様式4!E109","v":0}]
[null,"103",{"$f":"様式4!C110","v":0},{"$f":"様式4!D110","v":0},{"$f":"様式4!E110","v":0}]
[null,"104",{"$f":"様式4!C111","v":0},{"$f":"様式4!D111","v":0},{"$f":"様式4!E111","v":0}]
[null,"105",{"$f":"様式4!C112","v":0},{"$f":"様式4!D112","v":0},{"$f":"様式4!E112","v":0}]
[null,"106",{"$f":"様式4!C113","v":0},{"$f":"様式4!D113","v":0},{"$f":"様式4!E113","v":0}]
[null,"107",{"$f":"様式4!C114","v":0},{"$f":"様式4!D114","v":0},{"$f":"様式4!E114","v":0}]
[null,"108",{"$f":"様式4!C115","v":0},{"$f":"様式4!D115","v":0},{"$f":"様式4!E115","v":0}]
[null,"109",{"$f":"様式4!C116","v":0},{"$f":"様式4!D116","v":0},{"$f":"様式4!E116","v":0}]
[null,"110",{"$f":"様式4!C117","v":0},{"$f":"様式4!D117","v":0},{"$f":"様式4!E117","v":0}]
[null,"111",{"$f":"様式4!C118","v":0},{"$f":"様式4!D118","v":0},{"$f":"様式4!E118","v":0}]
[null,"112",{"$f":"様式4!C119","v":0},{"$f":"様式4!D119","v":0},{"$f":"様式4!E119","v":0}]
[null,"113",{"$f":"様式4!C120","v":0},{"$f":"様式4!D120","v":0},{"$f":"様式4!E120","v":0}]
[null,"114",{"$f":"様式4!C121","v":0},{"$f":"様式4!D121","v":0},{"$f":"様式4!E121","v":0}]
[null,"115",{"$f":"様式4!C122","v":0},{"$f":"様式4!D122","v":0},{"$f":"様式4!E122","v":0}]
[null,"116",{"$f":"様式4!C123","v":0},{"$f":"様式4!D123","v":0},{"$f":"様式4!E123","v":0}]
[null,"117",{"$f":"様式4!C124","v":0},{"$f":"様式4!D124","v":0},{"$f":"様式4!E124","v":0}]
[null,"118",{"$f":"様式4!C125","v":0},{"$f":"様式4!D125","v":0},{"$f":"様式4!E125","v":0}]
[null,"119",{"$f":"様式4!C126","v":0},{"$f":"様式4!D126","v":0},{"$f":"様式4!E126","v":0}]
[null,"120",{"$f":"様式4!C127","v":0},{"$f":"様式4!D127","v":0},{"$f":"様式4!E127","v":0}]
[null,"121",{"$f":"様式4!C128","v":0},{"$f":"様式4!D128","v":0},{"$f":"様式4!E128","v":0}]
[null,"122",{"$f":"様式4!C129","v":0},{"$f":"様式4!D129","v":0},{"$f":"様式4!E129","v":0}]
[null,"123",{"$f":"様式4!C130","v":0},{"$f":"様式4!D130","v":0},{"$f":"様式4!E130","v":0}]
[null,"124",{"$f":"様式4!C131","v":0},{"$f":"様式4!D131","v":0},{"$f":"様式4!E131","v":0}]
[null,"125",{"$f":"様式4!C132","v":0},{"$f":"様式4!D132","v":0},{"$f":"様式4!E132","v":0}]
[null,"126",{"$f":"様式4!C133","v":0},{"$f":"様式4!D133","v":0},{"$f":"様式4!E133","v":0}]
[null,"127",{"$f":"様式4!C134","v":0},{"$f":"様式4!D134","v":0},{"$f":"様式4!E134","v":0}]
[null,"128",{"$f":"様式4!C135","v":0},{"$f":"様式4!D135","v":0},{"$f":"様式4!E135","v":0}]
[null,"129",{"$f":"様式4!C136","v":0},{"$f":"様式4!D136","v":0},{"$f":"様式4!E136","v":0}]
[null,"130",{"$f":"様式4!C137","v":0},{"$f":"様式4!D137","v":0},{"$f":"様式4!E137","v":0}]
[null,"131",{"$f":"様式4!C138","v":0},{"$f":"様式4!D138","v":0},{"$f":"様式4!E138","v":0}]
[null,"132",{"$f":"様式4!C139","v":0},{"$f":"様式4!D139","v":0},{"$f":"様式4!E139","v":0}]
[null,"133",{"$f":"様式4!C140","v":0},{"$f":"様式4!D140","v":0},{"$f":"様式4!E140","v":0}]
[null,"134",{"$f":"様式4!C141","v":0},{"$f":"様式4!D141","v":0},{"$f":"様式4!E141","v":0}]
[null,"135",{"$f":"様式4!C142","v":0},{"$f":"様式4!D142","v":0},{"$f":"様式4!E142","v":0}]
[null,"136",{"$f":"様式4!C143","v":0},{"$f":"様式4!D143","v":0},{"$f":"様式4!E143","v":0}]
[null,"137",{"$f":"様式4!C144","v":0},{"$f":"様式4!D144","v":0},{"$f":"様式4!E144","v":0}]
[null,"138",{"$f":"様式4!C145","v":0},{"$f":"様式4!D145","v":0},{"$f":"様式4!E145","v":0}]
[null,"139",{"$f":"様式4!C146","v":0},{"$f":"様式4!D146","v":0},{"$f":"様式4!E146","v":0}]
[null,"140",{"$f":"様式4!C147","v":0},{"$f":"様式4!D147","v":0},{"$f":"様式4!E147","v":0}]
[null,"141",{"$f":"様式4!C148","v":0},{"$f":"様式4!D148","v":0},{"$f":"様式4!E148","v":0}]
[null,"142",{"$f":"様式4!C149","v":0},{"$f":"様式4!D149","v":0},{"$f":"様式4!E149","v":0}]
[null,"143",{"$f":"様式4!C150","v":0},{"$f":"様式4!D150","v":0},{"$f":"様式4!E150","v":0}]
[null,"144",{"$f":"様式4!C151","v":0},{"$f":"様式4!D151","v":0},{"$f":"様式4!E151","v":0}]
[null,"145",{"$f":"様式4!C152","v":0},{"$f":"様式4!D152","v":0},{"$f":"様式4!E152","v":0}]
[null,"146",{"$f":"様式4!C153","v":0},{"$f":"様式4!D153","v":0},{"$f":"様式4!E153","v":0}]
[null,"147",{"$f":"様式4!C154","v":0},{"$f":"様式4!D154","v":0},{"$f":"様式4!E154","v":0}]
[null,"148",{"$f":"様式4!C155","v":0},{"$f":"様式4!D155","v":0},{"$f":"様式4!E155","v":0}]
[null,"149",{"$f":"様式4!C156","v":0},{"$f":"様式4!D156","v":0},{"$f":"様式4!E156","v":0}]
[null,"150",{"$f":"様式4!C157","v":0},{"$f":"様式4!D157","v":0},{"$f":"様式4!E157","v":0}]

{"sheet":"様式7","index":4,"n_rows":31,"n_cols":22,"rows_kept":31,"cut":false,"hidden":false,"merged":[[10,1,10,17],[8,13,8,18],[9,13,9,18],[14,4,14,5],[15,1,15,3],[11,4,11,18],[12,4,12,18],[13,13,14,15],[13,16,14,17],[13,18,14,18],[11,1,11,3],[12,1,12,3],[13,1,14,3],[13,4,13,5],[15,4,15,18],[22,4,22,11],[23,4,23,11],[17,12,17,18],[18,12,18,18],[0,2,0,8],[2,1,2,17],[4,1,6,7],[5,8,5,18],[4,8,4,18],[6,8,6,12],[6,17,6,18],[6,14,6,15],[7,8,7,18],[3,1,3,18],[8,8,8,12],[9,8,9,12],[17,4,17,11],[18,4,18,11],[19,4,19,11],[20,4,20,11],[21,4,21,11],[17,1,17,3],[20,1,20,3],[19,1,19,3],[18,1,18,3],[22,1,22,3],[21,1,21,3],[34,2,34,18],[25,1,25,3],[24,1,24,3],[23,1,23,3],[32,2,32,18],[29,1,29,3],[28,1,28,3],[30,1,30,3],[27,1,27,3],[26,1,26,3],[24,4,24,11],[25,4,25,11],[26,4,26,11],[27,4,27,11],[28,4,28,11],[29,4,29,11],[24,12,24,18],[25,12,25,18],[26,12,26,18],[27,12,27,18],[33,2,33,18],[30,4,30,11],[28,12,28,18],[29,12,29,18],[30,12,30,18],[19,12,19,18],[20,12,20,18],[21,12,21,18],[22,12,22,18],[23,12,23,18]]}
[null,"様式7","※黄色で示している部分を入力して下さい",null,null,null,null,null,null,null,null,"記入日","西暦",null,"年",null,"月",null,"日"]
[]
[null,"C級認定審判員養成講習会　実施報告書"]
[null,"※1,※2　「教材発注依頼書」の入力データが反映されています。 変更箇所がある場合は上書きしてください。"]
[null," 日本ライフセービング協会\n 理事長　　殿",null,null,null,null,null,null,"指導員氏名 ※1"]
[null,null,null,null,null,null,null,null,{"$f":"様式2!I7","v":0}]
[null,null,null,null,null,null,null,null,"住所 ※1",null,null,null,null,"〒",{"$f":"様式2!N8","v":0},null,"-",{"$f":"様式2!Q8","v":0}]
[null,null,null,null,null,null,null,null,{"$f":"様式2!I9","v":0}]
[null,null,null,null,null,null,null,null,"電話番号 ※1",null,null,null,null,"Eメール ※1"]
[null,null,null,null,null,null,null,null,{"$f":"様式2!I11","v":0},null,null,null,null,{"$f":"様式2!M11","v":0}]
[null,"下記の通り、日本ライフセービング協会 C級認定審判員養成講習会が終了したことを報告いたします。"]
[null,"講習会名",null,null,{"$f":"様式2!F14","v":"C級認定審判員養成講習会"}]
[null,"主管\n団体（者）名",null,null,{"$f":"様式2!F15","v":0}]
[null,"開催日程",null,null,"開始日 ※2",null,"西暦",{"$f":"様式2!H16","v":0},"年",{"$f":"様式2!J16","v":0},"月",{"$f":"様式2!L16","v":0},"日","合計日数 ※2",null,null,{"$f":"様式2!P16","v":0},null,"日"]
[null,null,null,null,"検定日 ※2",null,"西暦",{"$f":"様式2!H17","v":0},"年",{"$f":"様式2!J17","v":0},"月",{"$f":"様式2!L17","v":0},"日"]
[null,"開催場所"]
[]
[null,"指導員氏名",null,null,"指導日",null,null,null,null,null,null,null,"今年度\n審判員資格登録費納入"]
[null,"（例）協会　太郎",null,null,"10/15,20",null,null,null,null,null,null,null,"○入金済"]
[]
[]
[]
[]
[]
[]
[]
[]
[]
[]
[]
[null,null,null,null,null,null,null,null,null,null,null,null,null,null,null,null,null,null,null,null,null," 　\n　"]

{"sheet":"様式8","index":5,"n_rows":33,"n_cols":18,"rows_kept":33,"cut":false,"hidden":false,"merged":[[8,13,8,16],[8,1,8,3],[7,4,7,17],[32,1,32,17],[22,1,31,17],[8,4,8,9],[8,10,8,12],[33,1,42,17],[44,1,44,2],[44,3,44,4],[44,5,44,9],[10,1,10,17],[21,1,21,17],[11,1,20,17],[0,2,0,12],[4,1,4,3],[7,1,7,3],[2,1,2,17],[4,4,4,17],[6,1,6,3],[5,4,5,17],[6,4,6,9],[6,10,6,13],[6,14,6,17],[5,1,5,3]]}
[null,"様式8","※黄色で示している部分を入力して下さい（指導員全員が提出します）"]
[]
[null,"C級認定審判員養成講習会　指導員報告書"]
[]
[null,"講習会名",null,null,{"$f":"様式2!F14","v":"C級認定審判員養成講習会"}]
[null,"主管/共催\n団体（者）名",null,null,{"$f":"様式2!F15","v":0}]
[null,"開催場所",null,null,null,null,null,null,null,null,"所在地\n（都道府県市区町村まで）"]
[null,"氏　　名"]
[null,"参加日",null,null,null,null,null,null,null,null,"参加日数 合計",null,null,null,null,null,null,"日"]
[]
[null,"受講者からの質問内容について"]
[]
[]
[]
[]
[]
[]
[]
[]
[]
[]
[null,"今回の講習会の問題点／改善が必要と思われる点／特殊な事例報告など"]
[]
[]
[]
[]
[]
[]
[]
[]
[]
[]
[null,"競技審判委員会への要望他（該当する事柄がない場合は記入不要）"]

{"sheet":"管理","index":6,"n_rows":5,"n_cols":11,"rows_kept":5,"cut":false,"hidden":true,"merged":[[11,38,11,39],[14,9,14,10],[11,9,11,10],[14,7,14,8],[11,7,11,8]]}
[null,"管理"]
[]
[]
[null,"講習会種別","主管/共催\n団体（者）名","開催場所","所在地 ","氏名","参加日","参加日数\n合計（日）","受講者からの\n質問内容","今回の講習会の問題点　ほか","競技運営・審判委員会への要望　ほか"]
[null,{"$f":"様式8!E5","v":"C級認定審判員養成講習会"},{"$f":"様式8!E6","v":0},{"$f":"様式8!E7","v":0},{"$f":"様式8!O7","v":0},{"$f":"様式8!E8","v":0},{"$f":"様式8!E9","v":"00:00:00"},{"$f":"様式8!N9","v":0},{"$f":"様式8!B12&様式8!B18&様式8!B19&様式8!B20&様式8!B21","v":""},{"$f":"様式8!B23&様式8!B29&様式8!B30&様式8!B31&様式8!B32","v":""},{"$f":"様式8!B34&様式8!B40&様式8!B41&様式8!B42&様式8!B43","v":""}]

{"sheet":"マスタ","index":7,"n_rows":72,"n_cols":5,"rows_kept":72,"cut":false,"hidden":true,"merged":[]}
["指導員資格種類"]
["選択してください"]
["BLS I"]
["BLS A"]
["WS I"]
["WS A"]
["S I"]
["S A"]
["PL I"]
["PL A"]
["IRB I"]
["IRB A"]
["Jr.L I"]
["Jr.L A"]
[]
["講習会名"]
["選択してください"]
["BLS講習会"]
["ウォーターセーフティ講習会"]
["ベーシック・サーフライフセービング講習会"]
["アドバンス・サーフライフセービング講習会"]
["プールライフガーディング講習会"]
["アドバンス・プールライフガーディング講習会"]
["IRB・クルー講習会"]
["IRB・ドライバー講習会"]
["リーダー講習会"]
["更新講習会"]
[]
[null,null,null,"選択してください"]
["新規BLS",null,null,"BLS講習会"]
["更新BLS",null,null,"ウォーターセーフティ講習会"]
["更新認定LS",null,null,"ベーシック・サーフ・ライフセービング講習会"]
[null,null,null,"アドバンス・サーフ・ライフセービング講習会"]
["新規WS",null,null,"プール・ライフガーディング講習会"]
["更新WS",null,null,"アドバンス・プール・ライフガーディング講習会"]
[null,null,null,"IRB・クルー講習会"]
["新規BSLS",null,null,"IRB・ドライバー講習会"]
["更新BSLS",null,null,"更新講習会"]
[null,null,null,"リーダー講習会"]
["新規ASLS"]
["更新ASLS",null,null,1,1]
[null,null,null,2,2]
["新規IRB・クルー",null,null,3,3]
["更新IRB・クルー",null,null,4,4]
[null,null,null,5,5]
["新規IRB・ドライバー",null,null,6,6]
["更新IRB・ドライバー",null,null,7,7]
[null,null,null,8,8]
["新規PLG",null,null,9,9]
["更新PLG",null,null,10,10]
[null,null,null,11,11]
["新規APLG",null,null,12,12]
["更新APLG",null,null,13]
[null,null,null,14]
["新規リーダー",null,null,15]
["更新リーダー",null,null,16]
[null,null,null,17]
["更新BLS",null,null,18]
["更新認定LS",null,null,19]
[null,null,null,20]
["BLS・アシスタントインストラクター",null,null,21]
["BLS・インストラクター",null,null,22]
["ウォーターセーフティ・アシスタントインストラクター",null,null,23]
["ウォーターセーフティ・インストラクター",null,null,24]
["サーフライフセービング・アシスタントインストラクター",null,null,25]
["サーフライフセービング・インストラクター",null,null,26]
["IRB・アシスタントインストラクター",null,null,27]
["IRB・インストラクター",null,null,28]
["プールライフガーディング・アシスタントインストラクター",null,null,29]
["プールライフガーディング・インストラクター",null,null,30]
["ジュニアライフセービング・アシスタントインストラクター",null,null,31]
["ジュニアライフセービング・インストラクター "]